{"text_format":"1","workbook":"xlsx","n_sheets":6,"sheets":["VET_1","VET_2","VET_3","VET_4","VET_5","Equipes"],"not_rendered":{"charts":0,"images":2,"macros":1,"external_links":0,"defined_names":6,"comments":0,"pivot_tables":0},"unopened":[],"bounds":{"document_bytes":16777216,"sheet_cells":100000,"rows_first":2000,"rows_last":500,"rows_between":2000,"halvings":0,"cell_chars":16384,"cell_head_chars":4096},"cells_cut":0,"cells_raw":0,"read":"whole","date_system":"1900"}

{"sheet":"VET_1","index":0,"n_rows":38,"n_cols":18,"rows_kept":38,"cut":false,"hidden":false,"merged":[[3,9,13,12],[29,5,32,5],[29,8,29,9],[34,5,37,5],[2,2,2,6],[4,5,7,5],[8,3,8,6],[9,5,12,5],[13,3,13,6],[14,5,17,5],[18,3,18,6],[19,5,22,5],[15,9,26,12],[23,3,23,6],[24,5,27,5],[28,3,28,6]]}
[{"$f":"Equipes!$A$6","v":"JARNY 1"}]
[{"$f":"Equipes!$A$7","v":"JARNY 2"}]
[{"$f":"Equipes!$A$8","v":"ST NICOLAS 1"},"1°tour"]
[{"$f":"Equipes!$A$9","v":"BOUXIERES 1 "},"Club","score","Club","score","Date","Lieu",null,null,"CDC VETERAN \n2023 \nDIVISION 1 "]
[{"$f":"Equipes!$A$10","v":"PONT A MOUSSON 1"},{"$f":"Equipes!$A$6","v":"JARNY 1"},18,{"$f":"Equipes!$A$7","v":"JARNY 2"},{"$f":"IF(C5=\"\",\"\",IF(C5=\"F\",\"G\",IF(C5=\"G\",\"F\",IF(C5=\"B\",\"GB\",IF(C5=\"GB\",\"B\",36-C5)))))","v":18},"2023-04-25","BOUXIERS"]
[{"$f":"Equipes!$A$11","v":"JARVILLE 1"},{"$f":"Equipes!$A$8","v":"ST NICOLAS 1"},14,{"$f":"Equipes!$A$9","v":"BOUXIERES 1 "},{"$f":"IF(C6=\"\",\"\",IF(C6=\"F\",\"G\",IF(C6=\"G\",\"F\",IF(C6=\"B\",\"GB\",IF(C6=\"GB\",\"B\",36-C6)))))","v":22},null,"BOUXIERS"]
[{"$f":"Equipes!$A$12","v":"NEUVES MAISONS 2"},{"$f":"Equipes!$A$10","v":"PONT A MOUSSON 1"},16,{"$f":"Equipes!$A$11","v":"JARVILLE 1"},{"$f":"IF(C7=\"\",\"\",IF(C7=\"F\",\"G\",IF(C7=\"G\",\"F\",IF(C7=\"B\",\"GB\",IF(C7=\"GB\",\"B\",36-C7)))))","v":20},null,"JARVILLE"]
[{"$f":"Equipes!$A$13","v":"BAINVILLE 1"},{"$f":"Equipes!$A$12","v":"NEUVES MAISONS 2"},22,{"$f":"Equipes!$A$13","v":"BAINVILLE 1"},{"$f":"IF(C8=\"\",\"\",IF(C8=\"F\",\"G\",IF(C8=\"G\",\"F\",IF(C8=\"B\",\"GB\",IF(C8=\"GB\",\"B\",36-C8)))))","v":14},null,"NEUVES MAISONS"]
[null,"2°tour",null,"2023-09-05"]
[null,{"$f":"Equipes!$A$6","v":"JARNY 1"},26,{"$f":"Equipes!$A$13","v":"BAINVILLE 1"},{"$f":"IF(C10=\"\",\"\",IF(C10=\"F\",\"G\",IF(C10=\"G\",\"F\",IF(C10=\"B\",\"GB\",IF(C10=\"GB\",\"B\",36-C10)))))","v":10},"2023-05-09","PAGNY"]
[null,{"$f":"Equipes!$A$8","v":"ST NICOLAS 1"},12,{"$f":"Equipes!$A$11","v":"JARVILLE 1"},{"$f":"IF(C11=\"\",\"\",IF(C11=\"F\",\"G\",IF(C11=\"G\",\"F\",IF(C11=\"B\",\"GB\",IF(C11=\"GB\",\"B\",36-C11)))))","v":24},null,"VILLERS"]
[null,{"$f":"Equipes!$A$10","v":"PONT A MOUSSON 1"},28,{"$f":"Equipes!$A$12","v":"NEUVES MAISONS 2"},{"$f":"IF(C12=\"\",\"\",IF(C12=\"F\",\"G\",IF(C12=\"G\",\"F\",IF(C12=\"B\",\"GB\",IF(C12=\"GB\",\"B\",36-C12)))))","v":8},null,"ESSEY"]
[null,{"$f":"Equipes!$A$9","v":"BOUXIERES 1 "},14,{"$f":"Equipes!$A$7","v":"JARNY 2"},{"$f":"IF(C13=\"\",\"\",IF(C13=\"F\",\"G\",IF(C13=\"G\",\"F\",IF(C13=\"B\",\"GB\",IF(C13=\"GB\",\"B\",36-C13)))))","v":22},null,"PAGNY"]
[null,"3°tour",null,"2023-09-05"]
[null,{"$f":"Equipes!$A$6","v":"JARNY 1"},22,{"$f":"Equipes!$A$11","v":"JARVILLE 1"},{"$f":"IF(C15=\"\",\"\",IF(C15=\"F\",\"G\",IF(C15=\"G\",\"F\",IF(C15=\"B\",\"GB\",IF(C15=\"GB\",\"B\",36-C15)))))","v":14},"2023-05-23","JARNY"]
[null,{"$f":"Equipes!$A$8","v":"ST NICOLAS 1"},18,{"$f":"Equipes!$A$13","v":"BAINVILLE 1"},{"$f":"IF(C16=\"\",\"\",IF(C16=\"F\",\"G\",IF(C16=\"G\",\"F\",IF(C16=\"B\",\"GB\",IF(C16=\"GB\",\"B\",36-C16)))))","v":18},null,"BAINVILLE"]
[null,{"$f":"Equipes!$A$9","v":"BOUXIERES 1 "},18,{"$f":"Equipes!$A$12","v":"NEUVES MAISONS 2"},{"$f":"IF(C17=\"\",\"\",IF(C17=\"F\",\"G\",IF(C17=\"G\",\"F\",IF(C17=\"B\",\"GB\",IF(C17=\"GB\",\"B\",36-C17)))))","v":18},null,"BAINVILLE"]
[null,{"$f":"Equipes!$A$10","v":"PONT A MOUSSON 1"},24,{"$f":"Equipes!$A$7","v":"JARNY 2"},{"$f":"IF(C18=\"\",\"\",IF(C18=\"F\",\"G\",IF(C18=\"G\",\"F\",IF(C18=\"B\",\"GB\",IF(C18=\"GB\",\"B\",36-C18)))))","v":12},null,"JARNY"]
[null,"4°tour",null,"2023-09-05"]
[null,{"$f":"Equipes!$A$6","v":"JARNY 1"},22,{"$f":"Equipes!$A$8","v":"ST NICOLAS 1"},{"$f":"IF(C20=\"\",\"\",IF(C20=\"F\",\"G\",IF(C20=\"G\",\"F\",IF(C20=\"B\",\"GB\",IF(C20=\"GB\",\"B\",36-C20)))))","v":14},"2023-06-06","CHAMPEY"]
[null,{"$f":"Equipes!$A$9","v":"BOUXIERES 1 "},22,{"$f":"Equipes!$A$10","v":"PONT A MOUSSON 1"},{"$f":"IF(C21=\"\",\"\",IF(C21=\"F\",\"G\",IF(C21=\"G\",\"F\",IF(C21=\"B\",\"GB\",IF(C21=\"GB\",\"B\",36-C21)))))","v":14},null,"AP Ste MARIE"]
[null,{"$f":"Equipes!$A$12","v":"NEUVES MAISONS 2"},28,{"$f":"Equipes!$A$7","v":"JARNY 2"},{"$f":"IF(C22=\"\",\"\",IF(C22=\"F\",\"G\",IF(C22=\"G\",\"F\",IF(C22=\"B\",\"GB\",IF(C22=\"GB\",\"B\",36-C22)))))","v":8},null,"CHAMPEY"]
[null,{"$f":"Equipes!$A$11","v":"JARVILLE 1"},24,{"$f":"Equipes!$A$13","v":"BAINVILLE 1"},{"$f":"IF(C23=\"\",\"\",IF(C23=\"F\",\"G\",IF(C23=\"G\",\"F\",IF(C23=\"B\",\"GB\",IF(C23=\"GB\",\"B\",36-C23)))))","v":12},null,"Ste MARIE"]
[null,"5°tour",null,"2023-09-05"]
[null,{"$f":"Equipes!$A$6","v":"JARNY 1"},32,{"$f":"Equipes!$A$9","v":"BOUXIERES 1 "},{"$f":"IF(C25=\"\",\"\",IF(C25=\"F\",\"G\",IF(C25=\"G\",\"F\",IF(C25=\"B\",\"GB\",IF(C25=\"GB\",\"B\",36-C25)))))","v":4},"2023-06-20","BRIEY"]
[null,{"$f":"Equipes!$A$8","v":"ST NICOLAS 1"},12,{"$f":"Equipes!$A$10","v":"PONT A MOUSSON 1"},{"$f":"IF(C26=\"\",\"\",IF(C26=\"F\",\"G\",IF(C26=\"G\",\"F\",IF(C26=\"B\",\"GB\",IF(C26=\"GB\",\"B\",36-C26)))))","v":24},null,"St NICOLAS"]
[null,{"$f":"Equipes!$A$7","v":"JARNY 2"},18,{"$f":"Equipes!$A$13","v":"BAINVILLE 1"},{"$f":"IF(C27=\"\",\"\",IF(C27=\"F\",\"G\",IF(C27=\"G\",\"F\",IF(C27=\"B\",\"GB\",IF(C27=\"GB\",\"B\",36-C27)))))","v":18},null,"BRIEY"]
[null,{"$f":"Equipes!$A$12","v":"NEUVES MAISONS 2"},10,{"$f":"Equipes!$A$11","v":"JARVILLE 1"},{"$f":"IF(C28=\"\",\"\",IF(C28=\"F\",\"G\",IF(C28=\"G\",\"F\",IF(C28=\"B\",\"GB\",IF(C28=\"GB\",\"B\",36-C28)))))","v":26},null,"CHALIGNY"]
[null,"6°tour",null,"2023-09-05"]
[null,{"$f":"Equipes!$A$6","v":"JARNY 1"},16,{"$f":"Equipes!$A$10","v":"PONT A MOUSSON 1"},{"$f":"IF(C30=\"\",\"\",IF(C30=\"F\",\"G\",IF(C30=\"G\",\"F\",IF(C30=\"B\",\"GB\",IF(C30=\"GB\",\"B\",36-C30)))))","v":20},"2023-09-05","PONT A MOUSSON",null,"Classement",null,"Pts","G","N","P","F/B","+","-","GA"]
[null,{"$f":"Equipes!$A$8","v":"ST NICOLAS 1"},22,{"$f":"Equipes!$A$12","v":"NEUVES MAISONS 2"},{"$f":"IF(C31=\"\",\"\",IF(C31=\"F\",\"G\",IF(C31=\"G\",\"F\",IF(C31=\"B\",\"GB\",IF(C31=\"GB\",\"B\",36-C31)))))","v":14},null,"BACCARAT",null,1,"JARNY 1",18,5,1,1,0,164,88,76]
[null,{"$f":"Equipes!$A$9","v":"BOUXIERES 1 "},16,{"$f":"Equipes!$A$13","v":"BAINVILLE 1"},{"$f":"IF(C32=\"\",\"\",IF(C32=\"F\",\"G\",IF(C32=\"G\",\"F\",IF(C32=\"B\",\"GB\",IF(C32=\"GB\",\"B\",36-C32)))))","v":20},null,"LIVERDUN",null,2,"JARVILLE 1",18,5,1,1,0,156,96,60]
[null,{"$f":"Equipes!$A$7","v":"JARNY 2"},18,{"$f":"Equipes!$A$11","v":"JARVILLE 1"},{"$f":"IF(C33=\"\",\"\",IF(C33=\"F\",\"G\",IF(C33=\"G\",\"F\",IF(C33=\"B\",\"GB\",IF(C33=\"GB\",\"B\",36-C33)))))","v":18},null,"PONT A MOUSSON",null,3,"PONT A MOUSSON 1",16,4,1,2,0,144,108,36]
[null,"7°tour",null,"2023-09-05",null,null,null,null,4,"ST NICOLAS 1",12,2,1,4,0,114,138,-24]
[null,{"$f":"Equipes!$A$6","v":"JARNY 1"},28,{"$f":"Equipes!$A$12","v":"NEUVES MAISONS 2"},{"$f":"IF(C35=\"\",\"\",IF(C35=\"F\",\"G\",IF(C35=\"G\",\"F\",IF(C35=\"B\",\"GB\",IF(C35=\"GB\",\"B\",36-C35)))))","v":8},"2023-09-19","MANCIEULLES",null,5,"JARNY 2",12,1,3,3,0,110,142,-32]
[null,{"$f":"Equipes!$A$8","v":"ST NICOLAS 1"},22,{"$f":"Equipes!$A$7","v":"JARNY 2"},{"$f":"IF(C36=\"\",\"\",IF(C36=\"F\",\"G\",IF(C36=\"G\",\"F\",IF(C36=\"B\",\"GB\",IF(C36=\"GB\",\"B\",36-C36)))))","v":14},null,"MANCIEULLES",null,6,"BAINVILLE 1",12,1,3,3,0,110,142,-32]
[null,{"$f":"Equipes!$A$9","v":"BOUXIERES 1 "},6,{"$f":"Equipes!$A$11","v":"JARVILLE 1"},{"$f":"IF(C37=\"\",\"\",IF(C37=\"F\",\"G\",IF(C37=\"G\",\"F\",IF(C37=\"B\",\"GB\",IF(C37=\"GB\",\"B\",36-C37)))))","v":30},null,"BOUXIERES",null,7,"NEUVES MAISONS 2",12,2,1,4,0,108,144,-36]
[null,{"$f":"Equipes!$A$10","v":"PONT A MOUSSON 1"},18,{"$f":"Equipes!$A$13","v":"BAINVILLE 1"},{"$f":"IF(C38=\"\",\"\",IF(C38=\"F\",\"G\",IF(C38=\"G\",\"F\",IF(C38=\"B\",\"GB\",IF(C38=\"GB\",\"B\",36-C38)))))","v":18},null,"BOUXIERES",null,8,"BOUXIERES 1 ",12,2,1,4,0,102,150,-48]

{"sheet":"VET_2","index":1,"n_rows":38,"n_cols":18,"rows_kept":38,"cut":false,"hidden":false,"merged":[[3,9,13,12],[13,3,13,6],[2,2,2,6],[4,5,7,5],[8,3,8,6],[9,5,12,5],[28,3,28,6],[29,5,32,5],[29,8,29,9],[34,5,37,5],[14,5,17,5],[15,9,26,12],[18,3,18,6],[19,5,22,5],[23,3,23,6],[24,5,27,5]]}
[{"$f":"Equipes!$C$6","v":"CHAMPIGNEULLES"}]
[{"$f":"Equipes!$C$7","v":"VANDOEUVRE"}]
[{"$f":"Equipes!$C$8","v":"ST NICOLAS 2"},"1°tour"]
[{"$f":"Equipes!$C$9","v":"LIVERDUN 1"},"Club","score","Club","score","Date","Lieu",null,null,"CDC VETERAN \n2023 \nDIVISION 2"]
[{"$f":"Equipes!$C$10","v":"PONT A MOUSSON 2"},{"$f":"Equipes!$C$6","v":"CHAMPIGNEULLES"},18,{"$f":"Equipes!$C$7","v":"VANDOEUVRE"},{"$f":"IF(C5=\"\",\"\",IF(C5=\"F\",\"G\",IF(C5=\"G\",\"F\",IF(C5=\"B\",\"GB\",IF(C5=\"GB\",\"B\",36-C5)))))","v":18},"2023-04-25","JARVILLE"]
[{"$f":"Equipes!$C$11","v":"DOMBASLE 1"},{"$f":"Equipes!$C$8","v":"ST NICOLAS 2"},4,{"$f":"Equipes!$C$9","v":"LIVERDUN 1"},{"$f":"IF(C6=\"\",\"\",IF(C6=\"F\",\"G\",IF(C6=\"G\",\"F\",IF(C6=\"B\",\"GB\",IF(C6=\"GB\",\"B\",36-C6)))))","v":32},null,"JARVILLE"]
[{"$f":"Equipes!$C$12","v":"AP LUNEVILLE 1"},{"$f":"Equipes!$C$10","v":"PONT A MOUSSON 2"},30,{"$f":"Equipes!$C$11","v":"DOMBASLE 1"},{"$f":"IF(C7=\"\",\"\",IF(C7=\"F\",\"G\",IF(C7=\"G\",\"F\",IF(C7=\"B\",\"GB\",IF(C7=\"GB\",\"B\",36-C7)))))","v":6},null,"NEUVES MAISONS"]
[{"$f":"Equipes!$C$13","v":"VILLERS 1"},{"$f":"Equipes!$C$12","v":"AP LUNEVILLE 1"},0,{"$f":"Equipes!$C$13","v":"VILLERS 1"},{"$f":"IF(C8=\"\",\"\",IF(C8=\"F\",\"G\",IF(C8=\"G\",\"F\",IF(C8=\"B\",\"GB\",IF(C8=\"GB\",\"B\",36-C8)))))","v":36},null,"NEUVES MAISONS"]
[null,"2°tour",null,"le 11/12/2021"]
[null,{"$f":"Equipes!$C$6","v":"CHAMPIGNEULLES"},6,{"$f":"Equipes!$C$13","v":"VILLERS 1"},{"$f":"IF(C10=\"\",\"\",IF(C10=\"F\",\"G\",IF(C10=\"G\",\"F\",IF(C10=\"B\",\"GB\",IF(C10=\"GB\",\"B\",36-C10)))))","v":30},"2023-05-09","VILLERS"]
[null,{"$f":"Equipes!$C$8","v":"ST NICOLAS 2"},8,{"$f":"Equipes!$C$11","v":"DOMBASLE 1"},{"$f":"IF(C11=\"\",\"\",IF(C11=\"F\",\"G\",IF(C11=\"G\",\"F\",IF(C11=\"B\",\"GB\",IF(C11=\"GB\",\"B\",36-C11)))))","v":28},null,"ESSEY"]
[null,{"$f":"Equipes!$C$10","v":"PONT A MOUSSON 2"},34,{"$f":"Equipes!$C$12","v":"AP LUNEVILLE 1"},{"$f":"IF(C12=\"\",\"\",IF(C12=\"F\",\"G\",IF(C12=\"G\",\"F\",IF(C12=\"B\",\"GB\",IF(C12=\"GB\",\"B\",36-C12)))))","v":2},null,"VILLERS"]
[null,{"$f":"Equipes!$C$9","v":"LIVERDUN 1"},26,{"$f":"Equipes!$C$7","v":"VANDOEUVRE"},{"$f":"IF(C13=\"\",\"\",IF(C13=\"F\",\"G\",IF(C13=\"G\",\"F\",IF(C13=\"B\",\"GB\",IF(C13=\"GB\",\"B\",36-C13)))))","v":10},null,"ESSEY"]
[null,"3°tour",null,"le 4/12/2021"]
[null,{"$f":"Equipes!$C$6","v":"CHAMPIGNEULLES"},26,{"$f":"Equipes!$C$11","v":"DOMBASLE 1"},{"$f":"IF(C15=\"\",\"\",IF(C15=\"F\",\"G\",IF(C15=\"G\",\"F\",IF(C15=\"B\",\"GB\",IF(C15=\"GB\",\"B\",36-C15)))))","v":10},"2023-05-23","BAINVILLE"]
[null,{"$f":"Equipes!$C$8","v":"ST NICOLAS 2"},6,{"$f":"Equipes!$C$13","v":"VILLERS 1"},{"$f":"IF(C16=\"\",\"\",IF(C16=\"F\",\"G\",IF(C16=\"G\",\"F\",IF(C16=\"B\",\"GB\",IF(C16=\"GB\",\"B\",36-C16)))))","v":30},null,"VANDOEUVRE"]
[null,{"$f":"Equipes!$C$9","v":"LIVERDUN 1"},30,{"$f":"Equipes!$C$12","v":"AP LUNEVILLE 1"},{"$f":"IF(C17=\"\",\"\",IF(C17=\"F\",\"G\",IF(C17=\"G\",\"F\",IF(C17=\"B\",\"GB\",IF(C17=\"GB\",\"B\",36-C17)))))","v":6},null,"BAINVILLE"]
[null,{"$f":"Equipes!$C$10","v":"PONT A MOUSSON 2"},22,{"$f":"Equipes!$C$7","v":"VANDOEUVRE"},{"$f":"IF(C18=\"\",\"\",IF(C18=\"F\",\"G\",IF(C18=\"G\",\"F\",IF(C18=\"B\",\"GB\",IF(C18=\"GB\",\"B\",36-C18)))))","v":14},null,"VANDOEUVRE"]
[null,"4°tour",null,"le 15/01/2022"]
[null,{"$f":"Equipes!$C$6","v":"CHAMPIGNEULLES"},28,{"$f":"Equipes!$C$8","v":"ST NICOLAS 2"},{"$f":"IF(C20=\"\",\"\",IF(C20=\"F\",\"G\",IF(C20=\"G\",\"F\",IF(C20=\"B\",\"GB\",IF(C20=\"GB\",\"B\",36-C20)))))","v":8},"2023-06-06","DOMBASLE"]
[null,{"$f":"Equipes!$C$9","v":"LIVERDUN 1"},16,{"$f":"Equipes!$C$10","v":"PONT A MOUSSON 2"},{"$f":"IF(C21=\"\",\"\",IF(C21=\"F\",\"G\",IF(C21=\"G\",\"F\",IF(C21=\"B\",\"GB\",IF(C21=\"GB\",\"B\",36-C21)))))","v":20},null,"AP Ste MARIE"]
[null,{"$f":"Equipes!$C$12","v":"AP LUNEVILLE 1"},24,{"$f":"Equipes!$C$7","v":"VANDOEUVRE"},{"$f":"IF(C22=\"\",\"\",IF(C22=\"F\",\"G\",IF(C22=\"G\",\"F\",IF(C22=\"B\",\"GB\",IF(C22=\"GB\",\"B\",36-C22)))))","v":12},null,"DOMBASLE"]
[null,{"$f":"Equipes!$C$11","v":"DOMBASLE 1"},4,{"$f":"Equipes!$C$13","v":"VILLERS 1"},{"$f":"IF(C23=\"\",\"\",IF(C23=\"F\",\"G\",IF(C23=\"G\",\"F\",IF(C23=\"B\",\"GB\",IF(C23=\"GB\",\"B\",36-C23)))))","v":32},null,"DOMBASLE"]
[null,"5°tour",null,"le 22/01/2022"]
[null,{"$f":"Equipes!$C$6","v":"CHAMPIGNEULLES"},20,{"$f":"Equipes!$C$9","v":"LIVERDUN 1"},{"$f":"IF(C25=\"\",\"\",IF(C25=\"F\",\"G\",IF(C25=\"G\",\"F\",IF(C25=\"B\",\"GB\",IF(C25=\"GB\",\"B\",36-C25)))))","v":16},"2023-06-20","LANEUVEVILLE"]
[null,{"$f":"Equipes!$C$8","v":"ST NICOLAS 2"},12,{"$f":"Equipes!$C$10","v":"PONT A MOUSSON 2"},{"$f":"IF(C26=\"\",\"\",IF(C26=\"F\",\"G\",IF(C26=\"G\",\"F\",IF(C26=\"B\",\"GB\",IF(C26=\"GB\",\"B\",36-C26)))))","v":24},null,"St NICOLAS"]
[null,{"$f":"Equipes!$C$7","v":"VANDOEUVRE"},12,{"$f":"Equipes!$C$13","v":"VILLERS 1"},{"$f":"IF(C27=\"\",\"\",IF(C27=\"F\",\"G\",IF(C27=\"G\",\"F\",IF(C27=\"B\",\"GB\",IF(C27=\"GB\",\"B\",36-C27)))))","v":24},null,"CHALIGNY"]
[null,{"$f":"Equipes!$C$12","v":"AP LUNEVILLE 1"},14,{"$f":"Equipes!$C$11","v":"DOMBASLE 1"},{"$f":"IF(C28=\"\",\"\",IF(C28=\"F\",\"G\",IF(C28=\"G\",\"F\",IF(C28=\"B\",\"GB\",IF(C28=\"GB\",\"B\",36-C28)))))","v":22},null,"St NICOLAS"]
[null,"6°tour",null,"2023-09-06"]
[null,{"$f":"Equipes!$C$6","v":"CHAMPIGNEULLES"},20,{"$f":"Equipes!$C$10","v":"PONT A MOUSSON 2"},{"$f":"IF(C30=\"\",\"\",IF(C30=\"F\",\"G\",IF(C30=\"G\",\"F\",IF(C30=\"B\",\"GB\",IF(C30=\"GB\",\"B\",36-C30)))))","v":16},"2023-09-05","PONT A MOUSSON",null,"Classement",null,"Pts","G","N","P","F/B","+","-","GA"]
[null,{"$f":"Equipes!$C$8","v":"ST NICOLAS 2"},12,{"$f":"Equipes!$C$12","v":"AP LUNEVILLE 1"},{"$f":"IF(C31=\"\",\"\",IF(C31=\"F\",\"G\",IF(C31=\"G\",\"F\",IF(C31=\"B\",\"GB\",IF(C31=\"GB\",\"B\",36-C31)))))","v":24},null,"BACCARAT",null,1,"VILLERS 1",21,7,0,0,0,202,50,152]
[null,{"$f":"Equipes!$C$9","v":"LIVERDUN 1"},12,{"$f":"Equipes!$C$13","v":"VILLERS 1"},{"$f":"IF(C32=\"\",\"\",IF(C32=\"F\",\"G\",IF(C32=\"G\",\"F\",IF(C32=\"B\",\"GB\",IF(C32=\"GB\",\"B\",36-C32)))))","v":24},null,"LIVERDUN",null,2,"CHAMPIGNEULLES",18,5,1,1,0,148,104,44]
[null,{"$f":"Equipes!$C$7","v":"VANDOEUVRE"},24,{"$f":"Equipes!$C$11","v":"DOMBASLE 1"},{"$f":"IF(C33=\"\",\"\",IF(C33=\"F\",\"G\",IF(C33=\"G\",\"F\",IF(C33=\"B\",\"GB\",IF(C33=\"GB\",\"B\",36-C33)))))","v":12},null,"BACCARAT",null,3,"PONT A MOUSSON 2",17,5,0,2,0,156,96,60]
[null,"7°tour",null,"le 12/02/2022",null,null,null,null,4,"LIVERDUN 1",15,4,0,3,0,166,86,80]
[null,{"$f":"Equipes!$C$6","v":"CHAMPIGNEULLES"},30,{"$f":"Equipes!$C$12","v":"AP LUNEVILLE 1"},{"$f":"IF(C35=\"\",\"\",IF(C35=\"F\",\"G\",IF(C35=\"G\",\"F\",IF(C35=\"B\",\"GB\",IF(C35=\"GB\",\"B\",36-C35)))))","v":6},"2023-09-19","ASPTT",null,5,"VANDOEUVRE",12,2,1,4,0,118,134,-16]
[null,{"$f":"Equipes!$C$8","v":"ST NICOLAS 2"},8,{"$f":"Equipes!$C$7","v":"VANDOEUVRE"},{"$f":"IF(C36=\"\",\"\",IF(C36=\"F\",\"G\",IF(C36=\"G\",\"F\",IF(C36=\"B\",\"GB\",IF(C36=\"GB\",\"B\",36-C36)))))","v":28},null,"ASPTT",null,6,"DOMBASLE 1",11,2,0,5,0,84,168,-84]
[null,{"$f":"Equipes!$C$9","v":"LIVERDUN 1"},34,{"$f":"Equipes!$C$11","v":"DOMBASLE 1"},{"$f":"IF(C37=\"\",\"\",IF(C37=\"F\",\"G\",IF(C37=\"G\",\"F\",IF(C37=\"B\",\"GB\",IF(C37=\"GB\",\"B\",36-C37)))))","v":2},null,"ASPTT",null,7,"AP LUNEVILLE 1",11,2,0,5,0,76,176,-100]
[null,{"$f":"Equipes!$C$10","v":"PONT A MOUSSON 2"},10,{"$f":"Equipes!$C$13","v":"VILLERS 1"},{"$f":"IF(C38=\"\",\"\",IF(C38=\"F\",\"G\",IF(C38=\"G\",\"F\",IF(C38=\"B\",\"GB\",IF(C38=\"GB\",\"B\",36-C38)))))","v":26},null,"BOUXIERES",null,8,"ST NICOLAS 2",7,0,0,7,0,58,194,-136]

{"sheet":"VET_3","index":2,"n_rows":38,"n_cols":18,"rows_kept":38,"cut":false,"hidden":false,"merged":[[3,9,13,12],[13,3,13,6],[2,2,2,6],[4,5,7,5],[8,3,8,6],[9,5,12,5],[28,3,28,6],[29,5,32,5],[29,8,29,9],[34,5,37,5],[14,5,17,5],[15,9,26,12],[18,3,18,6],[19,5,22,5],[23,3,23,6],[24,5,27,5]]}
[{"$f":"Equipes!$E$6","v":"ESSEY "}]
[{"$f":"Equipes!$E$7","v":"PAGNY"}]
[{"$f":"Equipes!$E$8","v":"VILLERS 2"},"1°tour"]
[{"$f":"Equipes!$E$9","v":"LANEUVEVILLE 2"},"Club","score","Club","score","Date","Lieu",null,null,"CDC VETERAN \n2023 \nDIVISION 3"]
[{"$f":"Equipes!$E$10","v":"AP STE MARIE"},{"$f":"Equipes!$E$6","v":"ESSEY "},2,{"$f":"Equipes!$E$7","v":"PAGNY"},{"$f":"IF(C5=\"\",\"\",IF(C5=\"F\",\"G\",IF(C5=\"G\",\"F\",IF(C5=\"B\",\"GB\",IF(C5=\"GB\",\"B\",36-C5)))))","v":34},"2023-04-25","JARVILLE"]
[{"$f":"Equipes!$E$11","v":"CHAMPEY "},{"$f":"Equipes!$E$8","v":"VILLERS 2"},22,{"$f":"Equipes!$E$9","v":"LANEUVEVILLE 2"},{"$f":"IF(C6=\"\",\"\",IF(C6=\"F\",\"G\",IF(C6=\"G\",\"F\",IF(C6=\"B\",\"GB\",IF(C6=\"GB\",\"B\",36-C6)))))","v":14},null,"JARVILLE"]
[{"$f":"Equipes!$E$12","v":"BAINVILLE 2"},{"$f":"Equipes!$E$10","v":"AP STE MARIE"},10,{"$f":"Equipes!$E$11","v":"CHAMPEY "},{"$f":"IF(C7=\"\",\"\",IF(C7=\"F\",\"G\",IF(C7=\"G\",\"F\",IF(C7=\"B\",\"GB\",IF(C7=\"GB\",\"B\",36-C7)))))","v":26},null,"BOUXIERES "]
[{"$f":"Equipes!$E$13","v":"NEUVES MAISONS 3"},{"$f":"Equipes!$E$12","v":"BAINVILLE 2"},14,{"$f":"Equipes!$E$13","v":"NEUVES MAISONS 3"},{"$f":"IF(C8=\"\",\"\",IF(C8=\"F\",\"G\",IF(C8=\"G\",\"F\",IF(C8=\"B\",\"GB\",IF(C8=\"GB\",\"B\",36-C8)))))","v":22},null,"NEUVES MAISONS"]
[null,"2°tour",null,"le 11/12/2021"]
[null,{"$f":"Equipes!$E$6","v":"ESSEY "},10,{"$f":"Equipes!$E$13","v":"NEUVES MAISONS 3"},{"$f":"IF(C10=\"\",\"\",IF(C10=\"F\",\"G\",IF(C10=\"G\",\"F\",IF(C10=\"B\",\"GB\",IF(C10=\"GB\",\"B\",36-C10)))))","v":26},"2023-05-09","ESSEY"]
[null,{"$f":"Equipes!$E$8","v":"VILLERS 2"},24,{"$f":"Equipes!$E$11","v":"CHAMPEY "},{"$f":"IF(C11=\"\",\"\",IF(C11=\"F\",\"G\",IF(C11=\"G\",\"F\",IF(C11=\"B\",\"GB\",IF(C11=\"GB\",\"B\",36-C11)))))","v":12},null,"VILLERS"]
[null,{"$f":"Equipes!$E$10","v":"AP STE MARIE"},10,{"$f":"Equipes!$E$12","v":"BAINVILLE 2"},{"$f":"IF(C12=\"\",\"\",IF(C12=\"F\",\"G\",IF(C12=\"G\",\"F\",IF(C12=\"B\",\"GB\",IF(C12=\"GB\",\"B\",36-C12)))))","v":26},null,"ESSEY"]
[null,{"$f":"Equipes!$E$9","v":"LANEUVEVILLE 2"},18,{"$f":"Equipes!$E$7","v":"PAGNY"},{"$f":"IF(C13=\"\",\"\",IF(C13=\"F\",\"G\",IF(C13=\"G\",\"F\",IF(C13=\"B\",\"GB\",IF(C13=\"GB\",\"B\",36-C13)))))","v":18},null,"PAGNY"]
[null,"3°tour",null,"le 4/12/2021"]
[null,{"$f":"Equipes!$E$6","v":"ESSEY "},6,{"$f":"Equipes!$E$11","v":"CHAMPEY "},{"$f":"IF(C15=\"\",\"\",IF(C15=\"F\",\"G\",IF(C15=\"G\",\"F\",IF(C15=\"B\",\"GB\",IF(C15=\"GB\",\"B\",36-C15)))))","v":30},"2023-05-23","VANDOEUVRE"]
[null,{"$f":"Equipes!$E$8","v":"VILLERS 2"},26,{"$f":"Equipes!$E$13","v":"NEUVES MAISONS 3"},{"$f":"IF(C16=\"\",\"\",IF(C16=\"F\",\"G\",IF(C16=\"G\",\"F\",IF(C16=\"B\",\"GB\",IF(C16=\"GB\",\"B\",36-C16)))))","v":10},null,"BAINVILLE"]
[null,{"$f":"Equipes!$E$9","v":"LANEUVEVILLE 2"},28,{"$f":"Equipes!$E$12","v":"BAINVILLE 2"},{"$f":"IF(C17=\"\",\"\",IF(C17=\"F\",\"G\",IF(C17=\"G\",\"F\",IF(C17=\"B\",\"GB\",IF(C17=\"GB\",\"B\",36-C17)))))","v":8},null,"BAINVILLE"]
[null,{"$f":"Equipes!$E$10","v":"AP STE MARIE"},4,{"$f":"Equipes!$E$7","v":"PAGNY"},{"$f":"IF(C18=\"\",\"\",IF(C18=\"F\",\"G\",IF(C18=\"G\",\"F\",IF(C18=\"B\",\"GB\",IF(C18=\"GB\",\"B\",36-C18)))))","v":32},null,"VANDOEUVRE"]
[null,"4°tour",null,"le 15/01/2022"]
[null,{"$f":"Equipes!$E$6","v":"ESSEY "},6,{"$f":"Equipes!$E$8","v":"VILLERS 2"},{"$f":"IF(C20=\"\",\"\",IF(C20=\"F\",\"G\",IF(C20=\"G\",\"F\",IF(C20=\"B\",\"GB\",IF(C20=\"GB\",\"B\",36-C20)))))","v":30},"2023-06-06","AP Ste MARIE"]
[null,{"$f":"Equipes!$E$9","v":"LANEUVEVILLE 2"},22,{"$f":"Equipes!$E$10","v":"AP STE MARIE"},{"$f":"IF(C21=\"\",\"\",IF(C21=\"F\",\"G\",IF(C21=\"G\",\"F\",IF(C21=\"B\",\"GB\",IF(C21=\"GB\",\"B\",36-C21)))))","v":14},null,"AP Ste MARIE"]
[null,{"$f":"Equipes!$E$12","v":"BAINVILLE 2"},6,{"$f":"Equipes!$E$7","v":"PAGNY"},{"$f":"IF(C22=\"\",\"\",IF(C22=\"F\",\"G\",IF(C22=\"G\",\"F\",IF(C22=\"B\",\"GB\",IF(C22=\"GB\",\"B\",36-C22)))))","v":30},null,"CHAMPEY"]
[null,{"$f":"Equipes!$E$11","v":"CHAMPEY "},18,{"$f":"Equipes!$E$13","v":"NEUVES MAISONS 3"},{"$f":"IF(C23=\"\",\"\",IF(C23=\"F\",\"G\",IF(C23=\"G\",\"F\",IF(C23=\"B\",\"GB\",IF(C23=\"GB\",\"B\",36-C23)))))","v":18},null,"CHAMPEY"]
[null,"5°tour",null,"le 22/01/2022"]
[null,{"$f":"Equipes!$E$6","v":"ESSEY "},14,{"$f":"Equipes!$E$9","v":"LANEUVEVILLE 2"},{"$f":"IF(C25=\"\",\"\",IF(C25=\"F\",\"G\",IF(C25=\"G\",\"F\",IF(C25=\"B\",\"GB\",IF(C25=\"GB\",\"B\",36-C25)))))","v":22},"2023-06-20","LANEUVEVILLE"]
[null,{"$f":"Equipes!$E$8","v":"VILLERS 2"},22,{"$f":"Equipes!$E$10","v":"AP STE MARIE"},{"$f":"IF(C26=\"\",\"\",IF(C26=\"F\",\"G\",IF(C26=\"G\",\"F\",IF(C26=\"B\",\"GB\",IF(C26=\"GB\",\"B\",36-C26)))))","v":14},null,"CHALIGNY"]
[null,{"$f":"Equipes!$E$7","v":"PAGNY"},24,{"$f":"Equipes!$E$13","v":"NEUVES MAISONS 3"},{"$f":"IF(C27=\"\",\"\",IF(C27=\"F\",\"G\",IF(C27=\"G\",\"F\",IF(C27=\"B\",\"GB\",IF(C27=\"GB\",\"B\",36-C27)))))","v":12},null,"LANEUVEVILLE"]
[null,{"$f":"Equipes!$E$12","v":"BAINVILLE 2"},20,{"$f":"Equipes!$E$11","v":"CHAMPEY "},{"$f":"IF(C28=\"\",\"\",IF(C28=\"F\",\"G\",IF(C28=\"G\",\"F\",IF(C28=\"B\",\"GB\",IF(C28=\"GB\",\"B\",36-C28)))))","v":16},null,"LANEUVEVILLE"]
[null,"6°tour",null,"2023-09-06"]
[null,{"$f":"Equipes!$E$6","v":"ESSEY "},6,{"$f":"Equipes!$E$10","v":"AP STE MARIE"},{"$f":"IF(C30=\"\",\"\",IF(C30=\"F\",\"G\",IF(C30=\"G\",\"F\",IF(C30=\"B\",\"GB\",IF(C30=\"GB\",\"B\",36-C30)))))","v":30},"2023-09-05","LIVERDUN",null,"Classement",null,"Pts","G","N","P","F/B","+","-","GA"]
[null,{"$f":"Equipes!$E$8","v":"VILLERS 2"},12,{"$f":"Equipes!$E$12","v":"BAINVILLE 2"},{"$f":"IF(C31=\"\",\"\",IF(C31=\"F\",\"G\",IF(C31=\"G\",\"F\",IF(C31=\"B\",\"GB\",IF(C31=\"GB\",\"B\",36-C31)))))","v":24},null,"LIVERDUN",null,1,"PAGNY",20,6,1,0,0,202,50,152]
[null,{"$f":"Equipes!$E$9","v":"LANEUVEVILLE 2"},12,{"$f":"Equipes!$E$13","v":"NEUVES MAISONS 3"},{"$f":"IF(C32=\"\",\"\",IF(C32=\"F\",\"G\",IF(C32=\"G\",\"F\",IF(C32=\"B\",\"GB\",IF(C32=\"GB\",\"B\",36-C32)))))","v":24},null,"LIVERDUN",null,2,"VILLERS 2",17,5,0,2,0,144,108,36]
[null,{"$f":"Equipes!$E$7","v":"PAGNY"},36,{"$f":"Equipes!$E$11","v":"CHAMPEY "},{"$f":"IF(C33=\"\",\"\",IF(C33=\"F\",\"G\",IF(C33=\"G\",\"F\",IF(C33=\"B\",\"GB\",IF(C33=\"GB\",\"B\",36-C33)))))","v":0},null,"PONT A MOUSSON",null,3,"LANEUVEVILLE 2",16,4,1,2,0,148,104,44]
[null,"7°tour",null,"le 12/02/2022",null,null,null,null,4,"BAINVILLE 2",15,4,0,3,0,122,130,-8]
[null,{"$f":"Equipes!$E$6","v":"ESSEY "},12,{"$f":"Equipes!$E$12","v":"BAINVILLE 2"},{"$f":"IF(C35=\"\",\"\",IF(C35=\"F\",\"G\",IF(C35=\"G\",\"F\",IF(C35=\"B\",\"GB\",IF(C35=\"GB\",\"B\",36-C35)))))","v":24},"2023-09-19","ASPTT",null,5,"NEUVES MAISONS 3",14,3,1,3,0,124,128,-4]
[null,{"$f":"Equipes!$E$8","v":"VILLERS 2"},8,{"$f":"Equipes!$E$7","v":"PAGNY"},{"$f":"IF(C36=\"\",\"\",IF(C36=\"F\",\"G\",IF(C36=\"G\",\"F\",IF(C36=\"B\",\"GB\",IF(C36=\"GB\",\"B\",36-C36)))))","v":28},null,"BOUXIERES ",null,6,"CHAMPEY ",12,2,1,4,0,106,146,-40]
[null,{"$f":"Equipes!$E$9","v":"LANEUVEVILLE 2"},32,{"$f":"Equipes!$E$11","v":"CHAMPEY "},{"$f":"IF(C37=\"\",\"\",IF(C37=\"F\",\"G\",IF(C37=\"G\",\"F\",IF(C37=\"B\",\"GB\",IF(C37=\"GB\",\"B\",36-C37)))))","v":4},null,"BOUXIERES ",null,7,"AP STE MARIE",11,2,0,5,0,106,146,-40]
[null,{"$f":"Equipes!$E$10","v":"AP STE MARIE"},24,{"$f":"Equipes!$E$13","v":"NEUVES MAISONS 3"},{"$f":"IF(C38=\"\",\"\",IF(C38=\"F\",\"G\",IF(C38=\"G\",\"F\",IF(C38=\"B\",\"GB\",IF(C38=\"GB\",\"B\",36-C38)))))","v":12},null,"ASPTT",null,8,"ESSEY ",7,0,0,7,0,56,196,-140]

{"sheet":"VET_4","index":3,"n_rows":38,"n_cols":18,"rows_kept":38,"cut":false,"hidden":false,"merged":[[3,9,13,12],[13,3,13,6],[2,2,2,6],[4,5,7,5],[8,3,8,6],[9,5,12,5],[28,3,28,6],[29,5,32,5],[29,8,29,9],[34,5,37,5],[14,5,17,5],[15,9,26,12],[18,3,18,6],[19,5,22,5],[23,3,23,6],[24,5,27,5]]}
[{"$f":"Equipes!$B$15","v":"ASPTT"}]
[{"$f":"Equipes!$B$16","v":"BOUXIERES 2"}]
[{"$f":"Equipes!$B$17","v":"BEZAUMONT"},"1°tour"]
[{"$f":"Equipes!$B$18","v":"LANEUVEVILLE 1"},"Club","score","Club","score","Date","Lieu",null,null,"CDC VETERAN \n2023 \nDIVISION 4"]
[{"$f":"Equipes!$B$19","v":"BRIEY"},{"$f":"Equipes!$B$15","v":"ASPTT"},12,{"$f":"Equipes!$B$16","v":"BOUXIERES 2"},{"$f":"IF(C5=\"\",\"\",IF(C5=\"F\",\"G\",IF(C5=\"G\",\"F\",IF(C5=\"B\",\"GB\",IF(C5=\"GB\",\"B\",36-C5)))))","v":24},"2023-04-25","BOUXIERES "]
[{"$f":"Equipes!$B$20","v":"JARVILLE 2"},{"$f":"Equipes!$B$17","v":"BEZAUMONT"},20,{"$f":"Equipes!$B$18","v":"LANEUVEVILLE 1"},{"$f":"IF(C6=\"\",\"\",IF(C6=\"F\",\"G\",IF(C6=\"G\",\"F\",IF(C6=\"B\",\"GB\",IF(C6=\"GB\",\"B\",36-C6)))))","v":16},null,"JARVILLE"]
[{"$f":"Equipes!$B$21","v":"VILLERS 3"},{"$f":"Equipes!$B$19","v":"BRIEY"},16,{"$f":"Equipes!$B$20","v":"JARVILLE 2"},{"$f":"IF(C7=\"\",\"\",IF(C7=\"F\",\"G\",IF(C7=\"G\",\"F\",IF(C7=\"B\",\"GB\",IF(C7=\"GB\",\"B\",36-C7)))))","v":20},null,"JARVILLE"]
[{"$f":"Equipes!$B$22","v":"AP LUNEVILLE 2 FG"},{"$f":"Equipes!$B$21","v":"VILLERS 3"},null,{"$f":"Equipes!$B$22","v":"AP LUNEVILLE 2 FG"},{"$f":"IF(C8=\"\",\"\",IF(C8=\"F\",\"G\",IF(C8=\"G\",\"F\",IF(C8=\"B\",\"GB\",IF(C8=\"GB\",\"B\",36-C8)))))","v":""},null,"NEUVES MAISONS"]
[null,"2°tour",null,"le 11/12/2021"]
[null,{"$f":"Equipes!$B$15","v":"ASPTT"},null,{"$f":"Equipes!$B$22","v":"AP LUNEVILLE 2 FG"},{"$f":"IF(C10=\"\",\"\",IF(C10=\"F\",\"G\",IF(C10=\"G\",\"F\",IF(C10=\"B\",\"GB\",IF(C10=\"GB\",\"B\",36-C10)))))","v":""},"2023-05-09","VILLERS"]
[null,{"$f":"Equipes!$B$17","v":"BEZAUMONT"},18,{"$f":"Equipes!$B$20","v":"JARVILLE 2"},{"$f":"IF(C11=\"\",\"\",IF(C11=\"F\",\"G\",IF(C11=\"G\",\"F\",IF(C11=\"B\",\"GB\",IF(C11=\"GB\",\"B\",36-C11)))))","v":18},null,"PAGNY"]
[null,{"$f":"Equipes!$B$19","v":"BRIEY"},14,{"$f":"Equipes!$B$21","v":"VILLERS 3"},{"$f":"IF(C12=\"\",\"\",IF(C12=\"F\",\"G\",IF(C12=\"G\",\"F\",IF(C12=\"B\",\"GB\",IF(C12=\"GB\",\"B\",36-C12)))))","v":22},null,"VILLERS"]
[null,{"$f":"Equipes!$B$18","v":"LANEUVEVILLE 1"},18,{"$f":"Equipes!$B$16","v":"BOUXIERES 2"},{"$f":"IF(C13=\"\",\"\",IF(C13=\"F\",\"G\",IF(C13=\"G\",\"F\",IF(C13=\"B\",\"GB\",IF(C13=\"GB\",\"B\",36-C13)))))","v":18},null,"ESSEY"]
[null,"3°tour",null,"le 4/12/2021"]
[null,{"$f":"Equipes!$B$15","v":"ASPTT"},10,{"$f":"Equipes!$B$20","v":"JARVILLE 2"},{"$f":"IF(C15=\"\",\"\",IF(C15=\"F\",\"G\",IF(C15=\"G\",\"F\",IF(C15=\"B\",\"GB\",IF(C15=\"GB\",\"B\",36-C15)))))","v":26},"2023-05-23","VANDOEUVRE"]
[null,{"$f":"Equipes!$B$17","v":"BEZAUMONT"},null,{"$f":"Equipes!$B$22","v":"AP LUNEVILLE 2 FG"},{"$f":"IF(C16=\"\",\"\",IF(C16=\"F\",\"G\",IF(C16=\"G\",\"F\",IF(C16=\"B\",\"GB\",IF(C16=\"GB\",\"B\",36-C16)))))","v":""},null,"VANDOEUVRE"]
[null,{"$f":"Equipes!$B$18","v":"LANEUVEVILLE 1"},4,{"$f":"Equipes!$B$21","v":"VILLERS 3"},{"$f":"IF(C17=\"\",\"\",IF(C17=\"F\",\"G\",IF(C17=\"G\",\"F\",IF(C17=\"B\",\"GB\",IF(C17=\"GB\",\"B\",36-C17)))))","v":32},null,"VANDOEUVRE"]
[null,{"$f":"Equipes!$B$19","v":"BRIEY"},10,{"$f":"Equipes!$B$16","v":"BOUXIERES 2"},{"$f":"IF(C18=\"\",\"\",IF(C18=\"F\",\"G\",IF(C18=\"G\",\"F\",IF(C18=\"B\",\"GB\",IF(C18=\"GB\",\"B\",36-C18)))))","v":26},null,"JARNY"]
[null,"4°tour",null,"le 15/01/2022"]
[null,{"$f":"Equipes!$B$15","v":"ASPTT"},32,{"$f":"Equipes!$B$17","v":"BEZAUMONT"},{"$f":"IF(C20=\"\",\"\",IF(C20=\"F\",\"G\",IF(C20=\"G\",\"F\",IF(C20=\"B\",\"GB\",IF(C20=\"GB\",\"B\",36-C20)))))","v":4},"2023-06-06","AP Ste MARIE"]
[null,{"$f":"Equipes!$B$18","v":"LANEUVEVILLE 1"},20,{"$f":"Equipes!$B$19","v":"BRIEY"},{"$f":"IF(C21=\"\",\"\",IF(C21=\"F\",\"G\",IF(C21=\"G\",\"F\",IF(C21=\"B\",\"GB\",IF(C21=\"GB\",\"B\",36-C21)))))","v":16},null,"CHAMPEY"]
[null,{"$f":"Equipes!$B$21","v":"VILLERS 3"},16,{"$f":"Equipes!$B$16","v":"BOUXIERES 2"},{"$f":"IF(C22=\"\",\"\",IF(C22=\"F\",\"G\",IF(C22=\"G\",\"F\",IF(C22=\"B\",\"GB\",IF(C22=\"GB\",\"B\",36-C22)))))","v":20},null,"AP Ste MARIE"]
[null,{"$f":"Equipes!$B$20","v":"JARVILLE 2"},null,{"$f":"Equipes!$B$22","v":"AP LUNEVILLE 2 FG"},{"$f":"IF(C23=\"\",\"\",IF(C23=\"F\",\"G\",IF(C23=\"G\",\"F\",IF(C23=\"B\",\"GB\",IF(C23=\"GB\",\"B\",36-C23)))))","v":""},null,"DOMBASLE"]
[null,"5°tour",null,"le 22/01/2022"]
[null,{"$f":"Equipes!$B$15","v":"ASPTT"},12,{"$f":"Equipes!$B$18","v":"LANEUVEVILLE 1"},{"$f":"IF(C25=\"\",\"\",IF(C25=\"F\",\"G\",IF(C25=\"G\",\"F\",IF(C25=\"B\",\"GB\",IF(C25=\"GB\",\"B\",36-C25)))))","v":24},"2023-06-20","LANEUVEVILLE"]
[null,{"$f":"Equipes!$B$17","v":"BEZAUMONT"},8,{"$f":"Equipes!$B$19","v":"BRIEY"},{"$f":"IF(C26=\"\",\"\",IF(C26=\"F\",\"G\",IF(C26=\"G\",\"F\",IF(C26=\"B\",\"GB\",IF(C26=\"GB\",\"B\",36-C26)))))","v":28},null,"BRIEY"]
[null,{"$f":"Equipes!$B$16","v":"BOUXIERES 2"},null,{"$f":"Equipes!$B$22","v":"AP LUNEVILLE 2 FG"},{"$f":"IF(C27=\"\",\"\",IF(C27=\"F\",\"G\",IF(C27=\"G\",\"F\",IF(C27=\"B\",\"GB\",IF(C27=\"GB\",\"B\",36-C27)))))","v":""},null,"St NICOLAS"]
[null,{"$f":"Equipes!$B$21","v":"VILLERS 3"},22,{"$f":"Equipes!$B$20","v":"JARVILLE 2"},{"$f":"IF(C28=\"\",\"\",IF(C28=\"F\",\"G\",IF(C28=\"G\",\"F\",IF(C28=\"B\",\"GB\",IF(C28=\"GB\",\"B\",36-C28)))))","v":14},null,"CHALIGNY"]
[null,"6°tour",null,"2023-09-06"]
[null,{"$f":"Equipes!$B$15","v":"ASPTT"},26,{"$f":"Equipes!$B$19","v":"BRIEY"},{"$f":"IF(C30=\"\",\"\",IF(C30=\"F\",\"G\",IF(C30=\"G\",\"F\",IF(C30=\"B\",\"GB\",IF(C30=\"GB\",\"B\",36-C30)))))","v":10},"2023-09-05","PONT A MOUSSON",null,"Classement",null,"Pts","G","N","P","F/B","+","-","GA"]
[null,{"$f":"Equipes!$B$17","v":"BEZAUMONT"},16,{"$f":"Equipes!$B$21","v":"VILLERS 3"},{"$f":"IF(C31=\"\",\"\",IF(C31=\"F\",\"G\",IF(C31=\"G\",\"F\",IF(C31=\"B\",\"GB\",IF(C31=\"GB\",\"B\",36-C31)))))","v":20},null,"PONT A MOUSSON",null,1,"JARVILLE 2",14,3,2,1,0,128,88,40]
[null,{"$f":"Equipes!$B$18","v":"LANEUVEVILLE 1"},null,{"$f":"Equipes!$B$22","v":"AP LUNEVILLE 2 FG"},{"$f":"IF(C32=\"\",\"\",IF(C32=\"F\",\"G\",IF(C32=\"G\",\"F\",IF(C32=\"B\",\"GB\",IF(C32=\"GB\",\"B\",36-C32)))))","v":""},null,"BACCARAT",null,2,"VILLERS 3",14,4,0,2,0,126,90,36]
[null,{"$f":"Equipes!$B$16","v":"BOUXIERES 2"},18,{"$f":"Equipes!$B$20","v":"JARVILLE 2"},{"$f":"IF(C33=\"\",\"\",IF(C33=\"F\",\"G\",IF(C33=\"G\",\"F\",IF(C33=\"B\",\"GB\",IF(C33=\"GB\",\"B\",36-C33)))))","v":18},null,"LIVERDUN",null,3,"BOUXIERES 2",14,3,2,1,0,116,100,16]
[null,"7°tour",null,"le 12/02/2022",null,null,null,null,4,"ASPTT",12,3,0,3,0,114,102,12]
[null,{"$f":"Equipes!$B$15","v":"ASPTT"},22,{"$f":"Equipes!$B$21","v":"VILLERS 3"},{"$f":"IF(C35=\"\",\"\",IF(C35=\"F\",\"G\",IF(C35=\"G\",\"F\",IF(C35=\"B\",\"GB\",IF(C35=\"GB\",\"B\",36-C35)))))","v":14},"2023-09-19","ASPTT",null,5,"BEZAUMONT",11,2,1,3,0,92,124,-32]
[null,{"$f":"Equipes!$B$17","v":"BEZAUMONT"},26,{"$f":"Equipes!$B$16","v":"BOUXIERES 2"},{"$f":"IF(C36=\"\",\"\",IF(C36=\"F\",\"G\",IF(C36=\"G\",\"F\",IF(C36=\"B\",\"GB\",IF(C36=\"GB\",\"B\",36-C36)))))","v":10},null,"BOUXIERES",null,6,"LANEUVEVILLE 1",11,2,1,3,0,86,130,-44]
[null,{"$f":"Equipes!$B$18","v":"LANEUVEVILLE 1"},4,{"$f":"Equipes!$B$20","v":"JARVILLE 2"},{"$f":"IF(C37=\"\",\"\",IF(C37=\"F\",\"G\",IF(C37=\"G\",\"F\",IF(C37=\"B\",\"GB\",IF(C37=\"GB\",\"B\",36-C37)))))","v":32},null,"ASPTT",null,7,"BRIEY",8,1,0,5,0,94,122,-28]
[null,{"$f":"Equipes!$B$19","v":"BRIEY"},null,{"$f":"Equipes!$B$22","v":"AP LUNEVILLE 2 FG"},{"$f":"IF(C38=\"\",\"\",IF(C38=\"F\",\"G\",IF(C38=\"G\",\"F\",IF(C38=\"B\",\"GB\",IF(C38=\"GB\",\"B\",36-C38)))))","v":""},null,"MANCIEULLES",null,8,"AP LUNEVILLE 2 FG",0,0,0,0,0,0,0,0]

{"sheet":"VET_5","index":4,"n_rows":38,"n_cols":18,"rows_kept":38,"cut":false,"hidden":false,"merged":[[28,3,28,6],[29,5,32,5],[29,8,29,9],[34,5,37,5],[14,5,17,5],[15,9,26,12],[18,3,18,6],[19,5,22,5],[23,3,23,6],[24,5,27,5],[2,2,2,6],[3,9,13,12],[4,5,7,5],[8,3,8,6],[9,5,12,5],[13,3,13,6]]}
[{"$f":"Equipes!$D$15","v":"LIVERDUN 2"}]
[{"$f":"Equipes!$D$16","v":"BACCARAT"}]
[{"$f":"Equipes!$D$17","v":"BOUXIERES 3"},"1°tour"]
[{"$f":"Equipes!$D$18","v":"CHALIGNY"},"Club","score","Club","score","Date","Lieu",null,null,"CDC VETERAN \n2023 \nDIVISION 5"]
[{"$f":"Equipes!$D$19","v":"DOMBASLE 2"},{"$f":"Equipes!$D$15","v":"LIVERDUN 2"},16,{"$f":"Equipes!$D$16","v":"BACCARAT"},{"$f":"IF(C5=\"\",\"\",IF(C5=\"F\",\"G\",IF(C5=\"G\",\"F\",IF(C5=\"B\",\"GB\",IF(C5=\"GB\",\"B\",36-C5)))))","v":20},"2023-04-25","NEUVES MAISONS"]
[{"$f":"Equipes!$D$20","v":"GARI LUNEVILLE"},{"$f":"Equipes!$D$17","v":"BOUXIERES 3"},20,{"$f":"Equipes!$D$18","v":"CHALIGNY"},{"$f":"IF(C6=\"\",\"\",IF(C6=\"F\",\"G\",IF(C6=\"G\",\"F\",IF(C6=\"B\",\"GB\",IF(C6=\"GB\",\"B\",36-C6)))))","v":16},null,"BOUXIERES"]
[{"$f":"Equipes!$D$21","v":"MANCIEULLES "},{"$f":"Equipes!$D$19","v":"DOMBASLE 2"},14,{"$f":"Equipes!$D$20","v":"GARI LUNEVILLE"},{"$f":"IF(C7=\"\",\"\",IF(C7=\"F\",\"G\",IF(C7=\"G\",\"F\",IF(C7=\"B\",\"GB\",IF(C7=\"GB\",\"B\",36-C7)))))","v":22},null,"NEUVES MAISONS"]
[{"$f":"Equipes!$D$22","v":"PULNOY"},{"$f":"Equipes!$D$21","v":"MANCIEULLES "},16,{"$f":"Equipes!$D$22","v":"PULNOY"},{"$f":"IF(C8=\"\",\"\",IF(C8=\"F\",\"G\",IF(C8=\"G\",\"F\",IF(C8=\"B\",\"GB\",IF(C8=\"GB\",\"B\",36-C8)))))","v":20},null,"BOUXIERES"]
[null,"2°tour",null,"le 11/12/2021"]
[null,{"$f":"Equipes!$D$15","v":"LIVERDUN 2"},16,{"$f":"Equipes!$D$22","v":"PULNOY"},{"$f":"IF(C10=\"\",\"\",IF(C10=\"F\",\"G\",IF(C10=\"G\",\"F\",IF(C10=\"B\",\"GB\",IF(C10=\"GB\",\"B\",36-C10)))))","v":20},"2023-05-09","PAGNY"]
[null,{"$f":"Equipes!$D$17","v":"BOUXIERES 3"},2,{"$f":"Equipes!$D$20","v":"GARI LUNEVILLE"},{"$f":"IF(C11=\"\",\"\",IF(C11=\"F\",\"G\",IF(C11=\"G\",\"F\",IF(C11=\"B\",\"GB\",IF(C11=\"GB\",\"B\",36-C11)))))","v":34},null,"ESSEY"]
[null,{"$f":"Equipes!$D$19","v":"DOMBASLE 2"},10,{"$f":"Equipes!$D$21","v":"MANCIEULLES "},{"$f":"IF(C12=\"\",\"\",IF(C12=\"F\",\"G\",IF(C12=\"G\",\"F\",IF(C12=\"B\",\"GB\",IF(C12=\"GB\",\"B\",36-C12)))))","v":26},null,"PAGNY"]
[null,{"$f":"Equipes!$D$18","v":"CHALIGNY"},16,{"$f":"Equipes!$D$16","v":"BACCARAT"},{"$f":"IF(C13=\"\",\"\",IF(C13=\"F\",\"G\",IF(C13=\"G\",\"F\",IF(C13=\"B\",\"GB\",IF(C13=\"GB\",\"B\",36-C13)))))","v":20},null,"VILLERS"]
[null,"3°tour",null,"le 4/12/2021"]
[null,{"$f":"Equipes!$D$15","v":"LIVERDUN 2"},12,{"$f":"Equipes!$D$20","v":"GARI LUNEVILLE"},{"$f":"IF(C15=\"\",\"\",IF(C15=\"F\",\"G\",IF(C15=\"G\",\"F\",IF(C15=\"B\",\"GB\",IF(C15=\"GB\",\"B\",36-C15)))))","v":24},"2023-05-23","BAINVILLE"]
[null,{"$f":"Equipes!$D$17","v":"BOUXIERES 3"},4,{"$f":"Equipes!$D$22","v":"PULNOY"},{"$f":"IF(C16=\"\",\"\",IF(C16=\"F\",\"G\",IF(C16=\"G\",\"F\",IF(C16=\"B\",\"GB\",IF(C16=\"GB\",\"B\",36-C16)))))","v":32},null,"VANDOEUVRE"]
[null,{"$f":"Equipes!$D$18","v":"CHALIGNY"},6,{"$f":"Equipes!$D$21","v":"MANCIEULLES "},{"$f":"IF(C17=\"\",\"\",IF(C17=\"F\",\"G\",IF(C17=\"G\",\"F\",IF(C17=\"B\",\"GB\",IF(C17=\"GB\",\"B\",36-C17)))))","v":30},null,"JARNY"]
[null,{"$f":"Equipes!$D$19","v":"DOMBASLE 2"},24,{"$f":"Equipes!$D$16","v":"BACCARAT"},{"$f":"IF(C18=\"\",\"\",IF(C18=\"F\",\"G\",IF(C18=\"G\",\"F\",IF(C18=\"B\",\"GB\",IF(C18=\"GB\",\"B\",36-C18)))))","v":12},null,"BAINVILLE"]
[null,"4°tour",null,"le 15/01/2022"]
[null,{"$f":"Equipes!$D$15","v":"LIVERDUN 2"},36,{"$f":"Equipes!$D$17","v":"BOUXIERES 3"},{"$f":"IF(C20=\"\",\"\",IF(C20=\"F\",\"G\",IF(C20=\"G\",\"F\",IF(C20=\"B\",\"GB\",IF(C20=\"GB\",\"B\",36-C20)))))","v":0},"2023-06-06","AP Ste MARIE"]
[null,{"$f":"Equipes!$D$18","v":"CHALIGNY"},8,{"$f":"Equipes!$D$19","v":"DOMBASLE 2"},{"$f":"IF(C21=\"\",\"\",IF(C21=\"F\",\"G\",IF(C21=\"G\",\"F\",IF(C21=\"B\",\"GB\",IF(C21=\"GB\",\"B\",36-C21)))))","v":28},null,"DOMBASLE"]
[null,{"$f":"Equipes!$D$21","v":"MANCIEULLES "},30,{"$f":"Equipes!$D$16","v":"BACCARAT"},{"$f":"IF(C22=\"\",\"\",IF(C22=\"F\",\"G\",IF(C22=\"G\",\"F\",IF(C22=\"B\",\"GB\",IF(C22=\"GB\",\"B\",36-C22)))))","v":6},null,"DOMBASLE"]
[null,{"$f":"Equipes!$D$20","v":"GARI LUNEVILLE"},18,{"$f":"Equipes!$D$22","v":"PULNOY"},{"$f":"IF(C23=\"\",\"\",IF(C23=\"F\",\"G\",IF(C23=\"G\",\"F\",IF(C23=\"B\",\"GB\",IF(C23=\"GB\",\"B\",36-C23)))))","v":18},null,"DOMBASLE"]
[null,"5°tour",null,"le 22/01/2022"]
[null,{"$f":"Equipes!$D$15","v":"LIVERDUN 2"},30,{"$f":"Equipes!$D$18","v":"CHALIGNY"},{"$f":"IF(C25=\"\",\"\",IF(C25=\"F\",\"G\",IF(C25=\"G\",\"F\",IF(C25=\"B\",\"GB\",IF(C25=\"GB\",\"B\",36-C25)))))","v":6},"2023-06-20","CHALIGNY"]
[null,{"$f":"Equipes!$D$17","v":"BOUXIERES 3"},12,{"$f":"Equipes!$D$19","v":"DOMBASLE 2"},{"$f":"IF(C26=\"\",\"\",IF(C26=\"F\",\"G\",IF(C26=\"G\",\"F\",IF(C26=\"B\",\"GB\",IF(C26=\"GB\",\"B\",36-C26)))))","v":24},null,"St NICOLAS"]
[null,{"$f":"Equipes!$D$16","v":"BACCARAT"},14,{"$f":"Equipes!$D$22","v":"PULNOY"},{"$f":"IF(C27=\"\",\"\",IF(C27=\"F\",\"G\",IF(C27=\"G\",\"F\",IF(C27=\"B\",\"GB\",IF(C27=\"GB\",\"B\",36-C27)))))","v":22},null,"St NICOLAS"]
[null,{"$f":"Equipes!$D$21","v":"MANCIEULLES "},14,{"$f":"Equipes!$D$20","v":"GARI LUNEVILLE"},{"$f":"IF(C28=\"\",\"\",IF(C28=\"F\",\"G\",IF(C28=\"G\",\"F\",IF(C28=\"B\",\"GB\",IF(C28=\"GB\",\"B\",36-C28)))))","v":22},null,"BRIEY"]
[null,"6°tour",null,"2023-09-06"]
[null,{"$f":"Equipes!$D$15","v":"LIVERDUN 2"},12,{"$f":"Equipes!$D$19","v":"DOMBASLE 2"},{"$f":"IF(C30=\"\",\"\",IF(C30=\"F\",\"G\",IF(C30=\"G\",\"F\",IF(C30=\"B\",\"GB\",IF(C30=\"GB\",\"B\",36-C30)))))","v":24},"2023-09-05","LIVERDUN",null,"Classement",null,"Pts","G","N","P","F/B","+","-","GA"]
[null,{"$f":"Equipes!$D$17","v":"BOUXIERES 3"},4,{"$f":"Equipes!$D$21","v":"MANCIEULLES "},{"$f":"IF(C31=\"\",\"\",IF(C31=\"F\",\"G\",IF(C31=\"G\",\"F\",IF(C31=\"B\",\"GB\",IF(C31=\"GB\",\"B\",36-C31)))))","v":32},null,"PONT A MOUSSON",null,1,"PULNOY",20,6,1,0,0,156,96,60]
[null,{"$f":"Equipes!$D$18","v":"CHALIGNY"},14,{"$f":"Equipes!$D$22","v":"PULNOY"},{"$f":"IF(C32=\"\",\"\",IF(C32=\"F\",\"G\",IF(C32=\"G\",\"F\",IF(C32=\"B\",\"GB\",IF(C32=\"GB\",\"B\",36-C32)))))","v":22},null,"LIVERDUN",null,2,"GARI LUNEVILLE",18,5,1,1,0,168,84,84]
[null,{"$f":"Equipes!$D$16","v":"BACCARAT"},20,{"$f":"Equipes!$D$20","v":"GARI LUNEVILLE"},{"$f":"IF(C33=\"\",\"\",IF(C33=\"F\",\"G\",IF(C33=\"G\",\"F\",IF(C33=\"B\",\"GB\",IF(C33=\"GB\",\"B\",36-C33)))))","v":16},null,"BACCARAT",null,3,"MANCIEULLES ",17,5,0,2,0,176,76,100]
[null,"7°tour",null,"le 12/02/2022",null,null,null,null,4,"DOMBASLE 2",15,4,0,3,0,138,114,24]
[null,{"$f":"Equipes!$D$15","v":"LIVERDUN 2"},8,{"$f":"Equipes!$D$21","v":"MANCIEULLES "},{"$f":"IF(C35=\"\",\"\",IF(C35=\"F\",\"G\",IF(C35=\"G\",\"F\",IF(C35=\"B\",\"GB\",IF(C35=\"GB\",\"B\",36-C35)))))","v":28},"2023-09-19","MANCIEULLES",null,5,"BACCARAT",15,4,0,3,0,118,134,-16]
[null,{"$f":"Equipes!$D$17","v":"BOUXIERES 3"},10,{"$f":"Equipes!$D$16","v":"BACCARAT"},{"$f":"IF(C36=\"\",\"\",IF(C36=\"F\",\"G\",IF(C36=\"G\",\"F\",IF(C36=\"B\",\"GB\",IF(C36=\"GB\",\"B\",36-C36)))))","v":26},null,"BOUXIERES",null,6,"LIVERDUN 2",11,2,0,5,0,130,122,8]
[null,{"$f":"Equipes!$D$18","v":"CHALIGNY"},4,{"$f":"Equipes!$D$20","v":"GARI LUNEVILLE"},{"$f":"IF(C37=\"\",\"\",IF(C37=\"F\",\"G\",IF(C37=\"G\",\"F\",IF(C37=\"B\",\"GB\",IF(C37=\"GB\",\"B\",36-C37)))))","v":32},null,"BOUXIERES",null,7,"BOUXIERES 3",9,1,0,6,0,52,200,-148]
[null,{"$f":"Equipes!$D$19","v":"DOMBASLE 2"},14,{"$f":"Equipes!$D$22","v":"PULNOY"},{"$f":"IF(C38=\"\",\"\",IF(C38=\"F\",\"G\",IF(C38=\"G\",\"F\",IF(C38=\"B\",\"GB\",IF(C38=\"GB\",\"B\",36-C38)))))","v":22},null,"ASPTT",null,8,"CHALIGNY",7,0,0,7,0,70,182,-112]

{"sheet":"Equipes","index":5,"n_rows":22,"n_cols":5,"rows_kept":22,"cut":false,"hidden":false,"merged":[[0,0,2,5],[18,1,18,2],[19,1,19,2],[20,1,20,2],[21,1,21,2],[13,3,13,4],[14,3,14,4],[15,3,15,4],[16,3,16,4],[17,3,17,4],[18,3,18,4],[19,3,19,4],[20,3,20,4],[21,3,21,4],[13,1,13,2],[14,1,14,2],[15,1,15,2],[16,1,16,2],[17,1,17,2],[7,0,7,1],[8,0,8,1],[9,0,9,1],[9,2,9,3],[10,2,10,3],[11,2,11,3],[7,2,7,3],[8,2,8,3],[9,4,9,5],[11,0,11,1],[12,0,12,1],[12,2,12,3],[11,4,11,5],[12,4,12,5],[10,0,10,1],[10,4,10,5],[4,4,4,5],[5,4,5,5],[6,4,6,5],[7,4,7,5],[8,4,8,5],[4,0,4,1],[5,0,5,1],[6,0,6,1],[4,2,4,3],[5,2,5,3],[6,2,6,3]]}
["EQUIPES PAR DIVISION\nCDC VETERAN 2023"]
[]
[]
[]
["DIV 1 ",null,"DIV 2",null,"DIV 3"]
["JARNY 1",null,"CHAMPIGNEULLES",null,"ESSEY "]
["JARNY 2",null,"VANDOEUVRE",null,"PAGNY"]
["ST NICOLAS 1",null,"ST NICOLAS 2",null,"VILLERS 2"]
["BOUXIERES 1 ",null,"LIVERDUN 1",null,"LANEUVEVILLE 2"]
["PONT A MOUSSON 1",null,"PONT A MOUSSON 2",null,"AP STE MARIE"]
["JARVILLE 1",null,"DOMBASLE 1",null,"CHAMPEY "]
["NEUVES MAISONS 2",null,"AP LUNEVILLE 1",null,"BAINVILLE 2"]
["BAINVILLE 1",null,"VILLERS 1",null,"NEUVES MAISONS 3"]
[null,"DIV 4",null,"DIV 5"]
[null,"ASPTT",null,"LIVERDUN 2"]
[null,"BOUXIERES 2",null,"BACCARAT"]
[null,"BEZAUMONT",null,"BOUXIERES 3"]
[null,"LANEUVEVILLE 1",null,"CHALIGNY"]
[null,"BRIEY",null,"DOMBASLE 2"]
[null,"JARVILLE 2",null,"GARI LUNEVILLE"]
[null,"VILLERS 3",null,"MANCIEULLES "]
[null,"AP LUNEVILLE 2 FG",null,"PULNOY"]