{"text_format":"1","workbook":"xlsx","n_sheets":2,"sheets":["PROVENCAL","Equipes"],"not_rendered":{"charts":0,"images":2,"macros":1,"external_links":0,"defined_names":2,"comments":0,"pivot_tables":0},"unopened":[],"bounds":{"document_bytes":16777216,"sheet_cells":100000,"rows_first":2000,"rows_last":500,"rows_between":2000,"halvings":0,"cell_chars":16384,"cell_head_chars":4096},"cells_cut":0,"cells_raw":0,"read":"whole","date_system":"1900"}

{"sheet":"PROVENCAL","index":0,"n_rows":27,"n_cols":18,"rows_kept":27,"cut":false,"hidden":false,"merged":[[22,5,23,5],[22,8,22,9],[24,3,24,6],[25,5,26,5],[9,3,9,6],[10,5,11,5],[17,2,17,6],[18,8,20,17],[19,5,20,5],[21,3,21,6],[10,6,11,6],[19,6,20,6],[22,6,23,6],[25,6,26,6],[2,2,2,6],[3,8,5,17],[4,5,5,5],[6,3,6,6],[7,5,8,5],[7,8,7,9],[4,6,5,6],[7,6,8,6]]}
[{"$f":"Equipes!$B$6","v":"ANP"}]
[{"$f":"Equipes!$B$7","v":"HUSSIGNY"}]
[{"$f":"Equipes!$B$8","v":"PAGNY"},"1°tour"]
[{"$f":"Equipes!$B$9","v":"BRIEY"},"Club","score","Club","score","Date","Lieu",null,"CDC PROVENCAL 2023\nDIVISION 1"]
[null,{"$f":"Equipes!$B$6","v":"ANP"},null,{"$f":"Equipes!$B$7","v":"HUSSIGNY"},{"$f":"IF(C5=\"\",\"\",IF(C5=\"F\",\"G\",IF(C5=\"G\",\"F\",IF(C5=\"B\",\"GB\",IF(C5=\"GB\",\"B\",24-C5)))))","v":""},"2023-08-26","ANP"]
[null,{"$f":"Equipes!$B$8","v":"PAGNY"},null,{"$f":"Equipes!$B$9","v":"BRIEY"},{"$f":"IF(C6=\"\",\"\",IF(C6=\"F\",\"G\",IF(C6=\"G\",\"F\",IF(C6=\"B\",\"GB\",IF(C6=\"GB\",\"B\",24-C6)))))","v":""}]
[null,"2°tour",null,"le 11/12/2021"]
[null,{"$f":"Equipes!$B$6","v":"ANP"},null,{"$f":"Equipes!$B$8","v":"PAGNY"},{"$f":"IF(C8=\"\",\"\",IF(C8=\"F\",\"G\",IF(C8=\"G\",\"F\",IF(C8=\"B\",\"GB\",IF(C8=\"GB\",\"B\",24-C8)))))","v":""},"2023-08-27","BRIEY",null,"Classement",null,"Pts","G","N","P","F/B","+","-","GA"]
[null,{"$f":"Equipes!$B$7","v":"HUSSIGNY"},null,{"$f":"Equipes!$B$9","v":"BRIEY"},{"$f":"IF(C9=\"\",\"\",IF(C9=\"F\",\"G\",IF(C9=\"G\",\"F\",IF(C9=\"B\",\"GB\",IF(C9=\"GB\",\"B\",24-C9)))))","v":""},null,null,null,1,"ANP",0,0,0,0,0,0,0,0]
[null,"3°tour",null,"le 4/12/2021",null,null,null,null,2,"HUSSIGNY",0,0,0,0,0,0,0,0]
[null,{"$f":"Equipes!$B$6","v":"ANP"},null,{"$f":"Equipes!$B$9","v":"BRIEY"},{"$f":"IF(C11=\"\",\"\",IF(C11=\"F\",\"G\",IF(C11=\"G\",\"F\",IF(C11=\"B\",\"GB\",IF(C11=\"GB\",\"B\",24-C11)))))","v":""},"2023-09-23","PAGNY",null,3,"PAGNY",0,0,0,0,0,0,0,0]
[null,{"$f":"Equipes!$B$8","v":"PAGNY"},null,{"$f":"Equipes!$B$7","v":"HUSSIGNY"},{"$f":"IF(C12=\"\",\"\",IF(C12=\"F\",\"G\",IF(C12=\"G\",\"F\",IF(C12=\"B\",\"GB\",IF(C12=\"GB\",\"B\",24-C12)))))","v":""},null,null,null,4,"BRIEY",0,0,0,0,0,0,0,0]
[]
[]
[]
[]
[]
[{"$f":"Equipes!$D$6","v":"LONGWY"},"1°tour"]
[{"$f":"Equipes!$D$7","v":"GARI LUNEVILLE 2"},"Club","score","Club","score","Date","Lieu",null,"CDC PROVENCAL 2023\nDIVISION 2"]
[{"$f":"Equipes!$D$8","v":"LANEUVEVILLE 2"},{"$f":"Equipes!$D$6","v":"LONGWY"},null,{"$f":"Equipes!$D$7","v":"GARI LUNEVILLE 2"},{"$f":"IF(C20=\"\",\"\",IF(C20=\"F\",\"G\",IF(C20=\"G\",\"F\",IF(C20=\"B\",\"GB\",IF(C20=\"GB\",\"B\",24-C20)))))","v":""},{"$f":"F5","v":"2023-08-26"},"St NICOLAS"]
[{"$f":"Equipes!$D$9","v":"St NICOLAS"},{"$f":"Equipes!$D$8","v":"LANEUVEVILLE 2"},null,{"$f":"Equipes!$D$9","v":"St NICOLAS"},{"$f":"IF(C21=\"\",\"\",IF(C21=\"F\",\"G\",IF(C21=\"G\",\"F\",IF(C21=\"B\",\"GB\",IF(C21=\"GB\",\"B\",24-C21)))))","v":""}]
[null,"2°tour",null,"le 11/12/2021"]
[null,{"$f":"Equipes!$D$6","v":"LONGWY"},null,{"$f":"Equipes!$D$8","v":"LANEUVEVILLE 2"},{"$f":"IF(C23=\"\",\"\",IF(C23=\"F\",\"G\",IF(C23=\"G\",\"F\",IF(C23=\"B\",\"GB\",IF(C23=\"GB\",\"B\",24-C23)))))","v":""},{"$f":"F8","v":"2023-08-27"},"St NICOLAS",null,"Classement",null,"Pts","G","N","P","F/B","+","-","GA"]
[null,{"$f":"Equipes!$D$7","v":"GARI LUNEVILLE 2"},null,{"$f":"Equipes!$D$9","v":"St NICOLAS"},{"$f":"IF(C24=\"\",\"\",IF(C24=\"F\",\"G\",IF(C24=\"G\",\"F\",IF(C24=\"B\",\"GB\",IF(C24=\"GB\",\"B\",24-C24)))))","v":""},null,null,null,1,"LONGWY",0,0,0,0,0,0,0,0]
[null,"3°tour",null,"le 4/12/2021",null,null,null,null,2,"GARI LUNEVILLE 2",0,0,0,0,0,0,0,0]
[null,{"$f":"Equipes!$D$6","v":"LONGWY"},null,{"$f":"Equipes!$D$9","v":"St NICOLAS"},{"$f":"IF(C26=\"\",\"\",IF(C26=\"F\",\"G\",IF(C26=\"G\",\"F\",IF(C26=\"B\",\"GB\",IF(C26=\"GB\",\"B\",24-C26)))))","v":""},{"$f":"F11","v":"2023-09-23"},"LONGWY",null,3,"LANEUVEVILLE 2",0,0,0,0,0,0,0,0]
[null,{"$f":"Equipes!$D$8","v":"LANEUVEVILLE 2"},null,{"$f":"Equipes!$D$7","v":"GARI LUNEVILLE 2"},{"$f":"IF(C27=\"\",\"\",IF(C27=\"F\",\"G\",IF(C27=\"G\",\"F\",IF(C27=\"B\",\"GB\",IF(C27=\"GB\",\"B\",24-C27)))))","v":""},null,null,null,4,"St NICOLAS",0,0,0,0,0,0,0,0]

{"sheet":"Equipes","index":1,"n_rows":9,"n_cols":4,"rows_kept":9,"cut":false,"hidden":false,"merged":[[0,0,2,5],[8,1,8,2],[7,1,7,2],[8,3,8,4],[7,3,7,4],[4,1,4,2],[4,3,4,4],[6,1,6,2],[5,1,5,2],[6,3,6,4],[5,3,5,4]]}
["EQUIPES PAR DIVISION\nCDC PROVENCAL 2023"]
[]
[]
[]
[null,"DIV 1 ",null,"DIV 2"]
[null,"ANP",null,"LONGWY"]
[null,"HUSSIGNY",null,"GARI LUNEVILLE 2"]
[null,"PAGNY",null,"LANEUVEVILLE 2"]
[null,"BRIEY",null,"St NICOLAS"]