{"text_format":"1","workbook":"xlsx","n_sheets":11,"sheets":["DIV_1-A","DIV_1-B","DIV_2-A","DIV_2-B","DIV_3-A","DIV_3-B","DIV_4-A","DIV_4-B","DIV_5-A","DIV_5-B","Equipes"],"not_rendered":{"charts":0,"images":3,"macros":1,"external_links":0,"defined_names":11,"comments":0,"pivot_tables":0},"unopened":[],"bounds":{"document_bytes":16777216,"sheet_cells":100000,"rows_first":2000,"rows_last":500,"rows_between":2000,"halvings":0,"cell_chars":16384,"cell_head_chars":4096},"cells_cut":0,"cells_raw":0,"read":"whole","date_system":"1900"}

{"sheet":"DIV_1-A","index":0,"n_rows":38,"n_cols":18,"rows_kept":38,"cut":false,"hidden":false,"merged":[[14,5,17,5],[18,3,18,6],[19,5,22,5],[3,9,12,12],[15,9,26,12],[23,3,23,6],[24,5,27,5],[2,2,2,6],[4,5,7,5],[8,3,8,6],[9,5,12,5],[13,3,13,6],[28,3,28,6],[33,3,33,6],[29,5,32,5],[29,8,29,9],[34,5,37,5]]}
[{"$f":"Equipes!$A$6","v":"PAGNY 2"}]
[{"$f":"Equipes!$A$7","v":"LANEUVEVILLE 1"}]
[{"$f":"Equipes!$A$8","v":"NEUVES MAISONS 1"},"1°tour"]
[{"$f":"Equipes!$A$9","v":"DOMBASLE 1"},"Club","score","Club","score","Date","Lieu",null,null,"CDC 2023 \nDIVISION 1 \nGROUPE A"]
[{"$f":"Equipes!$A$10","v":"PONT A MOUSSON 2"},{"$f":"Equipes!$A$6","v":"PAGNY 2"},20,{"$f":"Equipes!$A$7","v":"LANEUVEVILLE 1"},{"$f":"IF(C5=\"\",\"\",IF(C5=\"F\",\"G\",IF(C5=\"G\",\"F\",IF(C5=\"B\",\"GB\",IF(C5=\"GB\",\"B\",36-C5)))))","v":16},"2023-03-18","PAGNY "]
[{"$f":"Equipes!$A$11","v":"VILLERS 1"},{"$f":"Equipes!$A$8","v":"NEUVES MAISONS 1"},10,{"$f":"Equipes!$A$9","v":"DOMBASLE 1"},{"$f":"IF(C6=\"\",\"\",IF(C6=\"F\",\"G\",IF(C6=\"G\",\"F\",IF(C6=\"B\",\"GB\",IF(C6=\"GB\",\"B\",36-C6)))))","v":26},null,"St NICOLAS "]
[{"$f":"Equipes!$A$12","v":"BOUXIERES 2"},{"$f":"Equipes!$A$10","v":"PONT A MOUSSON 2"},16,{"$f":"Equipes!$A$11","v":"VILLERS 1"},{"$f":"IF(C7=\"\",\"\",IF(C7=\"F\",\"G\",IF(C7=\"G\",\"F\",IF(C7=\"B\",\"GB\",IF(C7=\"GB\",\"B\",36-C7)))))","v":20},null,"ASPTT "]
[{"$f":"Equipes!$A$13","v":"AP LUNEVILLE 1"},{"$f":"Equipes!$A$12","v":"BOUXIERES 2"},8,{"$f":"Equipes!$A$13","v":"AP LUNEVILLE 1"},{"$f":"IF(C8=\"\",\"\",IF(C8=\"F\",\"G\",IF(C8=\"G\",\"F\",IF(C8=\"B\",\"GB\",IF(C8=\"GB\",\"B\",36-C8)))))","v":28},null,"St NICOLAS  "]
[null,"2°tour",null,"2023-06-27"]
[null,{"$f":"Equipes!$A$6","v":"PAGNY 2"},10,{"$f":"Equipes!$A$13","v":"AP LUNEVILLE 1"},{"$f":"IF(C10=\"\",\"\",IF(C10=\"F\",\"G\",IF(C10=\"G\",\"F\",IF(C10=\"B\",\"GB\",IF(C10=\"GB\",\"B\",36-C10)))))","v":26},"2023-06-24","VILLERS"]
[null,{"$f":"Equipes!$A$8","v":"NEUVES MAISONS 1"},16,{"$f":"Equipes!$A$11","v":"VILLERS 1"},{"$f":"IF(C11=\"\",\"\",IF(C11=\"F\",\"G\",IF(C11=\"G\",\"F\",IF(C11=\"B\",\"GB\",IF(C11=\"GB\",\"B\",36-C11)))))","v":20},null,"VILLERS"]
[null,{"$f":"Equipes!$A$10","v":"PONT A MOUSSON 2"},28,{"$f":"Equipes!$A$12","v":"BOUXIERES 2"},{"$f":"IF(C12=\"\",\"\",IF(C12=\"F\",\"G\",IF(C12=\"G\",\"F\",IF(C12=\"B\",\"GB\",IF(C12=\"GB\",\"B\",36-C12)))))","v":8},null,"CHAMPEY"]
[null,{"$f":"Equipes!$A$9","v":"DOMBASLE 1"},30,{"$f":"Equipes!$A$7","v":"LANEUVEVILLE 1"},{"$f":"IF(C13=\"\",\"\",IF(C13=\"F\",\"G\",IF(C13=\"G\",\"F\",IF(C13=\"B\",\"GB\",IF(C13=\"GB\",\"B\",36-C13)))))","v":6},null,"ESSEY"]
[null,"3°tour",null,"2023-06-27"]
[null,{"$f":"Equipes!$A$6","v":"PAGNY 2"},12,{"$f":"Equipes!$A$11","v":"VILLERS 1"},{"$f":"IF(C15=\"\",\"\",IF(C15=\"F\",\"G\",IF(C15=\"G\",\"F\",IF(C15=\"B\",\"GB\",IF(C15=\"GB\",\"B\",36-C15)))))","v":24},"2023-09-09","BOUXIERES"]
[null,{"$f":"Equipes!$A$8","v":"NEUVES MAISONS 1"},10,{"$f":"Equipes!$A$13","v":"AP LUNEVILLE 1"},{"$f":"IF(C16=\"\",\"\",IF(C16=\"F\",\"G\",IF(C16=\"G\",\"F\",IF(C16=\"B\",\"GB\",IF(C16=\"GB\",\"B\",36-C16)))))","v":26},null,"AP Ste MARIE"]
[null,{"$f":"Equipes!$A$9","v":"DOMBASLE 1"},16,{"$f":"Equipes!$A$12","v":"BOUXIERES 2"},{"$f":"IF(C17=\"\",\"\",IF(C17=\"F\",\"G\",IF(C17=\"G\",\"F\",IF(C17=\"B\",\"GB\",IF(C17=\"GB\",\"B\",36-C17)))))","v":20},null,"BOUXIERES"]
[null,{"$f":"Equipes!$A$10","v":"PONT A MOUSSON 2"},12,{"$f":"Equipes!$A$7","v":"LANEUVEVILLE 1"},{"$f":"IF(C18=\"\",\"\",IF(C18=\"F\",\"G\",IF(C18=\"G\",\"F\",IF(C18=\"B\",\"GB\",IF(C18=\"GB\",\"B\",36-C18)))))","v":24},null,"DIEULOUARD"]
[null,"4°tour",null,"2023-06-27"]
[null,{"$f":"Equipes!$A$6","v":"PAGNY 2"},22,{"$f":"Equipes!$A$8","v":"NEUVES MAISONS 1"},{"$f":"IF(C20=\"\",\"\",IF(C20=\"F\",\"G\",IF(C20=\"G\",\"F\",IF(C20=\"B\",\"GB\",IF(C20=\"GB\",\"B\",36-C20)))))","v":14},"2023-09-16","NEUVES MAISONS"]
[null,{"$f":"Equipes!$A$9","v":"DOMBASLE 1"},10,{"$f":"Equipes!$A$10","v":"PONT A MOUSSON 2"},{"$f":"IF(C21=\"\",\"\",IF(C21=\"F\",\"G\",IF(C21=\"G\",\"F\",IF(C21=\"B\",\"GB\",IF(C21=\"GB\",\"B\",36-C21)))))","v":26},null,"DOMBASLE"]
[null,{"$f":"Equipes!$A$12","v":"BOUXIERES 2"},14,{"$f":"Equipes!$A$7","v":"LANEUVEVILLE 1"},{"$f":"IF(C22=\"\",\"\",IF(C22=\"F\",\"G\",IF(C22=\"G\",\"F\",IF(C22=\"B\",\"GB\",IF(C22=\"GB\",\"B\",36-C22)))))","v":22},null,"LANEUVEVILLE"]
[null,{"$f":"Equipes!$A$11","v":"VILLERS 1"},28,{"$f":"Equipes!$A$13","v":"AP LUNEVILLE 1"},{"$f":"IF(C23=\"\",\"\",IF(C23=\"F\",\"G\",IF(C23=\"G\",\"F\",IF(C23=\"B\",\"GB\",IF(C23=\"GB\",\"B\",36-C23)))))","v":8},null,"NEUVES MAISONS"]
[null,"5°tour",null,"2023-06-27"]
[null,{"$f":"Equipes!$A$6","v":"PAGNY 2"},16,{"$f":"Equipes!$A$9","v":"DOMBASLE 1"},{"$f":"IF(C25=\"\",\"\",IF(C25=\"F\",\"G\",IF(C25=\"G\",\"F\",IF(C25=\"B\",\"GB\",IF(C25=\"GB\",\"B\",36-C25)))))","v":20},"2023-09-30","ANP"]
[null,{"$f":"Equipes!$A$8","v":"NEUVES MAISONS 1"},24,{"$f":"Equipes!$A$10","v":"PONT A MOUSSON 2"},{"$f":"IF(C26=\"\",\"\",IF(C26=\"F\",\"G\",IF(C26=\"G\",\"F\",IF(C26=\"B\",\"GB\",IF(C26=\"GB\",\"B\",36-C26)))))","v":12},null,"LIVERDUN"]
[null,{"$f":"Equipes!$A$7","v":"LANEUVEVILLE 1"},14,{"$f":"Equipes!$A$13","v":"AP LUNEVILLE 1"},{"$f":"IF(C27=\"\",\"\",IF(C27=\"F\",\"G\",IF(C27=\"G\",\"F\",IF(C27=\"B\",\"GB\",IF(C27=\"GB\",\"B\",36-C27)))))","v":22},null,"JARVILLE"]
[null,{"$f":"Equipes!$A$12","v":"BOUXIERES 2"},12,{"$f":"Equipes!$A$11","v":"VILLERS 1"},{"$f":"IF(C28=\"\",\"\",IF(C28=\"F\",\"G\",IF(C28=\"G\",\"F\",IF(C28=\"B\",\"GB\",IF(C28=\"GB\",\"B\",36-C28)))))","v":24},null,"LIVERDUN"]
[null,"6°tour",null,"2023-06-27"]
[null,{"$f":"Equipes!$A$6","v":"PAGNY 2"},null,{"$f":"Equipes!$A$10","v":"PONT A MOUSSON 2"},{"$f":"IF(C30=\"\",\"\",IF(C30=\"F\",\"G\",IF(C30=\"G\",\"F\",IF(C30=\"B\",\"GB\",IF(C30=\"GB\",\"B\",36-C30)))))","v":""},"2023-10-07","PAGNY",null,"Classement",null,"Pts","G","N","P","F/B","+","-","GA"]
[null,{"$f":"Equipes!$A$8","v":"NEUVES MAISONS 1"},null,{"$f":"Equipes!$A$12","v":"BOUXIERES 2"},{"$f":"IF(C31=\"\",\"\",IF(C31=\"F\",\"G\",IF(C31=\"G\",\"F\",IF(C31=\"B\",\"GB\",IF(C31=\"GB\",\"B\",36-C31)))))","v":""},null,"CHAMPIGNEULLES",null,1,"VILLERS 1",15,5,0,0,0,116,64,52]
[null,{"$f":"Equipes!$A$9","v":"DOMBASLE 1"},null,{"$f":"Equipes!$A$13","v":"AP LUNEVILLE 1"},{"$f":"IF(C32=\"\",\"\",IF(C32=\"F\",\"G\",IF(C32=\"G\",\"F\",IF(C32=\"B\",\"GB\",IF(C32=\"GB\",\"B\",36-C32)))))","v":""},null,"SOMMERVILLER",null,2,"AP LUNEVILLE 1",13,4,0,1,0,110,70,40]
[null,{"$f":"Equipes!$A$7","v":"LANEUVEVILLE 1"},null,{"$f":"Equipes!$A$11","v":"VILLERS 1"},{"$f":"IF(C33=\"\",\"\",IF(C33=\"F\",\"G\",IF(C33=\"G\",\"F\",IF(C33=\"B\",\"GB\",IF(C33=\"GB\",\"B\",36-C33)))))","v":""},null,"PAGNY",null,3,"DOMBASLE 1",11,3,0,2,0,102,78,24]
[null,"7°tour",null,"2023-06-27",null,null,null,null,4,"PONT A MOUSSON 2",9,2,0,3,0,94,86,8]
[null,{"$f":"Equipes!$A$6","v":"PAGNY 2"},null,{"$f":"Equipes!$A$12","v":"BOUXIERES 2"},{"$f":"IF(C35=\"\",\"\",IF(C35=\"F\",\"G\",IF(C35=\"G\",\"F\",IF(C35=\"B\",\"GB\",IF(C35=\"GB\",\"B\",36-C35)))))","v":""},"2023-10-14","PONT A MOUSSON",null,5,"LANEUVEVILLE 1",9,2,0,3,0,82,98,-16]
[null,{"$f":"Equipes!$A$8","v":"NEUVES MAISONS 1"},null,{"$f":"Equipes!$A$7","v":"LANEUVEVILLE 1"},{"$f":"IF(C36=\"\",\"\",IF(C36=\"F\",\"G\",IF(C36=\"G\",\"F\",IF(C36=\"B\",\"GB\",IF(C36=\"GB\",\"B\",36-C36)))))","v":""},null,"LANEUVEVILLE",null,6,"PAGNY 2",9,2,0,3,0,80,100,-20]
[null,{"$f":"Equipes!$A$9","v":"DOMBASLE 1"},null,{"$f":"Equipes!$A$11","v":"VILLERS 1"},{"$f":"IF(C37=\"\",\"\",IF(C37=\"F\",\"G\",IF(C37=\"G\",\"F\",IF(C37=\"B\",\"GB\",IF(C37=\"GB\",\"B\",36-C37)))))","v":""},null,"ESSEY",null,7,"NEUVES MAISONS 1",7,1,0,4,0,74,106,-32]
[null,{"$f":"Equipes!$A$10","v":"PONT A MOUSSON 2"},null,{"$f":"Equipes!$A$13","v":"AP LUNEVILLE 1"},{"$f":"IF(C38=\"\",\"\",IF(C38=\"F\",\"G\",IF(C38=\"G\",\"F\",IF(C38=\"B\",\"GB\",IF(C38=\"GB\",\"B\",36-C38)))))","v":""},null,"PONT A MOUSSON",null,8,"BOUXIERES 2",7,1,0,4,0,62,118,-56]

{"sheet":"DIV_1-B","index":1,"n_rows":38,"n_cols":18,"rows_kept":38,"cut":false,"hidden":false,"merged":[[28,3,28,6],[29,5,32,5],[29,8,29,9],[34,5,37,5],[14,5,17,5],[15,9,26,12],[18,3,18,6],[19,5,22,5],[23,3,23,6],[24,5,27,5],[33,3,33,6],[13,3,13,6],[2,2,2,6],[3,9,12,12],[4,5,7,5],[8,3,8,6],[9,5,12,5]]}
[{"$f":"Equipes!$C$6","v":"PAGNY 1"}]
[{"$f":"Equipes!$C$7","v":"LIVERDUN 1"}]
[{"$f":"Equipes!$C$8","v":"ST CHARLES 1"},"1°tour"]
[{"$f":"Equipes!$C$9","v":"NEUVES MAISONS 2"},"Club","score","Club","score","Date","Lieu",null,null,"CDC 2023 \nDIVISION 1 \nGROUPE B"]
[{"$f":"Equipes!$C$10","v":"ASPTT 1"},{"$f":"Equipes!$C$6","v":"PAGNY 1"},20,{"$f":"Equipes!$C$7","v":"LIVERDUN 1"},{"$f":"IF(C5=\"\",\"\",IF(C5=\"F\",\"G\",IF(C5=\"G\",\"F\",IF(C5=\"B\",\"GB\",IF(C5=\"GB\",\"B\",36-C5)))))","v":16},"2023-03-18","PAGNY"]
[{"$f":"Equipes!$C$11","v":"LONGWY 1"},{"$f":"Equipes!$C$8","v":"ST CHARLES 1"},2,{"$f":"Equipes!$C$9","v":"NEUVES MAISONS 2"},{"$f":"IF(C6=\"\",\"\",IF(C6=\"F\",\"G\",IF(C6=\"G\",\"F\",IF(C6=\"B\",\"GB\",IF(C6=\"GB\",\"B\",36-C6)))))","v":34},null,"St CHARLES"]
[{"$f":"Equipes!$C$12","v":"MANCIEULLES 1"},{"$f":"Equipes!$C$10","v":"ASPTT 1"},24,{"$f":"Equipes!$C$11","v":"LONGWY 1"},{"$f":"IF(C7=\"\",\"\",IF(C7=\"F\",\"G\",IF(C7=\"G\",\"F\",IF(C7=\"B\",\"GB\",IF(C7=\"GB\",\"B\",36-C7)))))","v":12},null,"ASPTT"]
[{"$f":"Equipes!$C$13","v":"BATILLY "},{"$f":"Equipes!$C$12","v":"MANCIEULLES 1"},20,{"$f":"Equipes!$C$13","v":"BATILLY "},{"$f":"IF(C8=\"\",\"\",IF(C8=\"F\",\"G\",IF(C8=\"G\",\"F\",IF(C8=\"B\",\"GB\",IF(C8=\"GB\",\"B\",36-C8)))))","v":16},null,"MANCIEULLES"]
[null,"2°tour",null,"le 11/12/2021"]
[null,{"$f":"Equipes!$C$6","v":"PAGNY 1"},8,{"$f":"Equipes!$C$13","v":"BATILLY "},{"$f":"IF(C10=\"\",\"\",IF(C10=\"F\",\"G\",IF(C10=\"G\",\"F\",IF(C10=\"B\",\"GB\",IF(C10=\"GB\",\"B\",36-C10)))))","v":28},"2023-06-24","BATILLY"]
[null,{"$f":"Equipes!$C$8","v":"ST CHARLES 1"},10,{"$f":"Equipes!$C$11","v":"LONGWY 1"},{"$f":"IF(C11=\"\",\"\",IF(C11=\"F\",\"G\",IF(C11=\"G\",\"F\",IF(C11=\"B\",\"GB\",IF(C11=\"GB\",\"B\",36-C11)))))","v":26},null,"REHON"]
[null,{"$f":"Equipes!$C$10","v":"ASPTT 1"},14,{"$f":"Equipes!$C$12","v":"MANCIEULLES 1"},{"$f":"IF(C12=\"\",\"\",IF(C12=\"F\",\"G\",IF(C12=\"G\",\"F\",IF(C12=\"B\",\"GB\",IF(C12=\"GB\",\"B\",36-C12)))))","v":22},null,"CHAMPEY"]
[null,{"$f":"Equipes!$C$9","v":"NEUVES MAISONS 2"},24,{"$f":"Equipes!$C$7","v":"LIVERDUN 1"},{"$f":"IF(C13=\"\",\"\",IF(C13=\"F\",\"G\",IF(C13=\"G\",\"F\",IF(C13=\"B\",\"GB\",IF(C13=\"GB\",\"B\",36-C13)))))","v":12},null,"VILLERS"]
[null,"3°tour",null,"le 4/12/2021"]
[null,{"$f":"Equipes!$C$6","v":"PAGNY 1"},26,{"$f":"Equipes!$C$11","v":"LONGWY 1"},{"$f":"IF(C15=\"\",\"\",IF(C15=\"F\",\"G\",IF(C15=\"G\",\"F\",IF(C15=\"B\",\"GB\",IF(C15=\"GB\",\"B\",36-C15)))))","v":10},"2023-09-09","LONGWY"]
[null,{"$f":"Equipes!$C$8","v":"ST CHARLES 1"},2,{"$f":"Equipes!$C$13","v":"BATILLY "},{"$f":"IF(C16=\"\",\"\",IF(C16=\"F\",\"G\",IF(C16=\"G\",\"F\",IF(C16=\"B\",\"GB\",IF(C16=\"GB\",\"B\",36-C16)))))","v":34},null,"AUBOUÉ"]
[null,{"$f":"Equipes!$C$9","v":"NEUVES MAISONS 2"},18,{"$f":"Equipes!$C$12","v":"MANCIEULLES 1"},{"$f":"IF(C17=\"\",\"\",IF(C17=\"F\",\"G\",IF(C17=\"G\",\"F\",IF(C17=\"B\",\"GB\",IF(C17=\"GB\",\"B\",36-C17)))))","v":18},null,"AUBOUÉ"]
[null,{"$f":"Equipes!$C$10","v":"ASPTT 1"},8,{"$f":"Equipes!$C$7","v":"LIVERDUN 1"},{"$f":"IF(C18=\"\",\"\",IF(C18=\"F\",\"G\",IF(C18=\"G\",\"F\",IF(C18=\"B\",\"GB\",IF(C18=\"GB\",\"B\",36-C18)))))","v":28},null,"BOUXIERES"]
[null,"4°tour",null,"le 15/01/2022"]
[null,{"$f":"Equipes!$C$6","v":"PAGNY 1"},28,{"$f":"Equipes!$C$8","v":"ST CHARLES 1"},{"$f":"IF(C20=\"\",\"\",IF(C20=\"F\",\"G\",IF(C20=\"G\",\"F\",IF(C20=\"B\",\"GB\",IF(C20=\"GB\",\"B\",36-C20)))))","v":8},"2023-09-16","BRIEY"]
[null,{"$f":"Equipes!$C$9","v":"NEUVES MAISONS 2"},22,{"$f":"Equipes!$C$10","v":"ASPTT 1"},{"$f":"IF(C21=\"\",\"\",IF(C21=\"F\",\"G\",IF(C21=\"G\",\"F\",IF(C21=\"B\",\"GB\",IF(C21=\"GB\",\"B\",36-C21)))))","v":14},null,"NEUVES MAISONS"]
[null,{"$f":"Equipes!$C$12","v":"MANCIEULLES 1"},32,{"$f":"Equipes!$C$7","v":"LIVERDUN 1"},{"$f":"IF(C22=\"\",\"\",IF(C22=\"F\",\"G\",IF(C22=\"G\",\"F\",IF(C22=\"B\",\"GB\",IF(C22=\"GB\",\"B\",36-C22)))))","v":4},null,"BRIEY"]
[null,{"$f":"Equipes!$C$11","v":"LONGWY 1"},18,{"$f":"Equipes!$C$13","v":"BATILLY "},{"$f":"IF(C23=\"\",\"\",IF(C23=\"F\",\"G\",IF(C23=\"G\",\"F\",IF(C23=\"B\",\"GB\",IF(C23=\"GB\",\"B\",36-C23)))))","v":18},null,"MONT St MARTIN"]
[null,"5°tour",null,"le 22/01/2022"]
[null,{"$f":"Equipes!$C$6","v":"PAGNY 1"},22,{"$f":"Equipes!$C$9","v":"NEUVES MAISONS 2"},{"$f":"IF(C25=\"\",\"\",IF(C25=\"F\",\"G\",IF(C25=\"G\",\"F\",IF(C25=\"B\",\"GB\",IF(C25=\"GB\",\"B\",36-C25)))))","v":14},"2023-09-30","LIVERDUN"]
[null,{"$f":"Equipes!$C$8","v":"ST CHARLES 1"},0,{"$f":"Equipes!$C$10","v":"ASPTT 1"},{"$f":"IF(C26=\"\",\"\",IF(C26=\"F\",\"G\",IF(C26=\"G\",\"F\",IF(C26=\"B\",\"GB\",IF(C26=\"GB\",\"B\",36-C26)))))","v":36},null,"St CHARLES"]
[null,{"$f":"Equipes!$C$7","v":"LIVERDUN 1"},10,{"$f":"Equipes!$C$13","v":"BATILLY "},{"$f":"IF(C27=\"\",\"\",IF(C27=\"F\",\"G\",IF(C27=\"G\",\"F\",IF(C27=\"B\",\"GB\",IF(C27=\"GB\",\"B\",36-C27)))))","v":26},null,"LIVERDUN"]
[null,{"$f":"Equipes!$C$12","v":"MANCIEULLES 1"},12,{"$f":"Equipes!$C$11","v":"LONGWY 1"},{"$f":"IF(C28=\"\",\"\",IF(C28=\"F\",\"G\",IF(C28=\"G\",\"F\",IF(C28=\"B\",\"GB\",IF(C28=\"GB\",\"B\",36-C28)))))","v":24},null,"St CHARLES"]
[null,"6°tour",null,"2023-06-27"]
[null,{"$f":"Equipes!$C$6","v":"PAGNY 1"},null,{"$f":"Equipes!$C$10","v":"ASPTT 1"},{"$f":"IF(C30=\"\",\"\",IF(C30=\"F\",\"G\",IF(C30=\"G\",\"F\",IF(C30=\"B\",\"GB\",IF(C30=\"GB\",\"B\",36-C30)))))","v":""},"2023-10-07","PAGNY",null,"Classement",null,"Pts","G","N","P","F/B","+","-","GA"]
[null,{"$f":"Equipes!$C$8","v":"ST CHARLES 1"},null,{"$f":"Equipes!$C$12","v":"MANCIEULLES 1"},{"$f":"IF(C31=\"\",\"\",IF(C31=\"F\",\"G\",IF(C31=\"G\",\"F\",IF(C31=\"B\",\"GB\",IF(C31=\"GB\",\"B\",36-C31)))))","v":""},null,"MONT St MARTIN",null,1,"PAGNY 1",13,4,0,1,0,104,76,28]
[null,{"$f":"Equipes!$C$9","v":"NEUVES MAISONS 2"},null,{"$f":"Equipes!$C$13","v":"BATILLY "},{"$f":"IF(C32=\"\",\"\",IF(C32=\"F\",\"G\",IF(C32=\"G\",\"F\",IF(C32=\"B\",\"GB\",IF(C32=\"GB\",\"B\",36-C32)))))","v":""},null,"CHAMPIGNEULLES",null,2,"BATILLY ",12,3,1,1,0,122,58,64]
[null,{"$f":"Equipes!$C$7","v":"LIVERDUN 1"},null,{"$f":"Equipes!$C$11","v":"LONGWY 1"},{"$f":"IF(C33=\"\",\"\",IF(C33=\"F\",\"G\",IF(C33=\"G\",\"F\",IF(C33=\"B\",\"GB\",IF(C33=\"GB\",\"B\",36-C33)))))","v":""},null,"PAGNY",null,3,"NEUVES MAISONS 2",12,3,1,1,0,112,68,44]
[null,"7°tour",null,"2023-06-27",null,null,null,null,4,"MANCIEULLES 1",12,3,1,1,0,104,76,28]
[null,{"$f":"Equipes!$C$6","v":"PAGNY 1"},null,{"$f":"Equipes!$C$12","v":"MANCIEULLES 1"},{"$f":"IF(C35=\"\",\"\",IF(C35=\"F\",\"G\",IF(C35=\"G\",\"F\",IF(C35=\"B\",\"GB\",IF(C35=\"GB\",\"B\",36-C35)))))","v":""},"2023-10-14","PONT A MOUSSON",null,5,"LONGWY 1",10,2,1,2,0,90,90,0]
[null,{"$f":"Equipes!$C$8","v":"ST CHARLES 1"},null,{"$f":"Equipes!$C$7","v":"LIVERDUN 1"},{"$f":"IF(C36=\"\",\"\",IF(C36=\"F\",\"G\",IF(C36=\"G\",\"F\",IF(C36=\"B\",\"GB\",IF(C36=\"GB\",\"B\",36-C36)))))","v":""},null,"LIVERDUN",null,6,"ASPTT 1",9,2,0,3,0,96,84,12]
[null,{"$f":"Equipes!$C$9","v":"NEUVES MAISONS 2"},null,{"$f":"Equipes!$C$11","v":"LONGWY 1"},{"$f":"IF(C37=\"\",\"\",IF(C37=\"F\",\"G\",IF(C37=\"G\",\"F\",IF(C37=\"B\",\"GB\",IF(C37=\"GB\",\"B\",36-C37)))))","v":""},null,"LIVERDUN",null,7,"LIVERDUN 1",7,1,0,4,0,70,110,-40]
[null,{"$f":"Equipes!$C$10","v":"ASPTT 1"},null,{"$f":"Equipes!$C$13","v":"BATILLY "},{"$f":"IF(C38=\"\",\"\",IF(C38=\"F\",\"G\",IF(C38=\"G\",\"F\",IF(C38=\"B\",\"GB\",IF(C38=\"GB\",\"B\",36-C38)))))","v":""},null,"LIVERDUN",null,8,"ST CHARLES 1",5,0,0,5,0,22,158,-136]

{"sheet":"DIV_2-A","index":2,"n_rows":38,"n_cols":18,"rows_kept":38,"cut":false,"hidden":false,"merged":[[28,3,28,6],[29,5,32,5],[29,8,29,9],[34,5,37,5],[14,5,17,5],[15,9,26,12],[18,3,18,6],[19,5,22,5],[23,3,23,6],[24,5,27,5],[33,3,33,6],[13,3,13,6],[2,2,2,6],[3,9,12,12],[4,5,7,5],[8,3,8,6],[9,5,12,5]]}
[{"$f":"Equipes!$E$6","v":"GARI LUNEVILLE 2"}]
[{"$f":"Equipes!$E$7","v":"CHAMPIGNEULLES "}]
[{"$f":"Equipes!$E$8","v":"DIEULOUARD 1"},"1°tour"]
[{"$f":"Equipes!$E$9","v":"BACCARAT 1"},"Club","score","Club","score","Date","Lieu",null,null,"CDC 2023 \nDIVISION 2\nGROUPE A"]
[{"$f":"Equipes!$E$10","v":"NEUVES MAISONS 3"},{"$f":"Equipes!$E$6","v":"GARI LUNEVILLE 2"},18,{"$f":"Equipes!$E$7","v":"CHAMPIGNEULLES "},{"$f":"IF(C5=\"\",\"\",IF(C5=\"F\",\"G\",IF(C5=\"G\",\"F\",IF(C5=\"B\",\"GB\",IF(C5=\"GB\",\"B\",36-C5)))))","v":18},"2023-03-18","St NICOLAS"]
[{"$f":"Equipes!$E$11","v":"VILLERS 2"},{"$f":"Equipes!$E$8","v":"DIEULOUARD 1"},24,{"$f":"Equipes!$E$9","v":"BACCARAT 1"},{"$f":"IF(C6=\"\",\"\",IF(C6=\"F\",\"G\",IF(C6=\"G\",\"F\",IF(C6=\"B\",\"GB\",IF(C6=\"GB\",\"B\",36-C6)))))","v":12},null,"ASPTT"]
[{"$f":"Equipes!$E$12","v":"VANDOEUVRE 1"},{"$f":"Equipes!$E$10","v":"NEUVES MAISONS 3"},12,{"$f":"Equipes!$E$11","v":"VILLERS 2"},{"$f":"IF(C7=\"\",\"\",IF(C7=\"F\",\"G\",IF(C7=\"G\",\"F\",IF(C7=\"B\",\"GB\",IF(C7=\"GB\",\"B\",36-C7)))))","v":24},null,"PAGNY"]
[{"$f":"Equipes!$E$13","v":"ST NICOLAS 2"},{"$f":"Equipes!$E$12","v":"VANDOEUVRE 1"},12,{"$f":"Equipes!$E$13","v":"ST NICOLAS 2"},{"$f":"IF(C8=\"\",\"\",IF(C8=\"F\",\"G\",IF(C8=\"G\",\"F\",IF(C8=\"B\",\"GB\",IF(C8=\"GB\",\"B\",36-C8)))))","v":24},null,"St NICOLAS"]
[null,"2°tour",null,"le 11/12/2021"]
[null,{"$f":"Equipes!$E$6","v":"GARI LUNEVILLE 2"},20,{"$f":"Equipes!$E$13","v":"ST NICOLAS 2"},{"$f":"IF(C10=\"\",\"\",IF(C10=\"F\",\"G\",IF(C10=\"G\",\"F\",IF(C10=\"B\",\"GB\",IF(C10=\"GB\",\"B\",36-C10)))))","v":16},"2023-06-24","BACCARAT"]
[null,{"$f":"Equipes!$E$8","v":"DIEULOUARD 1"},14,{"$f":"Equipes!$E$11","v":"VILLERS 2"},{"$f":"IF(C11=\"\",\"\",IF(C11=\"F\",\"G\",IF(C11=\"G\",\"F\",IF(C11=\"B\",\"GB\",IF(C11=\"GB\",\"B\",36-C11)))))","v":22},null,"VILLERS"]
[null,{"$f":"Equipes!$E$10","v":"NEUVES MAISONS 3"},16,{"$f":"Equipes!$E$12","v":"VANDOEUVRE 1"},{"$f":"IF(C12=\"\",\"\",IF(C12=\"F\",\"G\",IF(C12=\"G\",\"F\",IF(C12=\"B\",\"GB\",IF(C12=\"GB\",\"B\",36-C12)))))","v":20},null,"ESSEY"]
[null,{"$f":"Equipes!$E$9","v":"BACCARAT 1"},14,{"$f":"Equipes!$E$7","v":"CHAMPIGNEULLES "},{"$f":"IF(C13=\"\",\"\",IF(C13=\"F\",\"G\",IF(C13=\"G\",\"F\",IF(C13=\"B\",\"GB\",IF(C13=\"GB\",\"B\",36-C13)))))","v":22},null,"BACCARAT"]
[null,"3°tour",null,"le 4/12/2021"]
[null,{"$f":"Equipes!$E$6","v":"GARI LUNEVILLE 2"},34,{"$f":"Equipes!$E$11","v":"VILLERS 2"},{"$f":"IF(C15=\"\",\"\",IF(C15=\"F\",\"G\",IF(C15=\"G\",\"F\",IF(C15=\"B\",\"GB\",IF(C15=\"GB\",\"B\",36-C15)))))","v":2},"2023-09-09","BAINVILLE"]
[null,{"$f":"Equipes!$E$8","v":"DIEULOUARD 1"},20,{"$f":"Equipes!$E$13","v":"ST NICOLAS 2"},{"$f":"IF(C16=\"\",\"\",IF(C16=\"F\",\"G\",IF(C16=\"G\",\"F\",IF(C16=\"B\",\"GB\",IF(C16=\"GB\",\"B\",36-C16)))))","v":16},null,"DIEULOUARD"]
[null,{"$f":"Equipes!$E$9","v":"BACCARAT 1"},26,{"$f":"Equipes!$E$12","v":"VANDOEUVRE 1"},{"$f":"IF(C17=\"\",\"\",IF(C17=\"F\",\"G\",IF(C17=\"G\",\"F\",IF(C17=\"B\",\"GB\",IF(C17=\"GB\",\"B\",36-C17)))))","v":10},null,"BAINVILLE"]
[null,{"$f":"Equipes!$E$10","v":"NEUVES MAISONS 3"},10,{"$f":"Equipes!$E$7","v":"CHAMPIGNEULLES "},{"$f":"IF(C18=\"\",\"\",IF(C18=\"F\",\"G\",IF(C18=\"G\",\"F\",IF(C18=\"B\",\"GB\",IF(C18=\"GB\",\"B\",36-C18)))))","v":26},null,"AP Ste MARIE"]
[null,"4°tour",null,"le 15/01/2022"]
[null,{"$f":"Equipes!$E$6","v":"GARI LUNEVILLE 2"},18,{"$f":"Equipes!$E$8","v":"DIEULOUARD 1"},{"$f":"IF(C20=\"\",\"\",IF(C20=\"F\",\"G\",IF(C20=\"G\",\"F\",IF(C20=\"B\",\"GB\",IF(C20=\"GB\",\"B\",36-C20)))))","v":18},"2023-09-16","DOMBASLE"]
[null,{"$f":"Equipes!$E$9","v":"BACCARAT 1"},28,{"$f":"Equipes!$E$10","v":"NEUVES MAISONS 3"},{"$f":"IF(C21=\"\",\"\",IF(C21=\"F\",\"G\",IF(C21=\"G\",\"F\",IF(C21=\"B\",\"GB\",IF(C21=\"GB\",\"B\",36-C21)))))","v":8},null,"NEUVES MAISONS"]
[null,{"$f":"Equipes!$E$12","v":"VANDOEUVRE 1"},16,{"$f":"Equipes!$E$7","v":"CHAMPIGNEULLES "},{"$f":"IF(C22=\"\",\"\",IF(C22=\"F\",\"G\",IF(C22=\"G\",\"F\",IF(C22=\"B\",\"GB\",IF(C22=\"GB\",\"B\",36-C22)))))","v":20},null,"CHALIGNY"]
[null,{"$f":"Equipes!$E$11","v":"VILLERS 2"},4,{"$f":"Equipes!$E$13","v":"ST NICOLAS 2"},{"$f":"IF(C23=\"\",\"\",IF(C23=\"F\",\"G\",IF(C23=\"G\",\"F\",IF(C23=\"B\",\"GB\",IF(C23=\"GB\",\"B\",36-C23)))))","v":32},null,"NEUVES MAISONS"]
[null,"5°tour",null,"le 22/01/2022"]
[null,{"$f":"Equipes!$E$6","v":"GARI LUNEVILLE 2"},18,{"$f":"Equipes!$E$9","v":"BACCARAT 1"},{"$f":"IF(C25=\"\",\"\",IF(C25=\"F\",\"G\",IF(C25=\"G\",\"F\",IF(C25=\"B\",\"GB\",IF(C25=\"GB\",\"B\",36-C25)))))","v":18},"2023-09-30","ANP"]
[null,{"$f":"Equipes!$E$8","v":"DIEULOUARD 1"},30,{"$f":"Equipes!$E$10","v":"NEUVES MAISONS 3"},{"$f":"IF(C26=\"\",\"\",IF(C26=\"F\",\"G\",IF(C26=\"G\",\"F\",IF(C26=\"B\",\"GB\",IF(C26=\"GB\",\"B\",36-C26)))))","v":6},null,"JARVILLE"]
[null,{"$f":"Equipes!$E$7","v":"CHAMPIGNEULLES "},10,{"$f":"Equipes!$E$13","v":"ST NICOLAS 2"},{"$f":"IF(C27=\"\",\"\",IF(C27=\"F\",\"G\",IF(C27=\"G\",\"F\",IF(C27=\"B\",\"GB\",IF(C27=\"GB\",\"B\",36-C27)))))","v":26},null,"VANDOEUVRE"]
[null,{"$f":"Equipes!$E$12","v":"VANDOEUVRE 1"},22,{"$f":"Equipes!$E$11","v":"VILLERS 2"},{"$f":"IF(C28=\"\",\"\",IF(C28=\"F\",\"G\",IF(C28=\"G\",\"F\",IF(C28=\"B\",\"GB\",IF(C28=\"GB\",\"B\",36-C28)))))","v":14},null,"VANDOEUVRE"]
[null,"6°tour",null,"2023-06-27"]
[null,{"$f":"Equipes!$E$6","v":"GARI LUNEVILLE 2"},null,{"$f":"Equipes!$E$10","v":"NEUVES MAISONS 3"},{"$f":"IF(C30=\"\",\"\",IF(C30=\"F\",\"G\",IF(C30=\"G\",\"F\",IF(C30=\"B\",\"GB\",IF(C30=\"GB\",\"B\",36-C30)))))","v":""},"2023-10-07","SOMMERVILLER",null,"Classement",null,"Pts","G","N","P","F/B","+","-","GA"]
[null,{"$f":"Equipes!$E$8","v":"DIEULOUARD 1"},null,{"$f":"Equipes!$E$12","v":"VANDOEUVRE 1"},{"$f":"IF(C31=\"\",\"\",IF(C31=\"F\",\"G\",IF(C31=\"G\",\"F\",IF(C31=\"B\",\"GB\",IF(C31=\"GB\",\"B\",36-C31)))))","v":""},null,"DIEULOUARD",null,1,"GARI LUNEVILLE 2",12,2,3,0,0,108,72,36]
[null,{"$f":"Equipes!$E$9","v":"BACCARAT 1"},null,{"$f":"Equipes!$E$13","v":"ST NICOLAS 2"},{"$f":"IF(C32=\"\",\"\",IF(C32=\"F\",\"G\",IF(C32=\"G\",\"F\",IF(C32=\"B\",\"GB\",IF(C32=\"GB\",\"B\",36-C32)))))","v":""},null,"SOMMERVILLER",null,2,"DIEULOUARD 1",12,3,1,1,0,106,74,32]
[null,{"$f":"Equipes!$E$7","v":"CHAMPIGNEULLES "},null,{"$f":"Equipes!$E$11","v":"VILLERS 2"},{"$f":"IF(C33=\"\",\"\",IF(C33=\"F\",\"G\",IF(C33=\"G\",\"F\",IF(C33=\"B\",\"GB\",IF(C33=\"GB\",\"B\",36-C33)))))","v":""},null,"CHAMPIGNEULLES",null,3,"CHAMPIGNEULLES ",12,3,1,1,0,96,84,12]
[null,"7°tour",null,"le 12/02/2022",null,null,null,null,4,"ST NICOLAS 2",11,3,0,2,0,114,66,48]
[null,{"$f":"Equipes!$E$6","v":"GARI LUNEVILLE 2"},null,{"$f":"Equipes!$E$12","v":"VANDOEUVRE 1"},{"$f":"IF(C35=\"\",\"\",IF(C35=\"F\",\"G\",IF(C35=\"G\",\"F\",IF(C35=\"B\",\"GB\",IF(C35=\"GB\",\"B\",36-C35)))))","v":""},"2023-10-14","LANEUVEVILLE",null,5,"BACCARAT 1",10,2,1,2,0,98,82,16]
[null,{"$f":"Equipes!$E$8","v":"DIEULOUARD 1"},null,{"$f":"Equipes!$E$7","v":"CHAMPIGNEULLES "},{"$f":"IF(C36=\"\",\"\",IF(C36=\"F\",\"G\",IF(C36=\"G\",\"F\",IF(C36=\"B\",\"GB\",IF(C36=\"GB\",\"B\",36-C36)))))","v":""},null,"ESSEY",null,6,"VANDOEUVRE 1",9,2,0,3,0,80,100,-20]
[null,{"$f":"Equipes!$E$9","v":"BACCARAT 1"},null,{"$f":"Equipes!$E$11","v":"VILLERS 2"},{"$f":"IF(C37=\"\",\"\",IF(C37=\"F\",\"G\",IF(C37=\"G\",\"F\",IF(C37=\"B\",\"GB\",IF(C37=\"GB\",\"B\",36-C37)))))","v":""},null,"LANEUVEVILLE",null,7,"VILLERS 2",9,2,0,3,0,66,114,-48]
[null,{"$f":"Equipes!$E$10","v":"NEUVES MAISONS 3"},null,{"$f":"Equipes!$E$13","v":"ST NICOLAS 2"},{"$f":"IF(C38=\"\",\"\",IF(C38=\"F\",\"G\",IF(C38=\"G\",\"F\",IF(C38=\"B\",\"GB\",IF(C38=\"GB\",\"B\",36-C38)))))","v":""},null,"ESSEY",null,8,"NEUVES MAISONS 3",5,0,0,5,0,52,128,-76]

{"sheet":"DIV_2-B","index":3,"n_rows":38,"n_cols":18,"rows_kept":38,"cut":false,"hidden":false,"merged":[[28,3,28,6],[29,5,32,5],[29,8,29,9],[34,5,37,5],[14,5,17,5],[15,9,26,12],[18,3,18,6],[19,5,22,5],[23,3,23,6],[24,5,27,5],[33,3,33,6],[13,3,13,6],[2,2,2,6],[3,9,12,12],[4,5,7,5],[8,3,8,6],[9,5,12,5]]}
[{"$f":"Equipes!$G$6","v":"ANP 1"}]
[{"$f":"Equipes!$G$7","v":"PONT A MOUSSON 3"}]
[{"$f":"Equipes!$G$8","v":"MONT ST MARTIN 1"},"1°tour"]
[{"$f":"Equipes!$G$9","v":"AP STE MARIE 1"},"Club","score","Club","score","Date","Lieu",null,null,"CDC 2023 \nDIVISION 2\nGROUPE B"]
[{"$f":"Equipes!$G$10","v":"BAINVILLE 2"},{"$f":"Equipes!$G$6","v":"ANP 1"},14,{"$f":"Equipes!$G$7","v":"PONT A MOUSSON 3"},{"$f":"IF(C5=\"\",\"\",IF(C5=\"F\",\"G\",IF(C5=\"G\",\"F\",IF(C5=\"B\",\"GB\",IF(C5=\"GB\",\"B\",36-C5)))))","v":22},"2023-03-18","ASPTT"]
[{"$f":"Equipes!$G$11","v":"BRIEY 1"},{"$f":"Equipes!$G$8","v":"MONT ST MARTIN 1"},22,{"$f":"Equipes!$G$9","v":"AP STE MARIE 1"},{"$f":"IF(C6=\"\",\"\",IF(C6=\"F\",\"G\",IF(C6=\"G\",\"F\",IF(C6=\"B\",\"GB\",IF(C6=\"GB\",\"B\",36-C6)))))","v":14},null,"BEZAUMONT"]
[{"$f":"Equipes!$G$12","v":"MANCIEULLES 2"},{"$f":"Equipes!$G$10","v":"BAINVILLE 2"},16,{"$f":"Equipes!$G$11","v":"BRIEY 1"},{"$f":"IF(C7=\"\",\"\",IF(C7=\"F\",\"G\",IF(C7=\"G\",\"F\",IF(C7=\"B\",\"GB\",IF(C7=\"GB\",\"B\",36-C7)))))","v":20},null,"PAGNY"]
[{"$f":"Equipes!$G$13","v":"JARNY 2"},{"$f":"Equipes!$G$12","v":"MANCIEULLES 2"},24,{"$f":"Equipes!$G$13","v":"JARNY 2"},{"$f":"IF(C8=\"\",\"\",IF(C8=\"F\",\"G\",IF(C8=\"G\",\"F\",IF(C8=\"B\",\"GB\",IF(C8=\"GB\",\"B\",36-C8)))))","v":12},null,"MANCIEULLES"]
[null,"2°tour",null,"le 11/12/2021"]
[null,{"$f":"Equipes!$G$6","v":"ANP 1"},20,{"$f":"Equipes!$G$13","v":"JARNY 2"},{"$f":"IF(C10=\"\",\"\",IF(C10=\"F\",\"G\",IF(C10=\"G\",\"F\",IF(C10=\"B\",\"GB\",IF(C10=\"GB\",\"B\",36-C10)))))","v":16},"2023-06-24","ANP"]
[null,{"$f":"Equipes!$G$8","v":"MONT ST MARTIN 1"},16,{"$f":"Equipes!$G$11","v":"BRIEY 1"},{"$f":"IF(C11=\"\",\"\",IF(C11=\"F\",\"G\",IF(C11=\"G\",\"F\",IF(C11=\"B\",\"GB\",IF(C11=\"GB\",\"B\",36-C11)))))","v":20},null,"REHON"]
[null,{"$f":"Equipes!$G$10","v":"BAINVILLE 2"},22,{"$f":"Equipes!$G$12","v":"MANCIEULLES 2"},{"$f":"IF(C12=\"\",\"\",IF(C12=\"F\",\"G\",IF(C12=\"G\",\"F\",IF(C12=\"B\",\"GB\",IF(C12=\"GB\",\"B\",36-C12)))))","v":14},null,"CHAMPEY"]
[null,{"$f":"Equipes!$G$9","v":"AP STE MARIE 1"},12,{"$f":"Equipes!$G$7","v":"PONT A MOUSSON 3"},{"$f":"IF(C13=\"\",\"\",IF(C13=\"F\",\"G\",IF(C13=\"G\",\"F\",IF(C13=\"B\",\"GB\",IF(C13=\"GB\",\"B\",36-C13)))))","v":24},null,"ESSEY"]
[null,"3°tour",null,"le 4/12/2021"]
[null,{"$f":"Equipes!$G$6","v":"ANP 1"},10,{"$f":"Equipes!$G$11","v":"BRIEY 1"},{"$f":"IF(C15=\"\",\"\",IF(C15=\"F\",\"G\",IF(C15=\"G\",\"F\",IF(C15=\"B\",\"GB\",IF(C15=\"GB\",\"B\",36-C15)))))","v":26},"2023-09-09","BOUXIERES"]
[null,{"$f":"Equipes!$G$8","v":"MONT ST MARTIN 1"},18,{"$f":"Equipes!$G$13","v":"JARNY 2"},{"$f":"IF(C16=\"\",\"\",IF(C16=\"F\",\"G\",IF(C16=\"G\",\"F\",IF(C16=\"B\",\"GB\",IF(C16=\"GB\",\"B\",36-C16)))))","v":18},null,"LONGWY"]
[null,{"$f":"Equipes!$G$9","v":"AP STE MARIE 1"},20,{"$f":"Equipes!$G$12","v":"MANCIEULLES 2"},{"$f":"IF(C17=\"\",\"\",IF(C17=\"F\",\"G\",IF(C17=\"G\",\"F\",IF(C17=\"B\",\"GB\",IF(C17=\"GB\",\"B\",36-C17)))))","v":16},null,"AP Ste MARIE"]
[null,{"$f":"Equipes!$G$10","v":"BAINVILLE 2"},10,{"$f":"Equipes!$G$7","v":"PONT A MOUSSON 3"},{"$f":"IF(C18=\"\",\"\",IF(C18=\"F\",\"G\",IF(C18=\"G\",\"F\",IF(C18=\"B\",\"GB\",IF(C18=\"GB\",\"B\",36-C18)))))","v":26},null,"BAINVILLE"]
[null,"4°tour",null,"le 15/01/2022"]
[null,{"$f":"Equipes!$G$6","v":"ANP 1"},"F",{"$f":"Equipes!$G$8","v":"MONT ST MARTIN 1"},{"$f":"IF(C20=\"\",\"\",IF(C20=\"F\",\"G\",IF(C20=\"G\",\"F\",IF(C20=\"B\",\"GB\",IF(C20=\"GB\",\"B\",36-C20)))))","v":"G"},"2023-09-16","MONT St MARTIN"]
[null,{"$f":"Equipes!$G$9","v":"AP STE MARIE 1"},26,{"$f":"Equipes!$G$10","v":"BAINVILLE 2"},{"$f":"IF(C21=\"\",\"\",IF(C21=\"F\",\"G\",IF(C21=\"G\",\"F\",IF(C21=\"B\",\"GB\",IF(C21=\"GB\",\"B\",36-C21)))))","v":10},null,"CHALIGNY"]
[null,{"$f":"Equipes!$G$12","v":"MANCIEULLES 2"},14,{"$f":"Equipes!$G$7","v":"PONT A MOUSSON 3"},{"$f":"IF(C22=\"\",\"\",IF(C22=\"F\",\"G\",IF(C22=\"G\",\"F\",IF(C22=\"B\",\"GB\",IF(C22=\"GB\",\"B\",36-C22)))))","v":22},null,"BRIEY"]
[null,{"$f":"Equipes!$G$11","v":"BRIEY 1"},30,{"$f":"Equipes!$G$13","v":"JARNY 2"},{"$f":"IF(C23=\"\",\"\",IF(C23=\"F\",\"G\",IF(C23=\"G\",\"F\",IF(C23=\"B\",\"GB\",IF(C23=\"GB\",\"B\",36-C23)))))","v":6},null,"BRIEY"]
[null,"5°tour",null,"le 22/01/2022"]
[null,{"$f":"Equipes!$G$6","v":"ANP 1"},28,{"$f":"Equipes!$G$9","v":"AP STE MARIE 1"},{"$f":"IF(C25=\"\",\"\",IF(C25=\"F\",\"G\",IF(C25=\"G\",\"F\",IF(C25=\"B\",\"GB\",IF(C25=\"GB\",\"B\",36-C25)))))","v":8},"2023-09-30","ANP"]
[null,{"$f":"Equipes!$G$8","v":"MONT ST MARTIN 1"},18,{"$f":"Equipes!$G$10","v":"BAINVILLE 2"},{"$f":"IF(C26=\"\",\"\",IF(C26=\"F\",\"G\",IF(C26=\"G\",\"F\",IF(C26=\"B\",\"GB\",IF(C26=\"GB\",\"B\",36-C26)))))","v":18},null,"JARNY"]
[null,{"$f":"Equipes!$G$7","v":"PONT A MOUSSON 3"},8,{"$f":"Equipes!$G$13","v":"JARNY 2"},{"$f":"IF(C27=\"\",\"\",IF(C27=\"F\",\"G\",IF(C27=\"G\",\"F\",IF(C27=\"B\",\"GB\",IF(C27=\"GB\",\"B\",36-C27)))))","v":28},null,"JARNY"]
[null,{"$f":"Equipes!$G$12","v":"MANCIEULLES 2"},4,{"$f":"Equipes!$G$11","v":"BRIEY 1"},{"$f":"IF(C28=\"\",\"\",IF(C28=\"F\",\"G\",IF(C28=\"G\",\"F\",IF(C28=\"B\",\"GB\",IF(C28=\"GB\",\"B\",36-C28)))))","v":32},null,"JARNY"]
[null,"6°tour",null,"2023-06-27"]
[null,{"$f":"Equipes!$G$6","v":"ANP 1"},null,{"$f":"Equipes!$G$10","v":"BAINVILLE 2"},{"$f":"IF(C30=\"\",\"\",IF(C30=\"F\",\"G\",IF(C30=\"G\",\"F\",IF(C30=\"B\",\"GB\",IF(C30=\"GB\",\"B\",36-C30)))))","v":""},"2023-10-07","CHAMPIGNEULLES",null,"Classement",null,"Pts","G","N","P","F/B","+","-","GA"]
[null,{"$f":"Equipes!$G$8","v":"MONT ST MARTIN 1"},null,{"$f":"Equipes!$G$12","v":"MANCIEULLES 2"},{"$f":"IF(C31=\"\",\"\",IF(C31=\"F\",\"G\",IF(C31=\"G\",\"F\",IF(C31=\"B\",\"GB\",IF(C31=\"GB\",\"B\",36-C31)))))","v":""},null,"MONT St MARTIN",null,1,"BRIEY 1",15,5,0,0,0,128,52,76]
[null,{"$f":"Equipes!$G$9","v":"AP STE MARIE 1"},null,{"$f":"Equipes!$G$13","v":"JARNY 2"},{"$f":"IF(C32=\"\",\"\",IF(C32=\"F\",\"G\",IF(C32=\"G\",\"F\",IF(C32=\"B\",\"GB\",IF(C32=\"GB\",\"B\",36-C32)))))","v":""},null,"PAGNY",null,2,"PONT A MOUSSON 3",13,4,0,1,0,102,78,24]
[null,{"$f":"Equipes!$G$7","v":"PONT A MOUSSON 3"},null,{"$f":"Equipes!$G$11","v":"BRIEY 1"},{"$f":"IF(C33=\"\",\"\",IF(C33=\"F\",\"G\",IF(C33=\"G\",\"F\",IF(C33=\"B\",\"GB\",IF(C33=\"GB\",\"B\",36-C33)))))","v":""},null,"PAGNY",null,3,"MONT ST MARTIN 1",11,2,2,1,0,93,70,23]
[null,"7°tour",null,"le 12/02/2022",null,null,null,null,4,"AP STE MARIE 1",9,2,0,3,0,80,100,-20]
[null,{"$f":"Equipes!$G$6","v":"ANP 1"},null,{"$f":"Equipes!$G$12","v":"MANCIEULLES 2"},{"$f":"IF(C35=\"\",\"\",IF(C35=\"F\",\"G\",IF(C35=\"G\",\"F\",IF(C35=\"B\",\"GB\",IF(C35=\"GB\",\"B\",36-C35)))))","v":""},"2023-10-14","PONT A MOUSSON",null,5,"ANP 1",8,2,0,2,1,72,91,-19]
[null,{"$f":"Equipes!$G$8","v":"MONT ST MARTIN 1"},null,{"$f":"Equipes!$G$7","v":"PONT A MOUSSON 3"},{"$f":"IF(C36=\"\",\"\",IF(C36=\"F\",\"G\",IF(C36=\"G\",\"F\",IF(C36=\"B\",\"GB\",IF(C36=\"GB\",\"B\",36-C36)))))","v":""},null,"PONT A MOUSSON",null,6,"JARNY 2",8,1,1,3,0,80,100,-20]
[null,{"$f":"Equipes!$G$9","v":"AP STE MARIE 1"},null,{"$f":"Equipes!$G$11","v":"BRIEY 1"},{"$f":"IF(C37=\"\",\"\",IF(C37=\"F\",\"G\",IF(C37=\"G\",\"F\",IF(C37=\"B\",\"GB\",IF(C37=\"GB\",\"B\",36-C37)))))","v":""},null,"PONT A MOUSSON",null,7,"BAINVILLE 2",8,1,1,3,0,76,104,-28]
[null,{"$f":"Equipes!$G$10","v":"BAINVILLE 2"},null,{"$f":"Equipes!$G$13","v":"JARNY 2"},{"$f":"IF(C38=\"\",\"\",IF(C38=\"F\",\"G\",IF(C38=\"G\",\"F\",IF(C38=\"B\",\"GB\",IF(C38=\"GB\",\"B\",36-C38)))))","v":""},null,"JARNY",null,8,"MANCIEULLES 2",7,1,0,4,0,72,108,-36]

{"sheet":"DIV_3-A","index":4,"n_rows":38,"n_cols":18,"rows_kept":38,"cut":false,"hidden":false,"merged":[[28,3,28,6],[29,5,32,5],[29,8,29,9],[34,5,37,5],[14,5,17,5],[15,9,26,12],[18,3,18,6],[19,5,22,5],[23,3,23,6],[24,5,27,5],[33,3,33,6],[13,3,13,6],[2,2,2,6],[3,9,12,12],[4,5,7,5],[8,3,8,6],[9,5,12,5]]}
[{"$f":"Equipes!$I$6","v":"ST NICOLAS 1"}]
[{"$f":"Equipes!$I$7","v":"SOMMERVILLER"}]
[{"$f":"Equipes!$I$8","v":"JARVILLE "},"1°tour"]
[{"$f":"Equipes!$I$9","v":"BAINVILLE 3"},"Club","score","Club","score","Date","Lieu",null,null,"CDC 2023 \nDIVISION 3\nGROUPE A"]
[{"$f":"Equipes!$I$10","v":"LANEUVEVILLE 2"},{"$f":"Equipes!$I$6","v":"ST NICOLAS 1"},32,{"$f":"Equipes!$I$7","v":"SOMMERVILLER"},{"$f":"IF(C5=\"\",\"\",IF(C5=\"F\",\"G\",IF(C5=\"G\",\"F\",IF(C5=\"B\",\"GB\",IF(C5=\"GB\",\"B\",36-C5)))))","v":4},"2023-03-18","St NICOLAS"]
[{"$f":"Equipes!$I$11","v":"ANP 2"},{"$f":"Equipes!$I$8","v":"JARVILLE "},30,{"$f":"Equipes!$I$9","v":"BAINVILLE 3"},{"$f":"IF(C6=\"\",\"\",IF(C6=\"F\",\"G\",IF(C6=\"G\",\"F\",IF(C6=\"B\",\"GB\",IF(C6=\"GB\",\"B\",36-C6)))))","v":6},null,"ASPTT"]
[{"$f":"Equipes!$I$12","v":"PAGNY 3"},{"$f":"Equipes!$I$10","v":"LANEUVEVILLE 2"},32,{"$f":"Equipes!$I$11","v":"ANP 2"},{"$f":"IF(C7=\"\",\"\",IF(C7=\"F\",\"G\",IF(C7=\"G\",\"F\",IF(C7=\"B\",\"GB\",IF(C7=\"GB\",\"B\",36-C7)))))","v":4},null,"ASPTT"]
[{"$f":"Equipes!$I$13","v":"AP STE MARIE 2"},{"$f":"Equipes!$I$12","v":"PAGNY 3"},14,{"$f":"Equipes!$I$13","v":"AP STE MARIE 2"},{"$f":"IF(C8=\"\",\"\",IF(C8=\"F\",\"G\",IF(C8=\"G\",\"F\",IF(C8=\"B\",\"GB\",IF(C8=\"GB\",\"B\",36-C8)))))","v":22},null,"PAGNY"]
[null,"2°tour",null,"le 11/12/2021"]
[null,{"$f":"Equipes!$I$6","v":"ST NICOLAS 1"},18,{"$f":"Equipes!$I$13","v":"AP STE MARIE 2"},{"$f":"IF(C10=\"\",\"\",IF(C10=\"F\",\"G\",IF(C10=\"G\",\"F\",IF(C10=\"B\",\"GB\",IF(C10=\"GB\",\"B\",36-C10)))))","v":18},"2023-06-24","BACCARAT"]
[null,{"$f":"Equipes!$I$8","v":"JARVILLE "},22,{"$f":"Equipes!$I$11","v":"ANP 2"},{"$f":"IF(C11=\"\",\"\",IF(C11=\"F\",\"G\",IF(C11=\"G\",\"F\",IF(C11=\"B\",\"GB\",IF(C11=\"GB\",\"B\",36-C11)))))","v":14},null,"ANP"]
[null,{"$f":"Equipes!$I$10","v":"LANEUVEVILLE 2"},20,{"$f":"Equipes!$I$12","v":"PAGNY 3"},{"$f":"IF(C12=\"\",\"\",IF(C12=\"F\",\"G\",IF(C12=\"G\",\"F\",IF(C12=\"B\",\"GB\",IF(C12=\"GB\",\"B\",36-C12)))))","v":16},null,"ANP"]
[null,{"$f":"Equipes!$I$9","v":"BAINVILLE 3"},6,{"$f":"Equipes!$I$7","v":"SOMMERVILLER"},{"$f":"IF(C13=\"\",\"\",IF(C13=\"F\",\"G\",IF(C13=\"G\",\"F\",IF(C13=\"B\",\"GB\",IF(C13=\"GB\",\"B\",36-C13)))))","v":30},null,"ESSEY"]
[null,"3°tour",null,"le 4/12/2021"]
[null,{"$f":"Equipes!$I$6","v":"ST NICOLAS 1"},30,{"$f":"Equipes!$I$11","v":"ANP 2"},{"$f":"IF(C15=\"\",\"\",IF(C15=\"F\",\"G\",IF(C15=\"G\",\"F\",IF(C15=\"B\",\"GB\",IF(C15=\"GB\",\"B\",36-C15)))))","v":6},"2023-09-09","AP Ste MARIE"]
[null,{"$f":"Equipes!$I$8","v":"JARVILLE "},18,{"$f":"Equipes!$I$13","v":"AP STE MARIE 2"},{"$f":"IF(C16=\"\",\"\",IF(C16=\"F\",\"G\",IF(C16=\"G\",\"F\",IF(C16=\"B\",\"GB\",IF(C16=\"GB\",\"B\",36-C16)))))","v":18},null,"AP Ste MARIE"]
[null,{"$f":"Equipes!$I$9","v":"BAINVILLE 3"},8,{"$f":"Equipes!$I$12","v":"PAGNY 3"},{"$f":"IF(C17=\"\",\"\",IF(C17=\"F\",\"G\",IF(C17=\"G\",\"F\",IF(C17=\"B\",\"GB\",IF(C17=\"GB\",\"B\",36-C17)))))","v":28},null,"BAINVILLE"]
[null,{"$f":"Equipes!$I$10","v":"LANEUVEVILLE 2"},24,{"$f":"Equipes!$I$7","v":"SOMMERVILLER"},{"$f":"IF(C18=\"\",\"\",IF(C18=\"F\",\"G\",IF(C18=\"G\",\"F\",IF(C18=\"B\",\"GB\",IF(C18=\"GB\",\"B\",36-C18)))))","v":12},null,"BAINVILLE"]
[null,"4°tour",null,"le 15/01/2022"]
[null,{"$f":"Equipes!$I$6","v":"ST NICOLAS 1"},24,{"$f":"Equipes!$I$8","v":"JARVILLE "},{"$f":"IF(C20=\"\",\"\",IF(C20=\"F\",\"G\",IF(C20=\"G\",\"F\",IF(C20=\"B\",\"GB\",IF(C20=\"GB\",\"B\",36-C20)))))","v":12},"2023-09-16","CHALIGNY"]
[null,{"$f":"Equipes!$I$9","v":"BAINVILLE 3"},18,{"$f":"Equipes!$I$10","v":"LANEUVEVILLE 2"},{"$f":"IF(C21=\"\",\"\",IF(C21=\"F\",\"G\",IF(C21=\"G\",\"F\",IF(C21=\"B\",\"GB\",IF(C21=\"GB\",\"B\",36-C21)))))","v":18},null,"LANEUVEVILLE"]
[null,{"$f":"Equipes!$I$12","v":"PAGNY 3"},22,{"$f":"Equipes!$I$7","v":"SOMMERVILLER"},{"$f":"IF(C22=\"\",\"\",IF(C22=\"F\",\"G\",IF(C22=\"G\",\"F\",IF(C22=\"B\",\"GB\",IF(C22=\"GB\",\"B\",36-C22)))))","v":14},null,"DOMBASLE"]
[null,{"$f":"Equipes!$I$11","v":"ANP 2"},16,{"$f":"Equipes!$I$13","v":"AP STE MARIE 2"},{"$f":"IF(C23=\"\",\"\",IF(C23=\"F\",\"G\",IF(C23=\"G\",\"F\",IF(C23=\"B\",\"GB\",IF(C23=\"GB\",\"B\",36-C23)))))","v":20},null,"CHALIGNY"]
[null,"5°tour",null,"le 22/01/2022"]
[null,{"$f":"Equipes!$I$6","v":"ST NICOLAS 1"},32,{"$f":"Equipes!$I$9","v":"BAINVILLE 3"},{"$f":"IF(C25=\"\",\"\",IF(C25=\"F\",\"G\",IF(C25=\"G\",\"F\",IF(C25=\"B\",\"GB\",IF(C25=\"GB\",\"B\",36-C25)))))","v":4},"2023-09-30","JARVILLE"]
[null,{"$f":"Equipes!$I$8","v":"JARVILLE "},6,{"$f":"Equipes!$I$10","v":"LANEUVEVILLE 2"},{"$f":"IF(C26=\"\",\"\",IF(C26=\"F\",\"G\",IF(C26=\"G\",\"F\",IF(C26=\"B\",\"GB\",IF(C26=\"GB\",\"B\",36-C26)))))","v":30},null,"JARVILLE"]
[null,{"$f":"Equipes!$I$7","v":"SOMMERVILLER"},24,{"$f":"Equipes!$I$13","v":"AP STE MARIE 2"},{"$f":"IF(C27=\"\",\"\",IF(C27=\"F\",\"G\",IF(C27=\"G\",\"F\",IF(C27=\"B\",\"GB\",IF(C27=\"GB\",\"B\",36-C27)))))","v":12},null,"VANDOEUVRE"]
[null,{"$f":"Equipes!$I$12","v":"PAGNY 3"},28,{"$f":"Equipes!$I$11","v":"ANP 2"},{"$f":"IF(C28=\"\",\"\",IF(C28=\"F\",\"G\",IF(C28=\"G\",\"F\",IF(C28=\"B\",\"GB\",IF(C28=\"GB\",\"B\",36-C28)))))","v":8},null,"ANP"]
[null,"6°tour",null,"2023-06-27"]
[null,{"$f":"Equipes!$I$6","v":"ST NICOLAS 1"},null,{"$f":"Equipes!$I$10","v":"LANEUVEVILLE 2"},{"$f":"IF(C30=\"\",\"\",IF(C30=\"F\",\"G\",IF(C30=\"G\",\"F\",IF(C30=\"B\",\"GB\",IF(C30=\"GB\",\"B\",36-C30)))))","v":""},"2023-10-07","CHAMPIGNEULLES",null,"Classement",null,"Pts","G","N","P","F/B","+","-","GA"]
[null,{"$f":"Equipes!$I$8","v":"JARVILLE "},null,{"$f":"Equipes!$I$12","v":"PAGNY 3"},{"$f":"IF(C31=\"\",\"\",IF(C31=\"F\",\"G\",IF(C31=\"G\",\"F\",IF(C31=\"B\",\"GB\",IF(C31=\"GB\",\"B\",36-C31)))))","v":""},null,"PAGNY",null,1,"ST NICOLAS 1",14,4,1,0,0,136,44,92]
[null,{"$f":"Equipes!$I$9","v":"BAINVILLE 3"},null,{"$f":"Equipes!$I$13","v":"AP STE MARIE 2"},{"$f":"IF(C32=\"\",\"\",IF(C32=\"F\",\"G\",IF(C32=\"G\",\"F\",IF(C32=\"B\",\"GB\",IF(C32=\"GB\",\"B\",36-C32)))))","v":""},null,"CHAMPIGNEULLES",null,2,"LANEUVEVILLE 2",14,4,1,0,0,124,56,68]
[null,{"$f":"Equipes!$I$7","v":"SOMMERVILLER"},null,{"$f":"Equipes!$I$11","v":"ANP 2"},{"$f":"IF(C33=\"\",\"\",IF(C33=\"F\",\"G\",IF(C33=\"G\",\"F\",IF(C33=\"B\",\"GB\",IF(C33=\"GB\",\"B\",36-C33)))))","v":""},null,"SOMMERVILLER",null,3,"PAGNY 3",11,3,0,2,0,108,72,36]
[null,"7°tour",null,"le 12/02/2022",null,null,null,null,4,"AP STE MARIE 2",11,2,2,1,0,90,90,0]
[null,{"$f":"Equipes!$I$6","v":"ST NICOLAS 1"},null,{"$f":"Equipes!$I$12","v":"PAGNY 3"},{"$f":"IF(C35=\"\",\"\",IF(C35=\"F\",\"G\",IF(C35=\"G\",\"F\",IF(C35=\"B\",\"GB\",IF(C35=\"GB\",\"B\",36-C35)))))","v":""},"2023-10-14","PONT A MOUSSON",null,5,"JARVILLE ",10,2,1,2,0,88,92,-4]
[null,{"$f":"Equipes!$I$8","v":"JARVILLE "},null,{"$f":"Equipes!$I$7","v":"SOMMERVILLER"},{"$f":"IF(C36=\"\",\"\",IF(C36=\"F\",\"G\",IF(C36=\"G\",\"F\",IF(C36=\"B\",\"GB\",IF(C36=\"GB\",\"B\",36-C36)))))","v":""},null,"LANEUVEVILLE",null,6,"SOMMERVILLER",9,2,0,3,0,84,96,-12]
[null,{"$f":"Equipes!$I$9","v":"BAINVILLE 3"},null,{"$f":"Equipes!$I$11","v":"ANP 2"},{"$f":"IF(C37=\"\",\"\",IF(C37=\"F\",\"G\",IF(C37=\"G\",\"F\",IF(C37=\"B\",\"GB\",IF(C37=\"GB\",\"B\",36-C37)))))","v":""},null,"ESSEY",null,7,"BAINVILLE 3",6,0,1,4,0,42,138,-96]
[null,{"$f":"Equipes!$I$10","v":"LANEUVEVILLE 2"},null,{"$f":"Equipes!$I$13","v":"AP STE MARIE 2"},{"$f":"IF(C38=\"\",\"\",IF(C38=\"F\",\"G\",IF(C38=\"G\",\"F\",IF(C38=\"B\",\"GB\",IF(C38=\"GB\",\"B\",36-C38)))))","v":""},null,"LANEUVEVILLE",null,8,"ANP 2",5,0,0,5,0,48,132,-84]

{"sheet":"DIV_3-B","index":5,"n_rows":38,"n_cols":18,"rows_kept":38,"cut":false,"hidden":false,"merged":[[28,3,28,6],[29,5,32,5],[29,8,29,9],[34,5,37,5],[14,5,17,5],[15,9,26,12],[18,3,18,6],[19,5,22,5],[23,3,23,6],[24,5,27,5],[33,3,33,6],[13,3,13,6],[2,2,2,6],[3,9,12,12],[4,5,7,5],[8,3,8,6],[9,5,12,5]]}
[{"$f":"Equipes!$A$15","v":"CHAMPEY 1 FG"}]
[{"$f":"Equipes!$A$16","v":"SAULNES 1"}]
[{"$f":"Equipes!$A$17","v":"ESSEY 1"},"1°tour"]
[{"$f":"Equipes!$A$18","v":"REHON 1"},"Club","score","Club","score","Date","Lieu",null,null,"CDC 2023 \nDIVISION 3\nGROUPE B"]
[{"$f":"Equipes!$A$19","v":"MANCIEULLES 3"},{"$f":"Equipes!$A$15","v":"CHAMPEY 1 FG"},null,{"$f":"Equipes!$A$16","v":"SAULNES 1"},{"$f":"IF(C5=\"\",\"\",IF(C5=\"F\",\"G\",IF(C5=\"G\",\"F\",IF(C5=\"B\",\"GB\",IF(C5=\"GB\",\"B\",36-C5)))))","v":""},"2023-03-18","MANCIEULLES"]
[{"$f":"Equipes!$A$20","v":"GARI LUNEVILLE 3"},{"$f":"Equipes!$A$17","v":"ESSEY 1"},20,{"$f":"Equipes!$A$18","v":"REHON 1"},{"$f":"IF(C6=\"\",\"\",IF(C6=\"F\",\"G\",IF(C6=\"G\",\"F\",IF(C6=\"B\",\"GB\",IF(C6=\"GB\",\"B\",36-C6)))))","v":16},null,"MANCIEULLES"]
[{"$f":"Equipes!$A$21","v":"AUBOUE 1"},{"$f":"Equipes!$A$19","v":"MANCIEULLES 3"},14,{"$f":"Equipes!$A$20","v":"GARI LUNEVILLE 3"},{"$f":"IF(C7=\"\",\"\",IF(C7=\"F\",\"G\",IF(C7=\"G\",\"F\",IF(C7=\"B\",\"GB\",IF(C7=\"GB\",\"B\",36-C7)))))","v":22},null,"MANCIEULLES"]
[{"$f":"Equipes!$A$22","v":"MONT ST MARTIN 2"},{"$f":"Equipes!$A$21","v":"AUBOUE 1"},24,{"$f":"Equipes!$A$22","v":"MONT ST MARTIN 2"},{"$f":"IF(C8=\"\",\"\",IF(C8=\"F\",\"G\",IF(C8=\"G\",\"F\",IF(C8=\"B\",\"GB\",IF(C8=\"GB\",\"B\",36-C8)))))","v":12},null,"St CHARLES"]
[null,"2°tour",null,"le 11/12/2021"]
[null,{"$f":"Equipes!$A$15","v":"CHAMPEY 1 FG"},null,{"$f":"Equipes!$A$22","v":"MONT ST MARTIN 2"},{"$f":"IF(C10=\"\",\"\",IF(C10=\"F\",\"G\",IF(C10=\"G\",\"F\",IF(C10=\"B\",\"GB\",IF(C10=\"GB\",\"B\",36-C10)))))","v":""},"2023-06-24","CHAMPEY"]
[null,{"$f":"Equipes!$A$17","v":"ESSEY 1"},30,{"$f":"Equipes!$A$20","v":"GARI LUNEVILLE 3"},{"$f":"IF(C11=\"\",\"\",IF(C11=\"F\",\"G\",IF(C11=\"G\",\"F\",IF(C11=\"B\",\"GB\",IF(C11=\"GB\",\"B\",36-C11)))))","v":6},null,"ESSEY"]
[null,{"$f":"Equipes!$A$19","v":"MANCIEULLES 3"},14,{"$f":"Equipes!$A$21","v":"AUBOUE 1"},{"$f":"IF(C12=\"\",\"\",IF(C12=\"F\",\"G\",IF(C12=\"G\",\"F\",IF(C12=\"B\",\"GB\",IF(C12=\"GB\",\"B\",36-C12)))))","v":22},null,"BATILLY"]
[null,{"$f":"Equipes!$A$18","v":"REHON 1"},8,{"$f":"Equipes!$A$16","v":"SAULNES 1"},{"$f":"IF(C13=\"\",\"\",IF(C13=\"F\",\"G\",IF(C13=\"G\",\"F\",IF(C13=\"B\",\"GB\",IF(C13=\"GB\",\"B\",36-C13)))))","v":28},null,"REHON"]
[null,"3°tour",null,"le 4/12/2021"]
[null,{"$f":"Equipes!$A$15","v":"CHAMPEY 1 FG"},null,{"$f":"Equipes!$A$20","v":"GARI LUNEVILLE 3"},{"$f":"IF(C15=\"\",\"\",IF(C15=\"F\",\"G\",IF(C15=\"G\",\"F\",IF(C15=\"B\",\"GB\",IF(C15=\"GB\",\"B\",36-C15)))))","v":""},"2023-09-09","BOUXIERES"]
[null,{"$f":"Equipes!$A$17","v":"ESSEY 1"},14,{"$f":"Equipes!$A$22","v":"MONT ST MARTIN 2"},{"$f":"IF(C16=\"\",\"\",IF(C16=\"F\",\"G\",IF(C16=\"G\",\"F\",IF(C16=\"B\",\"GB\",IF(C16=\"GB\",\"B\",36-C16)))))","v":22},null,"AUBOUÉ"]
[null,{"$f":"Equipes!$A$18","v":"REHON 1"},28,{"$f":"Equipes!$A$21","v":"AUBOUE 1"},{"$f":"IF(C17=\"\",\"\",IF(C17=\"F\",\"G\",IF(C17=\"G\",\"F\",IF(C17=\"B\",\"GB\",IF(C17=\"GB\",\"B\",36-C17)))))","v":8},null,"AUBOUÉ"]
[null,{"$f":"Equipes!$A$19","v":"MANCIEULLES 3"},22,{"$f":"Equipes!$A$16","v":"SAULNES 1"},{"$f":"IF(C18=\"\",\"\",IF(C18=\"F\",\"G\",IF(C18=\"G\",\"F\",IF(C18=\"B\",\"GB\",IF(C18=\"GB\",\"B\",36-C18)))))","v":14},null,"LONGWY"]
[null,"4°tour",null,"le 15/01/2022"]
[null,{"$f":"Equipes!$A$15","v":"CHAMPEY 1 FG"},null,{"$f":"Equipes!$A$17","v":"ESSEY 1"},{"$f":"IF(C20=\"\",\"\",IF(C20=\"F\",\"G\",IF(C20=\"G\",\"F\",IF(C20=\"B\",\"GB\",IF(C20=\"GB\",\"B\",36-C20)))))","v":""},"2023-09-16","LANEUVEVILLE"]
[null,{"$f":"Equipes!$A$18","v":"REHON 1"},28,{"$f":"Equipes!$A$19","v":"MANCIEULLES 3"},{"$f":"IF(C21=\"\",\"\",IF(C21=\"F\",\"G\",IF(C21=\"G\",\"F\",IF(C21=\"B\",\"GB\",IF(C21=\"GB\",\"B\",36-C21)))))","v":8},null,"MONT St MARTIN"]
[null,{"$f":"Equipes!$A$21","v":"AUBOUE 1"},12,{"$f":"Equipes!$A$16","v":"SAULNES 1"},{"$f":"IF(C22=\"\",\"\",IF(C22=\"F\",\"G\",IF(C22=\"G\",\"F\",IF(C22=\"B\",\"GB\",IF(C22=\"GB\",\"B\",36-C22)))))","v":24},null,"BRIEY"]
[null,{"$f":"Equipes!$A$20","v":"GARI LUNEVILLE 3"},8,{"$f":"Equipes!$A$22","v":"MONT ST MARTIN 2"},{"$f":"IF(C23=\"\",\"\",IF(C23=\"F\",\"G\",IF(C23=\"G\",\"F\",IF(C23=\"B\",\"GB\",IF(C23=\"GB\",\"B\",36-C23)))))","v":28},null,"MONT St MARTIN"]
[null,"5°tour",null,"le 22/01/2022"]
[null,{"$f":"Equipes!$A$15","v":"CHAMPEY 1 FG"},null,{"$f":"Equipes!$A$18","v":"REHON 1"},{"$f":"IF(C25=\"\",\"\",IF(C25=\"F\",\"G\",IF(C25=\"G\",\"F\",IF(C25=\"B\",\"GB\",IF(C25=\"GB\",\"B\",36-C25)))))","v":""},"2023-09-30","JARNY"]
[null,{"$f":"Equipes!$A$17","v":"ESSEY 1"},14,{"$f":"Equipes!$A$19","v":"MANCIEULLES 3"},{"$f":"IF(C26=\"\",\"\",IF(C26=\"F\",\"G\",IF(C26=\"G\",\"F\",IF(C26=\"B\",\"GB\",IF(C26=\"GB\",\"B\",36-C26)))))","v":22},null,"JARNY"]
[null,{"$f":"Equipes!$A$16","v":"SAULNES 1"},24,{"$f":"Equipes!$A$22","v":"MONT ST MARTIN 2"},{"$f":"IF(C27=\"\",\"\",IF(C27=\"F\",\"G\",IF(C27=\"G\",\"F\",IF(C27=\"B\",\"GB\",IF(C27=\"GB\",\"B\",36-C27)))))","v":12},null,"St CHARLES"]
[null,{"$f":"Equipes!$A$21","v":"AUBOUE 1"},6,{"$f":"Equipes!$A$20","v":"GARI LUNEVILLE 3"},{"$f":"IF(C28=\"\",\"\",IF(C28=\"F\",\"G\",IF(C28=\"G\",\"F\",IF(C28=\"B\",\"GB\",IF(C28=\"GB\",\"B\",36-C28)))))","v":30},null,"ANP"]
[null,"6°tour",null,"2023-06-27"]
[null,{"$f":"Equipes!$A$15","v":"CHAMPEY 1 FG"},null,{"$f":"Equipes!$A$19","v":"MANCIEULLES 3"},{"$f":"IF(C30=\"\",\"\",IF(C30=\"F\",\"G\",IF(C30=\"G\",\"F\",IF(C30=\"B\",\"GB\",IF(C30=\"GB\",\"B\",36-C30)))))","v":""},"2023-10-07","DIEULOUARD",null,"Classement",null,"Pts","G","N","P","F/B","+","-","GA"]
[null,{"$f":"Equipes!$A$17","v":"ESSEY 1"},null,{"$f":"Equipes!$A$21","v":"AUBOUE 1"},{"$f":"IF(C31=\"\",\"\",IF(C31=\"F\",\"G\",IF(C31=\"G\",\"F\",IF(C31=\"B\",\"GB\",IF(C31=\"GB\",\"B\",36-C31)))))","v":""},null,"DIEULOUARD",null,1,"SAULNES 1",10,3,0,1,0,90,54,36]
[null,{"$f":"Equipes!$A$18","v":"REHON 1"},null,{"$f":"Equipes!$A$22","v":"MONT ST MARTIN 2"},{"$f":"IF(C32=\"\",\"\",IF(C32=\"F\",\"G\",IF(C32=\"G\",\"F\",IF(C32=\"B\",\"GB\",IF(C32=\"GB\",\"B\",36-C32)))))","v":""},null,"MONT St MARTIN",null,2,"MANCIEULLES 3",9,2,0,3,0,80,100,-20]
[null,{"$f":"Equipes!$A$16","v":"SAULNES 1"},null,{"$f":"Equipes!$A$20","v":"GARI LUNEVILLE 3"},{"$f":"IF(C33=\"\",\"\",IF(C33=\"F\",\"G\",IF(C33=\"G\",\"F\",IF(C33=\"B\",\"GB\",IF(C33=\"GB\",\"B\",36-C33)))))","v":""},null,"DIEULOUARD",null,3,"AUBOUE 1",9,2,0,3,0,72,108,-36]
[null,"7°tour",null,"le 12/02/2022",null,null,null,null,4,"REHON 1",8,2,0,2,0,80,64,16]
[null,{"$f":"Equipes!$A$15","v":"CHAMPEY 1 FG"},null,{"$f":"Equipes!$A$21","v":"AUBOUE 1"},{"$f":"IF(C35=\"\",\"\",IF(C35=\"F\",\"G\",IF(C35=\"G\",\"F\",IF(C35=\"B\",\"GB\",IF(C35=\"GB\",\"B\",36-C35)))))","v":""},"2023-10-14","PONT A MOUSSON",null,5,"ESSEY 1",8,2,0,2,0,78,66,12]
[null,{"$f":"Equipes!$A$17","v":"ESSEY 1"},null,{"$f":"Equipes!$A$16","v":"SAULNES 1"},{"$f":"IF(C36=\"\",\"\",IF(C36=\"F\",\"G\",IF(C36=\"G\",\"F\",IF(C36=\"B\",\"GB\",IF(C36=\"GB\",\"B\",36-C36)))))","v":""},null,"ESSEY",null,6,"MONT ST MARTIN 2",8,2,0,2,0,74,70,4]
[null,{"$f":"Equipes!$A$18","v":"REHON 1"},null,{"$f":"Equipes!$A$20","v":"GARI LUNEVILLE 3"},{"$f":"IF(C37=\"\",\"\",IF(C37=\"F\",\"G\",IF(C37=\"G\",\"F\",IF(C37=\"B\",\"GB\",IF(C37=\"GB\",\"B\",36-C37)))))","v":""},null,"LIVERDUN",null,7,"GARI LUNEVILLE 3",8,2,0,2,0,66,78,-12]
[null,{"$f":"Equipes!$A$19","v":"MANCIEULLES 3"},null,{"$f":"Equipes!$A$22","v":"MONT ST MARTIN 2"},{"$f":"IF(C38=\"\",\"\",IF(C38=\"F\",\"G\",IF(C38=\"G\",\"F\",IF(C38=\"B\",\"GB\",IF(C38=\"GB\",\"B\",36-C38)))))","v":""},null,"JARNY",null,8,"CHAMPEY 1 FG",0,0,0,0,0,0,0,0]

{"sheet":"DIV_4-A","index":6,"n_rows":38,"n_cols":18,"rows_kept":38,"cut":false,"hidden":false,"merged":[[28,3,28,6],[29,5,32,5],[29,8,29,9],[34,5,37,5],[14,5,17,5],[15,9,26,12],[18,3,18,6],[19,5,22,5],[23,3,23,6],[24,5,27,5],[33,3,33,6],[13,3,13,6],[2,2,2,6],[3,9,12,12],[4,5,7,5],[8,3,8,6],[9,5,12,5]]}
[{"$f":"Equipes!$C$15","v":"AP LUNEVILLE 2"}]
[{"$f":"Equipes!$C$16","v":"VILLERS 3"}]
[{"$f":"Equipes!$C$17","v":"AP STE MARIE 3"},"1°tour"]
[{"$f":"Equipes!$C$18","v":"LIVERDUN 2"},"Club","score","Club","score","Date","Lieu",null,null,"CDC 2023 \nDIVISION 4\nGROUPE A"]
[{"$f":"Equipes!$C$19","v":"PULNOY 1"},{"$f":"Equipes!$C$15","v":"AP LUNEVILLE 2"},22,{"$f":"Equipes!$C$16","v":"VILLERS 3"},{"$f":"IF(C5=\"\",\"\",IF(C5=\"F\",\"G\",IF(C5=\"G\",\"F\",IF(C5=\"B\",\"GB\",IF(C5=\"GB\",\"B\",36-C5)))))","v":14},"2023-03-18","ASPTT"]
[{"$f":"Equipes!$C$20","v":"BACCARAT 2"},{"$f":"Equipes!$C$17","v":"AP STE MARIE 3"},8,{"$f":"Equipes!$C$18","v":"LIVERDUN 2"},{"$f":"IF(C6=\"\",\"\",IF(C6=\"F\",\"G\",IF(C6=\"G\",\"F\",IF(C6=\"B\",\"GB\",IF(C6=\"GB\",\"B\",36-C6)))))","v":28},null,"ASPTT"]
[{"$f":"Equipes!$C$21","v":"AUBOUE 2"},{"$f":"Equipes!$C$19","v":"PULNOY 1"},26,{"$f":"Equipes!$C$20","v":"BACCARAT 2"},{"$f":"IF(C7=\"\",\"\",IF(C7=\"F\",\"G\",IF(C7=\"G\",\"F\",IF(C7=\"B\",\"GB\",IF(C7=\"GB\",\"B\",36-C7)))))","v":10},null,"St NICOLAS"]
[{"$f":"Equipes!$C$22","v":"ACBD "},{"$f":"Equipes!$C$21","v":"AUBOUE 2"},12,{"$f":"Equipes!$C$22","v":"ACBD "},{"$f":"IF(C8=\"\",\"\",IF(C8=\"F\",\"G\",IF(C8=\"G\",\"F\",IF(C8=\"B\",\"GB\",IF(C8=\"GB\",\"B\",36-C8)))))","v":24},null,"PAGNY"]
[null,"2°tour",null,"le 11/12/2021"]
[null,{"$f":"Equipes!$C$15","v":"AP LUNEVILLE 2"},36,{"$f":"Equipes!$C$22","v":"ACBD "},{"$f":"IF(C10=\"\",\"\",IF(C10=\"F\",\"G\",IF(C10=\"G\",\"F\",IF(C10=\"B\",\"GB\",IF(C10=\"GB\",\"B\",36-C10)))))","v":0},"2023-06-24","BACCARAT"]
[null,{"$f":"Equipes!$C$17","v":"AP STE MARIE 3"},6,{"$f":"Equipes!$C$20","v":"BACCARAT 2"},{"$f":"IF(C11=\"\",\"\",IF(C11=\"F\",\"G\",IF(C11=\"G\",\"F\",IF(C11=\"B\",\"GB\",IF(C11=\"GB\",\"B\",36-C11)))))","v":30},null,"BACCARAT"]
[null,{"$f":"Equipes!$C$19","v":"PULNOY 1"},24,{"$f":"Equipes!$C$21","v":"AUBOUE 2"},{"$f":"IF(C12=\"\",\"\",IF(C12=\"F\",\"G\",IF(C12=\"G\",\"F\",IF(C12=\"B\",\"GB\",IF(C12=\"GB\",\"B\",36-C12)))))","v":12},null,"ESSEY"]
[null,{"$f":"Equipes!$C$18","v":"LIVERDUN 2"},18,{"$f":"Equipes!$C$16","v":"VILLERS 3"},{"$f":"IF(C13=\"\",\"\",IF(C13=\"F\",\"G\",IF(C13=\"G\",\"F\",IF(C13=\"B\",\"GB\",IF(C13=\"GB\",\"B\",36-C13)))))","v":18},null,"VILLERS"]
[null,"3°tour",null,"le 4/12/2021"]
[null,{"$f":"Equipes!$C$15","v":"AP LUNEVILLE 2"},18,{"$f":"Equipes!$C$20","v":"BACCARAT 2"},{"$f":"IF(C15=\"\",\"\",IF(C15=\"F\",\"G\",IF(C15=\"G\",\"F\",IF(C15=\"B\",\"GB\",IF(C15=\"GB\",\"B\",36-C15)))))","v":18},"2023-09-09","AP Ste MARIE"]
[null,{"$f":"Equipes!$C$17","v":"AP STE MARIE 3"},18,{"$f":"Equipes!$C$22","v":"ACBD "},{"$f":"IF(C16=\"\",\"\",IF(C16=\"F\",\"G\",IF(C16=\"G\",\"F\",IF(C16=\"B\",\"GB\",IF(C16=\"GB\",\"B\",36-C16)))))","v":18},null,"AP Ste MARIE"]
[null,{"$f":"Equipes!$C$18","v":"LIVERDUN 2"},18,{"$f":"Equipes!$C$21","v":"AUBOUE 2"},{"$f":"IF(C17=\"\",\"\",IF(C17=\"F\",\"G\",IF(C17=\"G\",\"F\",IF(C17=\"B\",\"GB\",IF(C17=\"GB\",\"B\",36-C17)))))","v":18},null,"AUBOUÉ"]
[null,{"$f":"Equipes!$C$19","v":"PULNOY 1"},12,{"$f":"Equipes!$C$16","v":"VILLERS 3"},{"$f":"IF(C18=\"\",\"\",IF(C18=\"F\",\"G\",IF(C18=\"G\",\"F\",IF(C18=\"B\",\"GB\",IF(C18=\"GB\",\"B\",36-C18)))))","v":24},null,"DIEULOUARD"]
[null,"4°tour",null,"le 15/01/2022"]
[null,{"$f":"Equipes!$C$15","v":"AP LUNEVILLE 2"},32,{"$f":"Equipes!$C$17","v":"AP STE MARIE 3"},{"$f":"IF(C20=\"\",\"\",IF(C20=\"F\",\"G\",IF(C20=\"G\",\"F\",IF(C20=\"B\",\"GB\",IF(C20=\"GB\",\"B\",36-C20)))))","v":4},"2023-09-16","LANEUVEVILLE"]
[null,{"$f":"Equipes!$C$18","v":"LIVERDUN 2"},18,{"$f":"Equipes!$C$19","v":"PULNOY 1"},{"$f":"IF(C21=\"\",\"\",IF(C21=\"F\",\"G\",IF(C21=\"G\",\"F\",IF(C21=\"B\",\"GB\",IF(C21=\"GB\",\"B\",36-C21)))))","v":18},null,"CHALIGNY"]
[null,{"$f":"Equipes!$C$21","v":"AUBOUE 2"},12,{"$f":"Equipes!$C$16","v":"VILLERS 3"},{"$f":"IF(C22=\"\",\"\",IF(C22=\"F\",\"G\",IF(C22=\"G\",\"F\",IF(C22=\"B\",\"GB\",IF(C22=\"GB\",\"B\",36-C22)))))","v":24},null,"CHALIGNY"]
[null,{"$f":"Equipes!$C$20","v":"BACCARAT 2"},20,{"$f":"Equipes!$C$22","v":"ACBD "},{"$f":"IF(C23=\"\",\"\",IF(C23=\"F\",\"G\",IF(C23=\"G\",\"F\",IF(C23=\"B\",\"GB\",IF(C23=\"GB\",\"B\",36-C23)))))","v":16},null,"DOMBASLE"]
[null,"5°tour",null,"le 22/01/2022"]
[null,{"$f":"Equipes!$C$15","v":"AP LUNEVILLE 2"},18,{"$f":"Equipes!$C$18","v":"LIVERDUN 2"},{"$f":"IF(C25=\"\",\"\",IF(C25=\"F\",\"G\",IF(C25=\"G\",\"F\",IF(C25=\"B\",\"GB\",IF(C25=\"GB\",\"B\",36-C25)))))","v":18},"2023-09-30","LIVERDUN"]
[null,{"$f":"Equipes!$C$17","v":"AP STE MARIE 3"},2,{"$f":"Equipes!$C$19","v":"PULNOY 1"},{"$f":"IF(C26=\"\",\"\",IF(C26=\"F\",\"G\",IF(C26=\"G\",\"F\",IF(C26=\"B\",\"GB\",IF(C26=\"GB\",\"B\",36-C26)))))","v":34},null,"LIVERDUN"]
[null,{"$f":"Equipes!$C$16","v":"VILLERS 3"},30,{"$f":"Equipes!$C$22","v":"ACBD "},{"$f":"IF(C27=\"\",\"\",IF(C27=\"F\",\"G\",IF(C27=\"G\",\"F\",IF(C27=\"B\",\"GB\",IF(C27=\"GB\",\"B\",36-C27)))))","v":6},null,"VANDOEUVRE"]
[null,{"$f":"Equipes!$C$21","v":"AUBOUE 2"},20,{"$f":"Equipes!$C$20","v":"BACCARAT 2"},{"$f":"IF(C28=\"\",\"\",IF(C28=\"F\",\"G\",IF(C28=\"G\",\"F\",IF(C28=\"B\",\"GB\",IF(C28=\"GB\",\"B\",36-C28)))))","v":16},null,"ANP"]
[null,"6°tour",null,"2023-06-27"]
[null,{"$f":"Equipes!$C$15","v":"AP LUNEVILLE 2"},null,{"$f":"Equipes!$C$19","v":"PULNOY 1"},{"$f":"IF(C30=\"\",\"\",IF(C30=\"F\",\"G\",IF(C30=\"G\",\"F\",IF(C30=\"B\",\"GB\",IF(C30=\"GB\",\"B\",36-C30)))))","v":""},"2023-10-07","SOMMERVILLER",null,"Classement",null,"Pts","G","N","P","F/B","+","-","GA"]
[null,{"$f":"Equipes!$C$17","v":"AP STE MARIE 3"},null,{"$f":"Equipes!$C$21","v":"AUBOUE 2"},{"$f":"IF(C31=\"\",\"\",IF(C31=\"F\",\"G\",IF(C31=\"G\",\"F\",IF(C31=\"B\",\"GB\",IF(C31=\"GB\",\"B\",36-C31)))))","v":""},null,"PAGNY",null,1,"AP LUNEVILLE 2",13,3,2,0,0,126,54,72]
[null,{"$f":"Equipes!$C$18","v":"LIVERDUN 2"},null,{"$f":"Equipes!$C$22","v":"ACBD "},{"$f":"IF(C32=\"\",\"\",IF(C32=\"F\",\"G\",IF(C32=\"G\",\"F\",IF(C32=\"B\",\"GB\",IF(C32=\"GB\",\"B\",36-C32)))))","v":""},null,"CHAMPIGNEULLES",null,2,"PULNOY 1",12,3,1,1,0,114,66,48]
[null,{"$f":"Equipes!$C$16","v":"VILLERS 3"},null,{"$f":"Equipes!$C$20","v":"BACCARAT 2"},{"$f":"IF(C33=\"\",\"\",IF(C33=\"F\",\"G\",IF(C33=\"G\",\"F\",IF(C33=\"B\",\"GB\",IF(C33=\"GB\",\"B\",36-C33)))))","v":""},null,"SOMMERVILLER",null,3,"VILLERS 3",12,3,1,1,0,110,70,40]
[null,"7°tour",null,"le 12/02/2022",null,null,null,null,4,"LIVERDUN 2",11,1,4,0,0,100,80,20]
[null,{"$f":"Equipes!$C$15","v":"AP LUNEVILLE 2"},null,{"$f":"Equipes!$C$21","v":"AUBOUE 2"},{"$f":"IF(C35=\"\",\"\",IF(C35=\"F\",\"G\",IF(C35=\"G\",\"F\",IF(C35=\"B\",\"GB\",IF(C35=\"GB\",\"B\",36-C35)))))","v":""},"2023-10-14","PONT A MOUSSON",null,5,"BACCARAT 2",10,2,1,2,0,94,86,8]
[null,{"$f":"Equipes!$C$17","v":"AP STE MARIE 3"},null,{"$f":"Equipes!$C$16","v":"VILLERS 3"},{"$f":"IF(C36=\"\",\"\",IF(C36=\"F\",\"G\",IF(C36=\"G\",\"F\",IF(C36=\"B\",\"GB\",IF(C36=\"GB\",\"B\",36-C36)))))","v":""},null,"LIVERDUN",null,6,"AUBOUE 2",8,1,1,3,0,74,106,-32]
[null,{"$f":"Equipes!$C$18","v":"LIVERDUN 2"},null,{"$f":"Equipes!$C$20","v":"BACCARAT 2"},{"$f":"IF(C37=\"\",\"\",IF(C37=\"F\",\"G\",IF(C37=\"G\",\"F\",IF(C37=\"B\",\"GB\",IF(C37=\"GB\",\"B\",36-C37)))))","v":""},null,"LIVERDUN",null,7,"ACBD ",8,1,1,3,0,64,116,-52]
[null,{"$f":"Equipes!$C$19","v":"PULNOY 1"},null,{"$f":"Equipes!$C$22","v":"ACBD "},{"$f":"IF(C38=\"\",\"\",IF(C38=\"F\",\"G\",IF(C38=\"G\",\"F\",IF(C38=\"B\",\"GB\",IF(C38=\"GB\",\"B\",36-C38)))))","v":""},null,"ESSEY",null,8,"AP STE MARIE 3",6,0,1,4,0,38,142,-104]

{"sheet":"DIV_4-B","index":7,"n_rows":38,"n_cols":18,"rows_kept":38,"cut":false,"hidden":false,"merged":[[28,3,28,6],[29,5,32,5],[29,8,29,9],[34,5,37,5],[14,5,17,5],[15,9,26,12],[18,3,18,6],[19,5,22,5],[23,3,23,6],[24,5,27,5],[33,3,33,6],[13,3,13,6],[2,2,2,6],[3,9,12,12],[4,5,7,5],[8,3,8,6],[9,5,12,5]]}
[{"$f":"Equipes!$E$15","v":"LONGWY 2"}]
[{"$f":"Equipes!$E$16","v":"JARNY 3"}]
[{"$f":"Equipes!$E$17","v":"MANCIEULLES 4"},"1°tour"]
[{"$f":"Equipes!$E$18","v":"PULNOY 2"},"Club","score","Club","score","Date","Lieu",null,null,"CDC 2023 \nDIVISION 4\nGROUPE B"]
[{"$f":"Equipes!$E$19","v":"CHAMPEY 2"},{"$f":"Equipes!$E$15","v":"LONGWY 2"},24,{"$f":"Equipes!$E$16","v":"JARNY 3"},{"$f":"IF(C5=\"\",\"\",IF(C5=\"F\",\"G\",IF(C5=\"G\",\"F\",IF(C5=\"B\",\"GB\",IF(C5=\"GB\",\"B\",36-C5)))))","v":12},"2023-03-18","MANCIEULLES"]
[{"$f":"Equipes!$E$20","v":"ST CHARLES 2"},{"$f":"Equipes!$E$17","v":"MANCIEULLES 4"},18,{"$f":"Equipes!$E$18","v":"PULNOY 2"},{"$f":"IF(C6=\"\",\"\",IF(C6=\"F\",\"G\",IF(C6=\"G\",\"F\",IF(C6=\"B\",\"GB\",IF(C6=\"GB\",\"B\",36-C6)))))","v":18},null,"MANCIEULLES"]
[{"$f":"Equipes!$E$21","v":"GOURAINCOURT 1"},{"$f":"Equipes!$E$19","v":"CHAMPEY 2"},4,{"$f":"Equipes!$E$20","v":"ST CHARLES 2"},{"$f":"IF(C7=\"\",\"\",IF(C7=\"F\",\"G\",IF(C7=\"G\",\"F\",IF(C7=\"B\",\"GB\",IF(C7=\"GB\",\"B\",36-C7)))))","v":32},null,"St CHARLES"]
[{"$f":"Equipes!$E$22","v":"SAULNES 2"},{"$f":"Equipes!$E$21","v":"GOURAINCOURT 1"},32,{"$f":"Equipes!$E$22","v":"SAULNES 2"},{"$f":"IF(C8=\"\",\"\",IF(C8=\"F\",\"G\",IF(C8=\"G\",\"F\",IF(C8=\"B\",\"GB\",IF(C8=\"GB\",\"B\",36-C8)))))","v":4},null,"St CHARLES"]
[null,"2°tour",null,"le 11/12/2021"]
[null,{"$f":"Equipes!$E$15","v":"LONGWY 2"},16,{"$f":"Equipes!$E$22","v":"SAULNES 2"},{"$f":"IF(C10=\"\",\"\",IF(C10=\"F\",\"G\",IF(C10=\"G\",\"F\",IF(C10=\"B\",\"GB\",IF(C10=\"GB\",\"B\",36-C10)))))","v":20},"2023-06-24","REHON"]
[null,{"$f":"Equipes!$E$17","v":"MANCIEULLES 4"},24,{"$f":"Equipes!$E$20","v":"ST CHARLES 2"},{"$f":"IF(C11=\"\",\"\",IF(C11=\"F\",\"G\",IF(C11=\"G\",\"F\",IF(C11=\"B\",\"GB\",IF(C11=\"GB\",\"B\",36-C11)))))","v":12},null,"BATILLY"]
[null,{"$f":"Equipes!$E$19","v":"CHAMPEY 2"},0,{"$f":"Equipes!$E$21","v":"GOURAINCOURT 1"},{"$f":"IF(C12=\"\",\"\",IF(C12=\"F\",\"G\",IF(C12=\"G\",\"F\",IF(C12=\"B\",\"GB\",IF(C12=\"GB\",\"B\",36-C12)))))","v":36},null,"CHAMPEY"]
[null,{"$f":"Equipes!$E$18","v":"PULNOY 2"},14,{"$f":"Equipes!$E$16","v":"JARNY 3"},{"$f":"IF(C13=\"\",\"\",IF(C13=\"F\",\"G\",IF(C13=\"G\",\"F\",IF(C13=\"B\",\"GB\",IF(C13=\"GB\",\"B\",36-C13)))))","v":22},null,"ESSEY"]
[null,"3°tour",null,"le 4/12/2021"]
[null,{"$f":"Equipes!$E$15","v":"LONGWY 2"},20,{"$f":"Equipes!$E$20","v":"ST CHARLES 2"},{"$f":"IF(C15=\"\",\"\",IF(C15=\"F\",\"G\",IF(C15=\"G\",\"F\",IF(C15=\"B\",\"GB\",IF(C15=\"GB\",\"B\",36-C15)))))","v":16},"2023-09-09","LONGWY"]
[null,{"$f":"Equipes!$E$17","v":"MANCIEULLES 4"},26,{"$f":"Equipes!$E$22","v":"SAULNES 2"},{"$f":"IF(C16=\"\",\"\",IF(C16=\"F\",\"G\",IF(C16=\"G\",\"F\",IF(C16=\"B\",\"GB\",IF(C16=\"GB\",\"B\",36-C16)))))","v":10},null,"AUBOUÉ"]
[null,{"$f":"Equipes!$E$18","v":"PULNOY 2"},14,{"$f":"Equipes!$E$21","v":"GOURAINCOURT 1"},{"$f":"IF(C17=\"\",\"\",IF(C17=\"F\",\"G\",IF(C17=\"G\",\"F\",IF(C17=\"B\",\"GB\",IF(C17=\"GB\",\"B\",36-C17)))))","v":22},null,"DIEULOUARD"]
[null,{"$f":"Equipes!$E$19","v":"CHAMPEY 2"},12,{"$f":"Equipes!$E$16","v":"JARNY 3"},{"$f":"IF(C18=\"\",\"\",IF(C18=\"F\",\"G\",IF(C18=\"G\",\"F\",IF(C18=\"B\",\"GB\",IF(C18=\"GB\",\"B\",36-C18)))))","v":24},null,"DIEULOUARD"]
[null,"4°tour",null,"le 15/01/2022"]
[null,{"$f":"Equipes!$E$15","v":"LONGWY 2"},30,{"$f":"Equipes!$E$17","v":"MANCIEULLES 4"},{"$f":"IF(C20=\"\",\"\",IF(C20=\"F\",\"G\",IF(C20=\"G\",\"F\",IF(C20=\"B\",\"GB\",IF(C20=\"GB\",\"B\",36-C20)))))","v":6},"2023-09-16","MONT St MARTIN"]
[null,{"$f":"Equipes!$E$18","v":"PULNOY 2"},14,{"$f":"Equipes!$E$19","v":"CHAMPEY 2"},{"$f":"IF(C21=\"\",\"\",IF(C21=\"F\",\"G\",IF(C21=\"G\",\"F\",IF(C21=\"B\",\"GB\",IF(C21=\"GB\",\"B\",36-C21)))))","v":22},null,"LANEUVEVILLE"]
[null,{"$f":"Equipes!$E$21","v":"GOURAINCOURT 1"},34,{"$f":"Equipes!$E$16","v":"JARNY 3"},{"$f":"IF(C22=\"\",\"\",IF(C22=\"F\",\"G\",IF(C22=\"G\",\"F\",IF(C22=\"B\",\"GB\",IF(C22=\"GB\",\"B\",36-C22)))))","v":2},null,"MONT St MARTIN"]
[null,{"$f":"Equipes!$E$20","v":"ST CHARLES 2"},14,{"$f":"Equipes!$E$22","v":"SAULNES 2"},{"$f":"IF(C23=\"\",\"\",IF(C23=\"F\",\"G\",IF(C23=\"G\",\"F\",IF(C23=\"B\",\"GB\",IF(C23=\"GB\",\"B\",36-C23)))))","v":22},null,"MONT St MARTIN"]
[null,"5°tour",null,"le 22/01/2022"]
[null,{"$f":"Equipes!$E$15","v":"LONGWY 2"},26,{"$f":"Equipes!$E$18","v":"PULNOY 2"},{"$f":"IF(C25=\"\",\"\",IF(C25=\"F\",\"G\",IF(C25=\"G\",\"F\",IF(C25=\"B\",\"GB\",IF(C25=\"GB\",\"B\",36-C25)))))","v":10},"2023-09-30","JARNY"]
[null,{"$f":"Equipes!$E$17","v":"MANCIEULLES 4"},18,{"$f":"Equipes!$E$19","v":"CHAMPEY 2"},{"$f":"IF(C26=\"\",\"\",IF(C26=\"F\",\"G\",IF(C26=\"G\",\"F\",IF(C26=\"B\",\"GB\",IF(C26=\"GB\",\"B\",36-C26)))))","v":18},null,"JARNY"]
[null,{"$f":"Equipes!$E$16","v":"JARNY 3"},12,{"$f":"Equipes!$E$22","v":"SAULNES 2"},{"$f":"IF(C27=\"\",\"\",IF(C27=\"F\",\"G\",IF(C27=\"G\",\"F\",IF(C27=\"B\",\"GB\",IF(C27=\"GB\",\"B\",36-C27)))))","v":24},null,"JARNY"]
[null,{"$f":"Equipes!$E$21","v":"GOURAINCOURT 1"},34,{"$f":"Equipes!$E$20","v":"ST CHARLES 2"},{"$f":"IF(C28=\"\",\"\",IF(C28=\"F\",\"G\",IF(C28=\"G\",\"F\",IF(C28=\"B\",\"GB\",IF(C28=\"GB\",\"B\",36-C28)))))","v":2},null,"St CHARLES"]
[null,"6°tour",null,"2023-06-27"]
[null,{"$f":"Equipes!$E$15","v":"LONGWY 2"},null,{"$f":"Equipes!$E$19","v":"CHAMPEY 2"},{"$f":"IF(C30=\"\",\"\",IF(C30=\"F\",\"G\",IF(C30=\"G\",\"F\",IF(C30=\"B\",\"GB\",IF(C30=\"GB\",\"B\",36-C30)))))","v":""},"2023-10-07","PAGNY",null,"Classement",null,"Pts","G","N","P","F/B","+","-","GA"]
[null,{"$f":"Equipes!$E$17","v":"MANCIEULLES 4"},null,{"$f":"Equipes!$E$21","v":"GOURAINCOURT 1"},{"$f":"IF(C31=\"\",\"\",IF(C31=\"F\",\"G\",IF(C31=\"G\",\"F\",IF(C31=\"B\",\"GB\",IF(C31=\"GB\",\"B\",36-C31)))))","v":""},null,"MONT St MARTIN",null,1,"GOURAINCOURT 1",15,5,0,0,0,158,22,136]
[null,{"$f":"Equipes!$E$18","v":"PULNOY 2"},null,{"$f":"Equipes!$E$22","v":"SAULNES 2"},{"$f":"IF(C32=\"\",\"\",IF(C32=\"F\",\"G\",IF(C32=\"G\",\"F\",IF(C32=\"B\",\"GB\",IF(C32=\"GB\",\"B\",36-C32)))))","v":""},null,"DIEULOUARD",null,2,"LONGWY 2",13,4,0,1,0,116,64,52]
[null,{"$f":"Equipes!$E$16","v":"JARNY 3"},null,{"$f":"Equipes!$E$20","v":"ST CHARLES 2"},{"$f":"IF(C33=\"\",\"\",IF(C33=\"F\",\"G\",IF(C33=\"G\",\"F\",IF(C33=\"B\",\"GB\",IF(C33=\"GB\",\"B\",36-C33)))))","v":""},null,"MONT St MARTIN",null,3,"MANCIEULLES 4",11,2,2,1,0,92,88,4]
[null,"7°tour",null,"le 12/02/2022",null,null,null,null,4,"SAULNES 2",11,3,0,2,0,80,100,-20]
[null,{"$f":"Equipes!$E$15","v":"LONGWY 2"},null,{"$f":"Equipes!$E$21","v":"GOURAINCOURT 1"},{"$f":"IF(C35=\"\",\"\",IF(C35=\"F\",\"G\",IF(C35=\"G\",\"F\",IF(C35=\"B\",\"GB\",IF(C35=\"GB\",\"B\",36-C35)))))","v":""},"2023-10-14","JARNY",null,5,"JARNY 3",9,2,0,3,0,72,108,-36]
[null,{"$f":"Equipes!$E$17","v":"MANCIEULLES 4"},null,{"$f":"Equipes!$E$16","v":"JARNY 3"},{"$f":"IF(C36=\"\",\"\",IF(C36=\"F\",\"G\",IF(C36=\"G\",\"F\",IF(C36=\"B\",\"GB\",IF(C36=\"GB\",\"B\",36-C36)))))","v":""},null,"JARNY",null,6,"CHAMPEY 2",8,1,1,3,0,56,124,-68]
[null,{"$f":"Equipes!$E$18","v":"PULNOY 2"},null,{"$f":"Equipes!$E$20","v":"ST CHARLES 2"},{"$f":"IF(C37=\"\",\"\",IF(C37=\"F\",\"G\",IF(C37=\"G\",\"F\",IF(C37=\"B\",\"GB\",IF(C37=\"GB\",\"B\",36-C37)))))","v":""},null,"JARNY",null,7,"ST CHARLES 2",7,1,0,4,0,76,104,-28]
[null,{"$f":"Equipes!$E$19","v":"CHAMPEY 2"},null,{"$f":"Equipes!$E$22","v":"SAULNES 2"},{"$f":"IF(C38=\"\",\"\",IF(C38=\"F\",\"G\",IF(C38=\"G\",\"F\",IF(C38=\"B\",\"GB\",IF(C38=\"GB\",\"B\",36-C38)))))","v":""},null,"JARNY",null,8,"PULNOY 2",6,0,1,4,0,70,110,-40]

{"sheet":"DIV_5-A","index":8,"n_rows":38,"n_cols":18,"rows_kept":38,"cut":false,"hidden":false,"merged":[[28,3,28,6],[29,5,32,5],[29,8,29,9],[34,5,37,5],[14,5,17,5],[15,9,26,12],[18,3,18,6],[19,5,22,5],[23,3,23,6],[24,5,27,5],[33,3,33,6],[13,3,13,6],[2,2,2,6],[3,9,12,12],[4,5,7,5],[8,3,8,6],[9,5,12,5]]}
[{"$f":"Equipes!$G$15","v":"BEZAUMONT"}]
[{"$f":"Equipes!$G$16","v":"CHALIGNY 1"}]
[{"$f":"Equipes!$G$17","v":"ESSEY 2"},"1°tour"]
[{"$f":"Equipes!$G$18","v":"DOMBASLE 2"},"Club","score","Club","score","Date","Lieu",null,null,"CDC 2023 \nDIVISION 5\nGROUPE A"]
[{"$f":"Equipes!$G$19","v":"VANDOEUVRE 2"},{"$f":"Equipes!$G$15","v":"BEZAUMONT"},14,{"$f":"Equipes!$G$16","v":"CHALIGNY 1"},{"$f":"IF(C5=\"\",\"\",IF(C5=\"F\",\"G\",IF(C5=\"G\",\"F\",IF(C5=\"B\",\"GB\",IF(C5=\"GB\",\"B\",36-C5)))))","v":22},"2023-03-18","BEZAUMONT"]
[{"$f":"Equipes!$G$20","v":"ASPTT 2"},{"$f":"Equipes!$G$17","v":"ESSEY 2"},22,{"$f":"Equipes!$G$18","v":"DOMBASLE 2"},{"$f":"IF(C6=\"\",\"\",IF(C6=\"F\",\"G\",IF(C6=\"G\",\"F\",IF(C6=\"B\",\"GB\",IF(C6=\"GB\",\"B\",36-C6)))))","v":14},null,"PAGNY"]
[{"$f":"Equipes!$G$21","v":"LANEUVEVILLE 3"},{"$f":"Equipes!$G$19","v":"VANDOEUVRE 2"},12,{"$f":"Equipes!$G$20","v":"ASPTT 2"},{"$f":"IF(C7=\"\",\"\",IF(C7=\"F\",\"G\",IF(C7=\"G\",\"F\",IF(C7=\"B\",\"GB\",IF(C7=\"GB\",\"B\",36-C7)))))","v":24},null,"ASPTT"]
[{"$f":"Equipes!$G$22","v":"GARI LUNEVILLE 4"},{"$f":"Equipes!$G$21","v":"LANEUVEVILLE 3"},16,{"$f":"Equipes!$G$22","v":"GARI LUNEVILLE 4"},{"$f":"IF(C8=\"\",\"\",IF(C8=\"F\",\"G\",IF(C8=\"G\",\"F\",IF(C8=\"B\",\"GB\",IF(C8=\"GB\",\"B\",36-C8)))))","v":20},null,"ASPTT"]
[null,"2°tour",null,"le 11/12/2021"]
[null,{"$f":"Equipes!$G$15","v":"BEZAUMONT"},8,{"$f":"Equipes!$G$22","v":"GARI LUNEVILLE 4"},{"$f":"IF(C10=\"\",\"\",IF(C10=\"F\",\"G\",IF(C10=\"G\",\"F\",IF(C10=\"B\",\"GB\",IF(C10=\"GB\",\"B\",36-C10)))))","v":28},"2023-06-24","VILLERS"]
[null,{"$f":"Equipes!$G$17","v":"ESSEY 2"},10,{"$f":"Equipes!$G$20","v":"ASPTT 2"},{"$f":"IF(C11=\"\",\"\",IF(C11=\"F\",\"G\",IF(C11=\"G\",\"F\",IF(C11=\"B\",\"GB\",IF(C11=\"GB\",\"B\",36-C11)))))","v":26},null,"ESSEY"]
[null,{"$f":"Equipes!$G$19","v":"VANDOEUVRE 2"},36,{"$f":"Equipes!$G$21","v":"LANEUVEVILLE 3"},{"$f":"IF(C12=\"\",\"\",IF(C12=\"F\",\"G\",IF(C12=\"G\",\"F\",IF(C12=\"B\",\"GB\",IF(C12=\"GB\",\"B\",36-C12)))))","v":0},null,"ANP"]
[null,{"$f":"Equipes!$G$18","v":"DOMBASLE 2"},4,{"$f":"Equipes!$G$16","v":"CHALIGNY 1"},{"$f":"IF(C13=\"\",\"\",IF(C13=\"F\",\"G\",IF(C13=\"G\",\"F\",IF(C13=\"B\",\"GB\",IF(C13=\"GB\",\"B\",36-C13)))))","v":32},null,"BACCARAT"]
[null,"3°tour",null,"le 4/12/2021"]
[null,{"$f":"Equipes!$G$15","v":"BEZAUMONT"},6,{"$f":"Equipes!$G$20","v":"ASPTT 2"},{"$f":"IF(C15=\"\",\"\",IF(C15=\"F\",\"G\",IF(C15=\"G\",\"F\",IF(C15=\"B\",\"GB\",IF(C15=\"GB\",\"B\",36-C15)))))","v":30},"2023-09-09","BOUXIERES"]
[null,{"$f":"Equipes!$G$17","v":"ESSEY 2"},8,{"$f":"Equipes!$G$22","v":"GARI LUNEVILLE 4"},{"$f":"IF(C16=\"\",\"\",IF(C16=\"F\",\"G\",IF(C16=\"G\",\"F\",IF(C16=\"B\",\"GB\",IF(C16=\"GB\",\"B\",36-C16)))))","v":28},null,"BAINVILLE"]
[null,{"$f":"Equipes!$G$18","v":"DOMBASLE 2"},24,{"$f":"Equipes!$G$21","v":"LANEUVEVILLE 3"},{"$f":"IF(C17=\"\",\"\",IF(C17=\"F\",\"G\",IF(C17=\"G\",\"F\",IF(C17=\"B\",\"GB\",IF(C17=\"GB\",\"B\",36-C17)))))","v":12},null,"BOUXIERES"]
[null,{"$f":"Equipes!$G$19","v":"VANDOEUVRE 2"},16,{"$f":"Equipes!$G$16","v":"CHALIGNY 1"},{"$f":"IF(C18=\"\",\"\",IF(C18=\"F\",\"G\",IF(C18=\"G\",\"F\",IF(C18=\"B\",\"GB\",IF(C18=\"GB\",\"B\",36-C18)))))","v":20},null,"BAINVILLE"]
[null,"4°tour",null,"le 15/01/2022"]
[null,{"$f":"Equipes!$G$15","v":"BEZAUMONT"},12,{"$f":"Equipes!$G$17","v":"ESSEY 2"},{"$f":"IF(C20=\"\",\"\",IF(C20=\"F\",\"G\",IF(C20=\"G\",\"F\",IF(C20=\"B\",\"GB\",IF(C20=\"GB\",\"B\",36-C20)))))","v":24},"2023-09-16","LANEUVEVILLE"]
[null,{"$f":"Equipes!$G$18","v":"DOMBASLE 2"},14,{"$f":"Equipes!$G$19","v":"VANDOEUVRE 2"},{"$f":"IF(C21=\"\",\"\",IF(C21=\"F\",\"G\",IF(C21=\"G\",\"F\",IF(C21=\"B\",\"GB\",IF(C21=\"GB\",\"B\",36-C21)))))","v":22},null,"DOMBASLE"]
[null,{"$f":"Equipes!$G$21","v":"LANEUVEVILLE 3"},16,{"$f":"Equipes!$G$16","v":"CHALIGNY 1"},{"$f":"IF(C22=\"\",\"\",IF(C22=\"F\",\"G\",IF(C22=\"G\",\"F\",IF(C22=\"B\",\"GB\",IF(C22=\"GB\",\"B\",36-C22)))))","v":20},null,"CHALIGNY"]
[null,{"$f":"Equipes!$G$20","v":"ASPTT 2"},10,{"$f":"Equipes!$G$22","v":"GARI LUNEVILLE 4"},{"$f":"IF(C23=\"\",\"\",IF(C23=\"F\",\"G\",IF(C23=\"G\",\"F\",IF(C23=\"B\",\"GB\",IF(C23=\"GB\",\"B\",36-C23)))))","v":26},null,"DOMBASLE"]
[null,"5°tour",null,"le 22/01/2022"]
[null,{"$f":"Equipes!$G$15","v":"BEZAUMONT"},18,{"$f":"Equipes!$G$18","v":"DOMBASLE 2"},{"$f":"IF(C25=\"\",\"\",IF(C25=\"F\",\"G\",IF(C25=\"G\",\"F\",IF(C25=\"B\",\"GB\",IF(C25=\"GB\",\"B\",36-C25)))))","v":18},"2023-09-30","ANP"]
[null,{"$f":"Equipes!$G$17","v":"ESSEY 2"},4,{"$f":"Equipes!$G$19","v":"VANDOEUVRE 2"},{"$f":"IF(C26=\"\",\"\",IF(C26=\"F\",\"G\",IF(C26=\"G\",\"F\",IF(C26=\"B\",\"GB\",IF(C26=\"GB\",\"B\",36-C26)))))","v":32},null,"VANDOEUVRE"]
[null,{"$f":"Equipes!$G$16","v":"CHALIGNY 1"},18,{"$f":"Equipes!$G$22","v":"GARI LUNEVILLE 4"},{"$f":"IF(C27=\"\",\"\",IF(C27=\"F\",\"G\",IF(C27=\"G\",\"F\",IF(C27=\"B\",\"GB\",IF(C27=\"GB\",\"B\",36-C27)))))","v":18},null,"VANDOEUVRE"]
[null,{"$f":"Equipes!$G$21","v":"LANEUVEVILLE 3"},4,{"$f":"Equipes!$G$20","v":"ASPTT 2"},{"$f":"IF(C28=\"\",\"\",IF(C28=\"F\",\"G\",IF(C28=\"G\",\"F\",IF(C28=\"B\",\"GB\",IF(C28=\"GB\",\"B\",36-C28)))))","v":32},null,"JARVILLE"]
[null,"6°tour",null,"2023-06-27"]
[null,{"$f":"Equipes!$G$15","v":"BEZAUMONT"},null,{"$f":"Equipes!$G$19","v":"VANDOEUVRE 2"},{"$f":"IF(C30=\"\",\"\",IF(C30=\"F\",\"G\",IF(C30=\"G\",\"F\",IF(C30=\"B\",\"GB\",IF(C30=\"GB\",\"B\",36-C30)))))","v":""},"2023-10-07","PAGNY",null,"Classement",null,"Pts","G","N","P","F/B","+","-","GA"]
[null,{"$f":"Equipes!$G$17","v":"ESSEY 2"},null,{"$f":"Equipes!$G$21","v":"LANEUVEVILLE 3"},{"$f":"IF(C31=\"\",\"\",IF(C31=\"F\",\"G\",IF(C31=\"G\",\"F\",IF(C31=\"B\",\"GB\",IF(C31=\"GB\",\"B\",36-C31)))))","v":""},null,"CHAMPIGNEULLES",null,1,"GARI LUNEVILLE 4",14,4,1,0,0,120,60,60]
[null,{"$f":"Equipes!$G$18","v":"DOMBASLE 2"},null,{"$f":"Equipes!$G$22","v":"GARI LUNEVILLE 4"},{"$f":"IF(C32=\"\",\"\",IF(C32=\"F\",\"G\",IF(C32=\"G\",\"F\",IF(C32=\"B\",\"GB\",IF(C32=\"GB\",\"B\",36-C32)))))","v":""},null,"SOMMERVILLER",null,2,"CHALIGNY 1",14,4,1,0,0,112,68,44]
[null,{"$f":"Equipes!$G$16","v":"CHALIGNY 1"},null,{"$f":"Equipes!$G$20","v":"ASPTT 2"},{"$f":"IF(C33=\"\",\"\",IF(C33=\"F\",\"G\",IF(C33=\"G\",\"F\",IF(C33=\"B\",\"GB\",IF(C33=\"GB\",\"B\",36-C33)))))","v":""},null,"CHAMPIGNEULLES",null,3,"ASPTT 2",13,4,0,1,0,122,58,64]
[null,"7°tour",null,"le 12/02/2022",null,null,null,null,4,"VANDOEUVRE 2",11,3,0,2,0,118,62,56]
[null,{"$f":"Equipes!$G$15","v":"BEZAUMONT"},null,{"$f":"Equipes!$G$21","v":"LANEUVEVILLE 3"},{"$f":"IF(C35=\"\",\"\",IF(C35=\"F\",\"G\",IF(C35=\"G\",\"F\",IF(C35=\"B\",\"GB\",IF(C35=\"GB\",\"B\",36-C35)))))","v":""},"2023-10-14","LANEUVEVILLE",null,5,"ESSEY 2",9,2,0,3,0,68,112,-44]
[null,{"$f":"Equipes!$G$17","v":"ESSEY 2"},null,{"$f":"Equipes!$G$16","v":"CHALIGNY 1"},{"$f":"IF(C36=\"\",\"\",IF(C36=\"F\",\"G\",IF(C36=\"G\",\"F\",IF(C36=\"B\",\"GB\",IF(C36=\"GB\",\"B\",36-C36)))))","v":""},null,"ESSEY",null,6,"DOMBASLE 2",8,1,1,3,0,74,106,-32]
[null,{"$f":"Equipes!$G$18","v":"DOMBASLE 2"},null,{"$f":"Equipes!$G$20","v":"ASPTT 2"},{"$f":"IF(C37=\"\",\"\",IF(C37=\"F\",\"G\",IF(C37=\"G\",\"F\",IF(C37=\"B\",\"GB\",IF(C37=\"GB\",\"B\",36-C37)))))","v":""},null,"ESSEY",null,7,"BEZAUMONT",6,0,1,4,0,58,122,-64]
[null,{"$f":"Equipes!$G$19","v":"VANDOEUVRE 2"},null,{"$f":"Equipes!$G$22","v":"GARI LUNEVILLE 4"},{"$f":"IF(C38=\"\",\"\",IF(C38=\"F\",\"G\",IF(C38=\"G\",\"F\",IF(C38=\"B\",\"GB\",IF(C38=\"GB\",\"B\",36-C38)))))","v":""},null,"LANEUVEVILLE",null,8,"LANEUVEVILLE 3",5,0,0,5,0,48,132,-84]

{"sheet":"DIV_5-B","index":9,"n_rows":38,"n_cols":18,"rows_kept":38,"cut":false,"hidden":false,"merged":[[28,3,28,6],[29,5,32,5],[29,8,29,9],[34,5,37,5],[14,5,17,5],[15,9,26,12],[18,3,18,6],[19,5,22,5],[23,3,23,6],[24,5,27,5],[33,3,33,6],[13,3,13,6],[2,2,2,6],[3,9,12,12],[4,5,7,5],[8,3,8,6],[9,5,12,5]]}
[{"$f":"Equipes!$I$15","v":"GOURAINCOURT 2"}]
[{"$f":"Equipes!$I$16","v":"MEXY"}]
[{"$f":"Equipes!$I$17","v":"REHON 2"},"1°tour"]
[{"$f":"Equipes!$I$18","v":"EXEMPT"},"Club","score","Club","score","Date","Lieu",null,null,"CDC 2023 \nDIVISION 5\nGROUPE B"]
[{"$f":"Equipes!$I$19","v":"DOMBASLE 3"},{"$f":"Equipes!$I$15","v":"GOURAINCOURT 2"},26,{"$f":"Equipes!$I$16","v":"MEXY"},{"$f":"IF(C5=\"\",\"\",IF(C5=\"F\",\"G\",IF(C5=\"G\",\"F\",IF(C5=\"B\",\"GB\",IF(C5=\"GB\",\"B\",36-C5)))))","v":10},"2023-03-18","St CHARLES"]
[{"$f":"Equipes!$I$20","v":"DIEULOUARD 2"},{"$f":"Equipes!$I$17","v":"REHON 2"},null,{"$f":"Equipes!$I$18","v":"EXEMPT"},{"$f":"IF(C6=\"\",\"\",IF(C6=\"F\",\"G\",IF(C6=\"G\",\"F\",IF(C6=\"B\",\"GB\",IF(C6=\"GB\",\"B\",36-C6)))))","v":""}]
[{"$f":"Equipes!$I$21","v":"JARNY 4"},{"$f":"Equipes!$I$19","v":"DOMBASLE 3"},16,{"$f":"Equipes!$I$20","v":"DIEULOUARD 2"},{"$f":"IF(C7=\"\",\"\",IF(C7=\"F\",\"G\",IF(C7=\"G\",\"F\",IF(C7=\"B\",\"GB\",IF(C7=\"GB\",\"B\",36-C7)))))","v":20},null,"BEZAUMONT"]
[{"$f":"Equipes!$I$22","v":"CHALIGNY 2"},{"$f":"Equipes!$I$21","v":"JARNY 4"},24,{"$f":"Equipes!$I$22","v":"CHALIGNY 2"},{"$f":"IF(C8=\"\",\"\",IF(C8=\"F\",\"G\",IF(C8=\"G\",\"F\",IF(C8=\"B\",\"GB\",IF(C8=\"GB\",\"B\",36-C8)))))","v":12},null,"PAGNY"]
[null,"2°tour",null,"le 11/12/2021"]
[null,{"$f":"Equipes!$I$15","v":"GOURAINCOURT 2"},36,{"$f":"Equipes!$I$22","v":"CHALIGNY 2"},{"$f":"IF(C10=\"\",\"\",IF(C10=\"F\",\"G\",IF(C10=\"G\",\"F\",IF(C10=\"B\",\"GB\",IF(C10=\"GB\",\"B\",36-C10)))))","v":0},"2023-06-24","BATILLY"]
[null,{"$f":"Equipes!$I$17","v":"REHON 2"},18,{"$f":"Equipes!$I$20","v":"DIEULOUARD 2"},{"$f":"IF(C11=\"\",\"\",IF(C11=\"F\",\"G\",IF(C11=\"G\",\"F\",IF(C11=\"B\",\"GB\",IF(C11=\"GB\",\"B\",36-C11)))))","v":18},null,"REHON"]
[null,{"$f":"Equipes!$I$19","v":"DOMBASLE 3"},22,{"$f":"Equipes!$I$21","v":"JARNY 4"},{"$f":"IF(C12=\"\",\"\",IF(C12=\"F\",\"G\",IF(C12=\"G\",\"F\",IF(C12=\"B\",\"GB\",IF(C12=\"GB\",\"B\",36-C12)))))","v":14},null,"VILLERS"]
[null,{"$f":"Equipes!$I$18","v":"EXEMPT"},null,{"$f":"Equipes!$I$16","v":"MEXY"},{"$f":"IF(C13=\"\",\"\",IF(C13=\"F\",\"G\",IF(C13=\"G\",\"F\",IF(C13=\"B\",\"GB\",IF(C13=\"GB\",\"B\",36-C13)))))","v":""}]
[null,"3°tour",null,"le 4/12/2021"]
[null,{"$f":"Equipes!$I$15","v":"GOURAINCOURT 2"},2,{"$f":"Equipes!$I$20","v":"DIEULOUARD 2"},{"$f":"IF(C15=\"\",\"\",IF(C15=\"F\",\"G\",IF(C15=\"G\",\"F\",IF(C15=\"B\",\"GB\",IF(C15=\"GB\",\"B\",36-C15)))))","v":34},"2023-09-09","DIEULOUARD"]
[null,{"$f":"Equipes!$I$17","v":"REHON 2"},20,{"$f":"Equipes!$I$22","v":"CHALIGNY 2"},{"$f":"IF(C16=\"\",\"\",IF(C16=\"F\",\"G\",IF(C16=\"G\",\"F\",IF(C16=\"B\",\"GB\",IF(C16=\"GB\",\"B\",36-C16)))))","v":16},null,"LONGWY"]
[null,{"$f":"Equipes!$I$18","v":"EXEMPT"},null,{"$f":"Equipes!$I$21","v":"JARNY 4"},{"$f":"IF(C17=\"\",\"\",IF(C17=\"F\",\"G\",IF(C17=\"G\",\"F\",IF(C17=\"B\",\"GB\",IF(C17=\"GB\",\"B\",36-C17)))))","v":""}]
[null,{"$f":"Equipes!$I$19","v":"DOMBASLE 3"},30,{"$f":"Equipes!$I$16","v":"MEXY"},{"$f":"IF(C18=\"\",\"\",IF(C18=\"F\",\"G\",IF(C18=\"G\",\"F\",IF(C18=\"B\",\"GB\",IF(C18=\"GB\",\"B\",36-C18)))))","v":6},null,"BOUXIERES"]
[null,"4°tour",null,"le 15/01/2022"]
[null,{"$f":"Equipes!$I$15","v":"GOURAINCOURT 2"},22,{"$f":"Equipes!$I$17","v":"REHON 2"},{"$f":"IF(C20=\"\",\"\",IF(C20=\"F\",\"G\",IF(C20=\"G\",\"F\",IF(C20=\"B\",\"GB\",IF(C20=\"GB\",\"B\",36-C20)))))","v":14},"2023-09-16","MONT St MARTIN"]
[null,{"$f":"Equipes!$I$18","v":"EXEMPT"},null,{"$f":"Equipes!$I$19","v":"DOMBASLE 3"},{"$f":"IF(C21=\"\",\"\",IF(C21=\"F\",\"G\",IF(C21=\"G\",\"F\",IF(C21=\"B\",\"GB\",IF(C21=\"GB\",\"B\",36-C21)))))","v":""}]
[null,{"$f":"Equipes!$I$21","v":"JARNY 4"},22,{"$f":"Equipes!$I$16","v":"MEXY"},{"$f":"IF(C22=\"\",\"\",IF(C22=\"F\",\"G\",IF(C22=\"G\",\"F\",IF(C22=\"B\",\"GB\",IF(C22=\"GB\",\"B\",36-C22)))))","v":14},null,"BRIEY"]
[null,{"$f":"Equipes!$I$20","v":"DIEULOUARD 2"},24,{"$f":"Equipes!$I$22","v":"CHALIGNY 2"},{"$f":"IF(C23=\"\",\"\",IF(C23=\"F\",\"G\",IF(C23=\"G\",\"F\",IF(C23=\"B\",\"GB\",IF(C23=\"GB\",\"B\",36-C23)))))","v":12},null,"CHALIGNY"]
[null,"5°tour",null,"le 22/01/2022"]
[null,{"$f":"Equipes!$I$15","v":"GOURAINCOURT 2"},null,{"$f":"Equipes!$I$18","v":"EXEMPT"},{"$f":"IF(C25=\"\",\"\",IF(C25=\"F\",\"G\",IF(C25=\"G\",\"F\",IF(C25=\"B\",\"GB\",IF(C25=\"GB\",\"B\",36-C25)))))","v":""},"2023-09-30"]
[null,{"$f":"Equipes!$I$17","v":"REHON 2"},12,{"$f":"Equipes!$I$19","v":"DOMBASLE 3"},{"$f":"IF(C26=\"\",\"\",IF(C26=\"F\",\"G\",IF(C26=\"G\",\"F\",IF(C26=\"B\",\"GB\",IF(C26=\"GB\",\"B\",36-C26)))))","v":24},null,"JARNY"]
[null,{"$f":"Equipes!$I$16","v":"MEXY"},26,{"$f":"Equipes!$I$22","v":"CHALIGNY 2"},{"$f":"IF(C27=\"\",\"\",IF(C27=\"F\",\"G\",IF(C27=\"G\",\"F\",IF(C27=\"B\",\"GB\",IF(C27=\"GB\",\"B\",36-C27)))))","v":10},null,"JARNY"]
[null,{"$f":"Equipes!$I$21","v":"JARNY 4"},20,{"$f":"Equipes!$I$20","v":"DIEULOUARD 2"},{"$f":"IF(C28=\"\",\"\",IF(C28=\"F\",\"G\",IF(C28=\"G\",\"F\",IF(C28=\"B\",\"GB\",IF(C28=\"GB\",\"B\",36-C28)))))","v":16},null,"JARNY"]
[null,"6°tour",null,"2023-06-27"]
[null,{"$f":"Equipes!$I$15","v":"GOURAINCOURT 2"},null,{"$f":"Equipes!$I$19","v":"DOMBASLE 3"},{"$f":"IF(C30=\"\",\"\",IF(C30=\"F\",\"G\",IF(C30=\"G\",\"F\",IF(C30=\"B\",\"GB\",IF(C30=\"GB\",\"B\",36-C30)))))","v":""},"2023-10-07","DIEULOUARD",null,"Classement",null,"Pts","G","N","P","F/B","+","-","GA"]
[null,{"$f":"Equipes!$I$17","v":"REHON 2"},null,{"$f":"Equipes!$I$21","v":"JARNY 4"},{"$f":"IF(C31=\"\",\"\",IF(C31=\"F\",\"G\",IF(C31=\"G\",\"F\",IF(C31=\"B\",\"GB\",IF(C31=\"GB\",\"B\",36-C31)))))","v":""},null,"MONT St MARTIN",null,1,"DIEULOUARD 2",12,3,1,1,0,112,68,44]
[null,{"$f":"Equipes!$I$18","v":"EXEMPT"},null,{"$f":"Equipes!$I$22","v":"CHALIGNY 2"},{"$f":"IF(C32=\"\",\"\",IF(C32=\"F\",\"G\",IF(C32=\"G\",\"F\",IF(C32=\"B\",\"GB\",IF(C32=\"GB\",\"B\",36-C32)))))","v":""},null,null,null,2,"DOMBASLE 3",10,3,0,1,0,92,52,40]
[null,{"$f":"Equipes!$I$16","v":"MEXY"},null,{"$f":"Equipes!$I$20","v":"DIEULOUARD 2"},{"$f":"IF(C33=\"\",\"\",IF(C33=\"F\",\"G\",IF(C33=\"G\",\"F\",IF(C33=\"B\",\"GB\",IF(C33=\"GB\",\"B\",36-C33)))))","v":""},null,"DIEULOUARD",null,3,"GOURAINCOURT 2",10,3,0,1,0,86,58,28]
[null,"7°tour",null,"le 12/02/2022",null,null,null,null,4,"JARNY 4",10,3,0,1,0,80,64,16]
[null,{"$f":"Equipes!$I$15","v":"GOURAINCOURT 2"},null,{"$f":"Equipes!$I$21","v":"JARNY 4"},{"$f":"IF(C35=\"\",\"\",IF(C35=\"F\",\"G\",IF(C35=\"G\",\"F\",IF(C35=\"B\",\"GB\",IF(C35=\"GB\",\"B\",36-C35)))))","v":""},"2023-10-14","JARNY",null,5,"REHON 2",7,1,1,2,0,64,80,-16]
[null,{"$f":"Equipes!$I$17","v":"REHON 2"},null,{"$f":"Equipes!$I$16","v":"MEXY"},{"$f":"IF(C36=\"\",\"\",IF(C36=\"F\",\"G\",IF(C36=\"G\",\"F\",IF(C36=\"B\",\"GB\",IF(C36=\"GB\",\"B\",36-C36)))))","v":""},null,"JARNY",null,6,"MEXY",6,1,0,3,0,56,88,-32]
[null,{"$f":"Equipes!$I$18","v":"EXEMPT"},null,{"$f":"Equipes!$I$20","v":"DIEULOUARD 2"},{"$f":"IF(C37=\"\",\"\",IF(C37=\"F\",\"G\",IF(C37=\"G\",\"F\",IF(C37=\"B\",\"GB\",IF(C37=\"GB\",\"B\",36-C37)))))","v":""},null,null,null,7,"CHALIGNY 2",5,0,0,5,0,50,130,-80]
[null,{"$f":"Equipes!$I$19","v":"DOMBASLE 3"},null,{"$f":"Equipes!$I$22","v":"CHALIGNY 2"},{"$f":"IF(C38=\"\",\"\",IF(C38=\"F\",\"G\",IF(C38=\"G\",\"F\",IF(C38=\"B\",\"GB\",IF(C38=\"GB\",\"B\",36-C38)))))","v":""},null,"ESSEY",null,8,"EXEMPT",0,0,0,0,0,0,0,0]

{"sheet":"Equipes","index":10,"n_rows":22,"n_cols":9,"rows_kept":22,"cut":false,"hidden":false,"merged":[[21,8,21,9],[0,0,2,9],[16,8,16,9],[17,8,17,9],[18,8,18,9],[19,8,19,9],[20,8,20,9],[20,4,20,5],[21,4,21,5],[20,6,20,7],[21,6,21,7],[4,8,4,9],[5,8,5,9],[6,8,6,9],[7,8,7,9],[8,8,8,9],[19,6,19,7],[9,8,9,9],[10,8,10,9],[11,8,11,9],[12,8,12,9],[13,8,13,9],[14,8,14,9],[15,8,15,9],[9,6,9,7],[14,6,14,7],[10,6,10,7],[18,6,18,7],[16,6,16,7],[15,6,15,7],[11,6,11,7],[12,6,12,7],[18,4,18,5],[19,4,19,5],[16,4,16,5],[17,4,17,5],[10,2,10,3],[13,2,13,3],[14,2,14,3],[15,4,15,5],[15,2,15,3],[11,2,11,3],[11,4,11,5],[12,4,12,5],[21,0,21,1],[20,2,20,3],[21,2,21,3],[9,2,9,3],[18,2,18,3],[19,2,19,3],[19,0,19,1],[20,0,20,1],[18,0,18,1],[11,0,11,1],[12,0,12,1],[12,2,12,3],[10,0,10,1],[9,0,9,1],[4,6,4,7],[5,6,5,7],[6,6,6,7],[7,6,7,7],[8,6,8,7],[17,6,17,7],[16,2,16,3],[17,2,17,3],[13,0,13,1],[14,0,14,1],[15,0,15,1],[16,0,16,1],[17,0,17,1],[13,6,13,7],[13,4,13,5],[14,4,14,5],[4,2,4,3],[5,2,5,3],[6,2,6,3],[7,2,7,3],[8,2,8,3],[4,0,4,1],[5,0,5,1],[6,0,6,1],[7,0,7,1],[8,0,8,1],[4,4,4,5],[5,4,5,5],[6,4,6,5],[7,4,7,5],[10,4,10,5],[9,4,9,5],[8,4,8,5]]}
["EQUIPES PAR DIVISION\nCDC 2023"]
[]
[]
[]
["DIV 1 - A",null,"DIV 1 - B",null,"DIV 2 - A",null,"DIV 2 - B",null,"DIV 3 - A"]
["PAGNY 2",null,"PAGNY 1",null,"GARI LUNEVILLE 2",null,"ANP 1",null,"ST NICOLAS 1"]
["LANEUVEVILLE 1",null,"LIVERDUN 1",null,"CHAMPIGNEULLES ",null,"PONT A MOUSSON 3",null,"SOMMERVILLER"]
["NEUVES MAISONS 1",null,"ST CHARLES 1",null,"DIEULOUARD 1",null,"MONT ST MARTIN 1",null,"JARVILLE "]
["DOMBASLE 1",null,"NEUVES MAISONS 2",null,"BACCARAT 1",null,"AP STE MARIE 1",null,"BAINVILLE 3"]
["PONT A MOUSSON 2",null,"ASPTT 1",null,"NEUVES MAISONS 3",null,"BAINVILLE 2",null,"LANEUVEVILLE 2"]
["VILLERS 1",null,"LONGWY 1",null,"VILLERS 2",null,"BRIEY 1",null,"ANP 2"]
["BOUXIERES 2",null,"MANCIEULLES 1",null,"VANDOEUVRE 1",null,"MANCIEULLES 2",null,"PAGNY 3"]
["AP LUNEVILLE 1",null,"BATILLY ",null,"ST NICOLAS 2",null,"JARNY 2",null,"AP STE MARIE 2"]
["DIV 3 - B",null,"DIV 4 - A",null,"DIV 4 - B",null,"DIV 5 - A",null,"DIV 5 - B"]
["CHAMPEY 1 FG",null,"AP LUNEVILLE 2",null,"LONGWY 2",null,"BEZAUMONT",null,"GOURAINCOURT 2"]
["SAULNES 1",null,"VILLERS 3",null,"JARNY 3",null,"CHALIGNY 1",null,"MEXY"]
["ESSEY 1",null,"AP STE MARIE 3",null,"MANCIEULLES 4",null,"ESSEY 2",null,"REHON 2"]
["REHON 1",null,"LIVERDUN 2",null,"PULNOY 2",null,"DOMBASLE 2",null,"EXEMPT"]
["MANCIEULLES 3",null,"PULNOY 1",null,"CHAMPEY 2",null,"VANDOEUVRE 2",null,"DOMBASLE 3"]
["GARI LUNEVILLE 3",null,"BACCARAT 2",null,"ST CHARLES 2",null,"ASPTT 2",null,"DIEULOUARD 2"]
["AUBOUE 1",null,"AUBOUE 2",null,"GOURAINCOURT 1",null,"LANEUVEVILLE 3",null,"JARNY 4"]
["MONT ST MARTIN 2",null,"ACBD ",null,"SAULNES 2",null,"GARI LUNEVILLE 4",null,"CHALIGNY 2"]