{"text_format":"1","workbook":"xlsx","n_sheets":3,"sheets":["DIV_1-F","DIV_2-F","Equipes"],"not_rendered":{"charts":0,"images":2,"macros":1,"external_links":0,"defined_names":3,"comments":0,"pivot_tables":0},"unopened":[],"bounds":{"document_bytes":16777216,"sheet_cells":100000,"rows_first":2000,"rows_last":500,"rows_between":2000,"halvings":0,"cell_chars":16384,"cell_head_chars":4096},"cells_cut":0,"cells_raw":0,"read":"whole","date_system":"1900"}

{"sheet":"DIV_1-F","index":0,"n_rows":38,"n_cols":18,"rows_kept":38,"cut":false,"hidden":false,"merged":[[29,5,32,5],[29,8,29,9],[34,5,37,5],[2,2,2,6],[4,5,7,5],[8,3,8,6],[9,5,12,5],[13,3,13,6],[14,5,17,5],[18,3,18,6],[19,5,22,5],[3,9,12,12],[15,9,26,12],[23,3,23,6],[24,5,27,5],[28,3,28,6]]}
[{"$f":"Equipes!$A$6","v":"BOUXIERES 2"}]
[{"$f":"Equipes!$A$7","v":"DIEULOUARD 1"}]
[{"$f":"Equipes!$A$8","v":"NEUVES MAISONS 2"},"1°tour"]
[{"$f":"Equipes!$A$9","v":"AP Ste MARIE"},"Club","score","Club","score","Date","Lieu",null,null,"CDC 2023 \nDIVISION 1 \nFEMININ"]
[{"$f":"Equipes!$A$10","v":"PONT A MOUSSON 2"},{"$f":"Equipes!$A$6","v":"BOUXIERES 2"},8,{"$f":"Equipes!$A$7","v":"DIEULOUARD 1"},{"$f":"IF(C5=\"\",\"\",IF(C5=\"F\",\"G\",IF(C5=\"G\",\"F\",IF(C5=\"B\",\"GB\",IF(C5=\"GB\",\"B\",12-C5)))))","v":4},"2023-03-18","BEZAUMONT"]
[{"$f":"Equipes!$A$11","v":"MONT ST MARTIN"},{"$f":"Equipes!$A$8","v":"NEUVES MAISONS 2"},6,{"$f":"Equipes!$A$9","v":"AP Ste MARIE"},{"$f":"IF(C6=\"\",\"\",IF(C6=\"F\",\"G\",IF(C6=\"G\",\"F\",IF(C6=\"B\",\"GB\",IF(C6=\"GB\",\"B\",12-C6)))))","v":6},null,"BEZAUMONT"]
[{"$f":"Equipes!$A$12","v":"REHON"},{"$f":"Equipes!$A$10","v":"PONT A MOUSSON 2"},7,{"$f":"Equipes!$A$11","v":"MONT ST MARTIN"},{"$f":"IF(C7=\"\",\"\",IF(C7=\"F\",\"G\",IF(C7=\"G\",\"F\",IF(C7=\"B\",\"GB\",IF(C7=\"GB\",\"B\",12-C7)))))","v":5},null,"PAGNY"]
[{"$f":"Equipes!$A$13","v":"EXEMPT"},{"$f":"Equipes!$A$12","v":"REHON"},null,{"$f":"Equipes!$A$13","v":"EXEMPT"},{"$f":"IF(C8=\"\",\"\",IF(C8=\"F\",\"G\",IF(C8=\"G\",\"F\",IF(C8=\"B\",\"GB\",IF(C8=\"GB\",\"B\",12-C8)))))","v":""}]
[null,"2°tour",null,"le 11/12/2021"]
[null,{"$f":"Equipes!$A$6","v":"BOUXIERES 2"},null,{"$f":"Equipes!$A$13","v":"EXEMPT"},{"$f":"IF(C10=\"\",\"\",IF(C10=\"F\",\"G\",IF(C10=\"G\",\"F\",IF(C10=\"B\",\"GB\",IF(C10=\"GB\",\"B\",12-C10)))))","v":""},"2023-06-24"]
[null,{"$f":"Equipes!$A$8","v":"NEUVES MAISONS 2"},3,{"$f":"Equipes!$A$11","v":"MONT ST MARTIN"},{"$f":"IF(C11=\"\",\"\",IF(C11=\"F\",\"G\",IF(C11=\"G\",\"F\",IF(C11=\"B\",\"GB\",IF(C11=\"GB\",\"B\",12-C11)))))","v":9},null,"ANP"]
[null,{"$f":"Equipes!$A$10","v":"PONT A MOUSSON 2"},8,{"$f":"Equipes!$A$12","v":"REHON"},{"$f":"IF(C12=\"\",\"\",IF(C12=\"F\",\"G\",IF(C12=\"G\",\"F\",IF(C12=\"B\",\"GB\",IF(C12=\"GB\",\"B\",12-C12)))))","v":4},null,"REHON "]
[null,{"$f":"Equipes!$A$9","v":"AP Ste MARIE"},6,{"$f":"Equipes!$A$7","v":"DIEULOUARD 1"},{"$f":"IF(C13=\"\",\"\",IF(C13=\"F\",\"G\",IF(C13=\"G\",\"F\",IF(C13=\"B\",\"GB\",IF(C13=\"GB\",\"B\",12-C13)))))","v":6},null,"ANP"]
[null,"3°tour",null,"le 4/12/2021"]
[null,{"$f":"Equipes!$A$6","v":"BOUXIERES 2"},6,{"$f":"Equipes!$A$11","v":"MONT ST MARTIN"},{"$f":"IF(C15=\"\",\"\",IF(C15=\"F\",\"G\",IF(C15=\"G\",\"F\",IF(C15=\"B\",\"GB\",IF(C15=\"GB\",\"B\",12-C15)))))","v":6},"2023-09-09","BOUXIERES"]
[null,{"$f":"Equipes!$A$8","v":"NEUVES MAISONS 2"},null,{"$f":"Equipes!$A$13","v":"EXEMPT"},{"$f":"IF(C16=\"\",\"\",IF(C16=\"F\",\"G\",IF(C16=\"G\",\"F\",IF(C16=\"B\",\"GB\",IF(C16=\"GB\",\"B\",12-C16)))))","v":""}]
[null,{"$f":"Equipes!$A$9","v":"AP Ste MARIE"},4,{"$f":"Equipes!$A$12","v":"REHON"},{"$f":"IF(C17=\"\",\"\",IF(C17=\"F\",\"G\",IF(C17=\"G\",\"F\",IF(C17=\"B\",\"GB\",IF(C17=\"GB\",\"B\",12-C17)))))","v":8},null,"AP Ste MARIE"]
[null,{"$f":"Equipes!$A$10","v":"PONT A MOUSSON 2"},3,{"$f":"Equipes!$A$7","v":"DIEULOUARD 1"},{"$f":"IF(C18=\"\",\"\",IF(C18=\"F\",\"G\",IF(C18=\"G\",\"F\",IF(C18=\"B\",\"GB\",IF(C18=\"GB\",\"B\",12-C18)))))","v":9},null,"DIEULOUARD"]
[null,"4°tour",null,"le 15/01/2022"]
[null,{"$f":"Equipes!$A$6","v":"BOUXIERES 2"},6,{"$f":"Equipes!$A$8","v":"NEUVES MAISONS 2"},{"$f":"IF(C20=\"\",\"\",IF(C20=\"F\",\"G\",IF(C20=\"G\",\"F\",IF(C20=\"B\",\"GB\",IF(C20=\"GB\",\"B\",12-C20)))))","v":6},"2023-09-16","NEUVES MAISONS"]
[null,{"$f":"Equipes!$A$9","v":"AP Ste MARIE"},7,{"$f":"Equipes!$A$10","v":"PONT A MOUSSON 2"},{"$f":"IF(C21=\"\",\"\",IF(C21=\"F\",\"G\",IF(C21=\"G\",\"F\",IF(C21=\"B\",\"GB\",IF(C21=\"GB\",\"B\",12-C21)))))","v":5},null,"LANEUVEVILLE"]
[null,{"$f":"Equipes!$A$12","v":"REHON"},7,{"$f":"Equipes!$A$7","v":"DIEULOUARD 1"},{"$f":"IF(C22=\"\",\"\",IF(C22=\"F\",\"G\",IF(C22=\"G\",\"F\",IF(C22=\"B\",\"GB\",IF(C22=\"GB\",\"B\",12-C22)))))","v":5},null,"BRIEY"]
[null,{"$f":"Equipes!$A$11","v":"MONT ST MARTIN"},null,{"$f":"Equipes!$A$13","v":"EXEMPT"},{"$f":"IF(C23=\"\",\"\",IF(C23=\"F\",\"G\",IF(C23=\"G\",\"F\",IF(C23=\"B\",\"GB\",IF(C23=\"GB\",\"B\",12-C23)))))","v":""}]
[null,"5°tour",null,"le 22/01/2022"]
[null,{"$f":"Equipes!$A$6","v":"BOUXIERES 2"},10,{"$f":"Equipes!$A$9","v":"AP Ste MARIE"},{"$f":"IF(C25=\"\",\"\",IF(C25=\"F\",\"G\",IF(C25=\"G\",\"F\",IF(C25=\"B\",\"GB\",IF(C25=\"GB\",\"B\",12-C25)))))","v":2},"2023-09-30","ANP"]
[null,{"$f":"Equipes!$A$8","v":"NEUVES MAISONS 2"},10,{"$f":"Equipes!$A$10","v":"PONT A MOUSSON 2"},{"$f":"IF(C26=\"\",\"\",IF(C26=\"F\",\"G\",IF(C26=\"G\",\"F\",IF(C26=\"B\",\"GB\",IF(C26=\"GB\",\"B\",12-C26)))))","v":2},null,"LIVERDUN"]
[null,{"$f":"Equipes!$A$7","v":"DIEULOUARD 1"},null,{"$f":"Equipes!$A$13","v":"EXEMPT"},{"$f":"IF(C27=\"\",\"\",IF(C27=\"F\",\"G\",IF(C27=\"G\",\"F\",IF(C27=\"B\",\"GB\",IF(C27=\"GB\",\"B\",12-C27)))))","v":""}]
[null,{"$f":"Equipes!$A$12","v":"REHON"},7,{"$f":"Equipes!$A$11","v":"MONT ST MARTIN"},{"$f":"IF(C28=\"\",\"\",IF(C28=\"F\",\"G\",IF(C28=\"G\",\"F\",IF(C28=\"B\",\"GB\",IF(C28=\"GB\",\"B\",12-C28)))))","v":5},null,"St CHARLES"]
[null,"6°tour",null,"2023-09-11"]
[null,{"$f":"Equipes!$A$6","v":"BOUXIERES 2"},null,{"$f":"Equipes!$A$10","v":"PONT A MOUSSON 2"},{"$f":"IF(C30=\"\",\"\",IF(C30=\"F\",\"G\",IF(C30=\"G\",\"F\",IF(C30=\"B\",\"GB\",IF(C30=\"GB\",\"B\",12-C30)))))","v":""},"2023-10-07","PAGNY",null,"Classement",null,"Pts","G","N","P","F/B","+","-","GA"]
[null,{"$f":"Equipes!$A$8","v":"NEUVES MAISONS 2"},null,{"$f":"Equipes!$A$12","v":"REHON"},{"$f":"IF(C31=\"\",\"\",IF(C31=\"F\",\"G\",IF(C31=\"G\",\"F\",IF(C31=\"B\",\"GB\",IF(C31=\"GB\",\"B\",12-C31)))))","v":""},null,"DIEULOUARD",null,1,"BOUXIERES 2",10,2,2,0,0,30,18,12]
[null,{"$f":"Equipes!$A$9","v":"AP Ste MARIE"},null,{"$f":"Equipes!$A$13","v":"EXEMPT"},{"$f":"IF(C32=\"\",\"\",IF(C32=\"F\",\"G\",IF(C32=\"G\",\"F\",IF(C32=\"B\",\"GB\",IF(C32=\"GB\",\"B\",12-C32)))))","v":""},null,null,null,2,"REHON",10,3,0,1,0,26,22,4]
[null,{"$f":"Equipes!$A$7","v":"DIEULOUARD 1"},null,{"$f":"Equipes!$A$11","v":"MONT ST MARTIN"},{"$f":"IF(C33=\"\",\"\",IF(C33=\"F\",\"G\",IF(C33=\"G\",\"F\",IF(C33=\"B\",\"GB\",IF(C33=\"GB\",\"B\",12-C33)))))","v":""},null,"MONT St MARTIN",null,3,"AP Ste MARIE",9,1,2,2,0,25,35,-10]
[null,"7°tour",null,"le 12/02/2022",null,null,null,null,4,"PONT A MOUSSON 2",9,2,0,3,0,25,35,-10]
[null,{"$f":"Equipes!$A$6","v":"BOUXIERES 2"},null,{"$f":"Equipes!$A$12","v":"REHON"},{"$f":"IF(C35=\"\",\"\",IF(C35=\"F\",\"G\",IF(C35=\"G\",\"F\",IF(C35=\"B\",\"GB\",IF(C35=\"GB\",\"B\",12-C35)))))","v":""},"2023-10-14","PONT A MOUSSON",null,5,"NEUVES MAISONS 2",8,1,2,1,0,25,23,2]
[null,{"$f":"Equipes!$A$8","v":"NEUVES MAISONS 2"},null,{"$f":"Equipes!$A$7","v":"DIEULOUARD 1"},{"$f":"IF(C36=\"\",\"\",IF(C36=\"F\",\"G\",IF(C36=\"G\",\"F\",IF(C36=\"B\",\"GB\",IF(C36=\"GB\",\"B\",12-C36)))))","v":""},null,"LIVERDUN",null,6,"MONT ST MARTIN",7,1,1,2,0,25,23,2]
[null,{"$f":"Equipes!$A$9","v":"AP Ste MARIE"},null,{"$f":"Equipes!$A$11","v":"MONT ST MARTIN"},{"$f":"IF(C37=\"\",\"\",IF(C37=\"F\",\"G\",IF(C37=\"G\",\"F\",IF(C37=\"B\",\"GB\",IF(C37=\"GB\",\"B\",12-C37)))))","v":""},null,"JARNY",null,7,"DIEULOUARD 1",7,1,1,2,0,24,24,0]
[null,{"$f":"Equipes!$A$10","v":"PONT A MOUSSON 2"},null,{"$f":"Equipes!$A$13","v":"EXEMPT"},{"$f":"IF(C38=\"\",\"\",IF(C38=\"F\",\"G\",IF(C38=\"G\",\"F\",IF(C38=\"B\",\"GB\",IF(C38=\"GB\",\"B\",12-C38)))))","v":""},null,null,null,8,"EXEMPT",0,0,0,0,0,0,0,0]

{"sheet":"DIV_2-F","index":1,"n_rows":28,"n_cols":18,"rows_kept":28,"cut":false,"hidden":false,"merged":[[7,9,16,12],[21,8,21,9],[14,5,17,5],[18,3,18,6],[19,5,22,5],[13,3,13,6],[2,2,2,6],[4,5,7,5],[8,3,8,6],[9,5,12,5],[24,5,27,5],[23,3,23,6]]}
[{"$f":"Equipes!$C$6","v":"DIEULOUARD 2"}]
[{"$f":"Equipes!$C$7","v":"DOMBASLE"}]
[{"$f":"Equipes!$C$8","v":"JARNY"},"1°tour"]
[{"$f":"Equipes!$C$9","v":"AP LUNEVILLE"},"Club","score","Club","score","Date","Lieu"]
[{"$f":"Equipes!$C$10","v":"NEUVES MAISONS 3"},{"$f":"Equipes!$C$6","v":"DIEULOUARD 2"},8,{"$f":"Equipes!$C$7","v":"DOMBASLE"},{"$f":"IF(C5=\"\",\"\",IF(C5=\"F\",\"G\",IF(C5=\"G\",\"F\",IF(C5=\"B\",\"GB\",IF(C5=\"GB\",\"B\",12-C5)))))","v":4},"2023-03-18","BEZAUMONT"]
[{"$f":"Equipes!$C$11","v":"BOUXIERES 3"},{"$f":"Equipes!$C$8","v":"JARNY"},3,{"$f":"Equipes!$C$9","v":"AP LUNEVILLE"},{"$f":"IF(C6=\"\",\"\",IF(C6=\"F\",\"G\",IF(C6=\"G\",\"F\",IF(C6=\"B\",\"GB\",IF(C6=\"GB\",\"B\",12-C6)))))","v":9},null,"BEZAUMONT"]
[{"$f":"Equipes!$C$12","v":0},{"$f":"Equipes!$C$10","v":"NEUVES MAISONS 3"},4,{"$f":"Equipes!$C$11","v":"BOUXIERES 3"},{"$f":"IF(C7=\"\",\"\",IF(C7=\"F\",\"G\",IF(C7=\"G\",\"F\",IF(C7=\"B\",\"GB\",IF(C7=\"GB\",\"B\",12-C7)))))","v":8},null,"BEZAUMONT"]
[{"$f":"Equipes!$C$13","v":0},{"$f":"Equipes!$C$12","v":0},null,{"$f":"Equipes!$C$13","v":0},{"$f":"IF(C8=\"\",\"\",IF(C8=\"F\",\"G\",IF(C8=\"G\",\"F\",IF(C8=\"B\",\"GB\",IF(C8=\"GB\",\"B\",12-C8)))))","v":""},null,null,null,null,"CDC 2023 \nDIVISION 2 \nFEMININ"]
[null,"2°tour",null,"le 11/12/2021"]
[null,{"$f":"Equipes!$C$6","v":"DIEULOUARD 2"},6,{"$f":"Equipes!$C$11","v":"BOUXIERES 3"},{"$f":"IF(C10=\"\",\"\",IF(C10=\"F\",\"G\",IF(C10=\"G\",\"F\",IF(C10=\"B\",\"GB\",IF(C10=\"GB\",\"B\",12-C10)))))","v":6},"2023-06-24","ANP"]
[null,{"$f":"Equipes!$C$7","v":"DOMBASLE"},4,{"$f":"Equipes!$C$8","v":"JARNY"},{"$f":"IF(C11=\"\",\"\",IF(C11=\"F\",\"G\",IF(C11=\"G\",\"F\",IF(C11=\"B\",\"GB\",IF(C11=\"GB\",\"B\",12-C11)))))","v":8},null,"BATILLY"]
[null,{"$f":"Equipes!$C$10","v":"NEUVES MAISONS 3"},"F",{"$f":"Equipes!$C$9","v":"AP LUNEVILLE"},{"$f":"IF(C12=\"\",\"\",IF(C12=\"F\",\"G\",IF(C12=\"G\",\"F\",IF(C12=\"B\",\"GB\",IF(C12=\"GB\",\"B\",12-C12)))))","v":"G"},null,"BACCARAT"]
[null,{"$f":"Equipes!$C$9","v":"AP LUNEVILLE"},null,{"$f":"Equipes!$C$7","v":"DOMBASLE"},{"$f":"IF(C13=\"\",\"\",IF(C13=\"F\",\"G\",IF(C13=\"G\",\"F\",IF(C13=\"B\",\"GB\",IF(C13=\"GB\",\"B\",12-C13)))))","v":""}]
[null,"3°tour",null,"le 4/12/2021"]
[null,{"$f":"Equipes!$C$6","v":"DIEULOUARD 2"},4,{"$f":"Equipes!$C$10","v":"NEUVES MAISONS 3"},{"$f":"IF(C15=\"\",\"\",IF(C15=\"F\",\"G\",IF(C15=\"G\",\"F\",IF(C15=\"B\",\"GB\",IF(C15=\"GB\",\"B\",12-C15)))))","v":8},"2023-09-09","DIEULOUARD"]
[null,{"$f":"Equipes!$C$7","v":"DOMBASLE"},3,{"$f":"Equipes!$C$9","v":"AP LUNEVILLE"},{"$f":"IF(C16=\"\",\"\",IF(C16=\"F\",\"G\",IF(C16=\"G\",\"F\",IF(C16=\"B\",\"GB\",IF(C16=\"GB\",\"B\",12-C16)))))","v":9},null,"BAINVILLE"]
[null,{"$f":"Equipes!$C$11","v":"BOUXIERES 3"},7,{"$f":"Equipes!$C$8","v":"JARNY"},{"$f":"IF(C17=\"\",\"\",IF(C17=\"F\",\"G\",IF(C17=\"G\",\"F\",IF(C17=\"B\",\"GB\",IF(C17=\"GB\",\"B\",12-C17)))))","v":5},null,"BOUXIERES"]
[null,{"$f":"Equipes!$C$10","v":"NEUVES MAISONS 3"},null,{"$f":"Equipes!$C$7","v":"DOMBASLE"},{"$f":"IF(C18=\"\",\"\",IF(C18=\"F\",\"G\",IF(C18=\"G\",\"F\",IF(C18=\"B\",\"GB\",IF(C18=\"GB\",\"B\",12-C18)))))","v":""}]
[null,"4°tour",null,"le 15/01/2022"]
[null,{"$f":"Equipes!$C$6","v":"DIEULOUARD 2"},1,{"$f":"Equipes!$C$9","v":"AP LUNEVILLE"},{"$f":"IF(C20=\"\",\"\",IF(C20=\"F\",\"G\",IF(C20=\"G\",\"F\",IF(C20=\"B\",\"GB\",IF(C20=\"GB\",\"B\",12-C20)))))","v":11},"2023-09-16","DOMBASLE"]
[null,{"$f":"Equipes!$C$10","v":"NEUVES MAISONS 3"},8,{"$f":"Equipes!$C$8","v":"JARNY"},{"$f":"IF(C21=\"\",\"\",IF(C21=\"F\",\"G\",IF(C21=\"G\",\"F\",IF(C21=\"B\",\"GB\",IF(C21=\"GB\",\"B\",12-C21)))))","v":4},null,"NEUVES MAISONS"]
[null,{"$f":"Equipes!$C$7","v":"DOMBASLE"},10,{"$f":"Equipes!$C$11","v":"BOUXIERES 3"},{"$f":"IF(C22=\"\",\"\",IF(C22=\"F\",\"G\",IF(C22=\"G\",\"F\",IF(C22=\"B\",\"GB\",IF(C22=\"GB\",\"B\",12-C22)))))","v":2},null,"DOMBASLE",null,"Classement",null,"Pts","G","N","P","F/B","+","-","GA"]
[null,{"$f":"Equipes!$C$11","v":"BOUXIERES 3"},null,{"$f":"Equipes!$C$13","v":0},{"$f":"IF(C23=\"\",\"\",IF(C23=\"F\",\"G\",IF(C23=\"G\",\"F\",IF(C23=\"B\",\"GB\",IF(C23=\"GB\",\"B\",12-C23)))))","v":""},null,null,null,1,"AP LUNEVILLE",15,5,0,0,0,57,10,47]
[null,"5°tour",null,"le 22/01/2022",null,null,null,null,2,"DIEULOUARD 2",10,2,1,2,0,27,33,-6]
[null,{"$f":"Equipes!$C$6","v":"DIEULOUARD 2"},8,{"$f":"Equipes!$C$8","v":"JARNY"},{"$f":"IF(C25=\"\",\"\",IF(C25=\"F\",\"G\",IF(C25=\"G\",\"F\",IF(C25=\"B\",\"GB\",IF(C25=\"GB\",\"B\",12-C25)))))","v":4},"2023-09-30","JARNY",null,3,"BOUXIERES 3",10,2,1,2,0,26,34,-8]
[null,{"$f":"Equipes!$C$9","v":"AP LUNEVILLE"},9,{"$f":"Equipes!$C$11","v":"BOUXIERES 3"},{"$f":"IF(C26=\"\",\"\",IF(C26=\"F\",\"G\",IF(C26=\"G\",\"F\",IF(C26=\"B\",\"GB\",IF(C26=\"GB\",\"B\",12-C26)))))","v":3},null,"JARVILLE",null,4,"NEUVES MAISONS 3",10,3,0,1,1,27,40,-13]
[null,{"$f":"Equipes!$C$7","v":"DOMBASLE"},5,{"$f":"Equipes!$C$10","v":"NEUVES MAISONS 3"},{"$f":"IF(C27=\"\",\"\",IF(C27=\"F\",\"G\",IF(C27=\"G\",\"F\",IF(C27=\"B\",\"GB\",IF(C27=\"GB\",\"B\",12-C27)))))","v":7},null,"JARVILLE",null,5,"DOMBASLE",7,1,0,4,0,26,34,-8]
[null,{"$f":"Equipes!$C$12","v":0},null,{"$f":"Equipes!$C$11","v":"BOUXIERES 3"},{"$f":"IF(C28=\"\",\"\",IF(C28=\"F\",\"G\",IF(C28=\"G\",\"F\",IF(C28=\"B\",\"GB\",IF(C28=\"GB\",\"B\",12-C28)))))","v":""},null,null,null,6,"JARNY",7,1,0,4,0,24,36,-12]

{"sheet":"Equipes","index":2,"n_rows":13,"n_cols":3,"rows_kept":13,"cut":false,"hidden":false,"merged":[[11,0,11,1],[12,0,12,1],[12,2,12,3],[9,2,9,3],[10,2,10,3],[11,2,11,3],[0,0,2,3],[10,0,10,1],[4,2,4,3],[5,2,5,3],[6,2,6,3],[7,2,7,3],[8,2,8,3],[4,0,4,1],[5,0,5,1],[6,0,6,1],[7,0,7,1],[8,0,8,1],[9,0,9,1]]}
["EQUIPES PAR DIVISION\nCDC FEMININ 2023"]
[]
[]
[]
["DIV 1 ",null,"DIV 2"]
["BOUXIERES 2",null,"DIEULOUARD 2"]
["DIEULOUARD 1",null,"DOMBASLE"]
["NEUVES MAISONS 2",null,"JARNY"]
["AP Ste MARIE",null,"AP LUNEVILLE"]
["PONT A MOUSSON 2",null,"NEUVES MAISONS 3"]
["MONT ST MARTIN",null,"BOUXIERES 3"]
["REHON"]
["EXEMPT"]