{"text_format":"1","workbook":"xlsx","n_sheets":9,"sheets":["Elite","Excel_A","Excel_B","Honneur_A","Honneur_B","Promo_A","Promo_B","Resultats","Equipes"],"not_rendered":{"charts":0,"images":1,"macros":1,"external_links":0,"defined_names":9,"comments":0,"pivot_tables":0},"unopened":[],"bounds":{"document_bytes":16777216,"sheet_cells":100000,"rows_first":2000,"rows_last":500,"rows_between":2000,"halvings":0,"cell_chars":16384,"cell_head_chars":4096},"cells_cut":0,"cells_raw":0,"read":"whole","date_system":"1900"}

{"sheet":"Elite","index":0,"n_rows":41,"n_cols":14,"rows_kept":41,"cut":false,"hidden":false,"merged":[[23,8,23,9],[2,1,3,6],[7,5,10,5],[12,5,15,5],[17,5,20,5],[22,5,25,5],[5,2,5,6],[11,3,11,6],[16,3,16,6],[21,3,21,6],[26,3,26,6],[31,3,31,6],[36,3,36,6],[32,5,35,5],[37,5,40,5],[27,5,30,5]]}
[{"$f":"Equipes!$A$6","v":"ANP 1"}]
[{"$f":"Equipes!$A$7","v":"Champigneulles 1"}]
[{"$f":"Equipes!$A$8","v":"Neuves Maisons 1"},"Calendrier Interclub saison 2021/2022\nDivision  Elite"]
[{"$f":"Equipes!$A$9","v":"Villers 1"}]
[{"$f":"Equipes!$A$10","v":"Bainville 1"}]
[{"$f":"Equipes!$A$11","v":"Bouxieres 1"},"1°tour"]
[{"$f":"Equipes!$A$12","v":"Gari 1"},"Club","score","Club","score","Date","Lieu"]
[{"$f":"Equipes!$A$13","v":"Exempt"},{"$f":"Equipes!$A$12","v":"Gari 1"},5,{"$f":"Equipes!$A$7","v":"Champigneulles 1"},{"$f":"IF(C8=\"\",\"\",IF(C8=\"F\",\"G\",IF(C8=\"G\",\"F\",9-C8)))","v":4},"2021-11-20","ASPTT"]
[null,{"$f":"Equipes!$A$8","v":"Neuves Maisons 1"},3,{"$f":"Equipes!$A$9","v":"Villers 1"},{"$f":"IF(C9=\"\",\"\",IF(C9=\"F\",\"G\",IF(C9=\"G\",\"F\",9-C9)))","v":6},null,"Neuves Maisons"]
[null,{"$f":"Equipes!$A$10","v":"Bainville 1"},7,{"$f":"Equipes!$A$11","v":"Bouxieres 1"},{"$f":"IF(C10=\"\",\"\",IF(C10=\"F\",\"G\",IF(C10=\"G\",\"F\",9-C10)))","v":2},null,"ASPTT"]
[null,{"$f":"Equipes!$A$6","v":"ANP 1"},null,{"$f":"Equipes!$A$13","v":"Exempt"},{"$f":"IF(C11=\"\",\"\",IF(C11=\"F\",\"G\",IF(C11=\"G\",\"F\",9-C11)))","v":""}]
[null,"2°tour",null,"le 11/12/2021"]
[null,{"$f":"Equipes!$A$6","v":"ANP 1"},6,{"$f":"Equipes!$A$11","v":"Bouxieres 1"},{"$f":"IF(C13=\"\",\"\",IF(C13=\"F\",\"G\",IF(C13=\"G\",\"F\",9-C13)))","v":3},"2021-12-11","ANP"]
[null,{"$f":"Equipes!$A$8","v":"Neuves Maisons 1"},8,{"$f":"Equipes!$A$10","v":"Bainville 1"},{"$f":"IF(C14=\"\",\"\",IF(C14=\"F\",\"G\",IF(C14=\"G\",\"F\",9-C14)))","v":1},null,"ANP"]
[null,{"$f":"Equipes!$A$12","v":"Gari 1"},1,{"$f":"Equipes!$A$9","v":"Villers 1"},{"$f":"IF(C15=\"\",\"\",IF(C15=\"F\",\"G\",IF(C15=\"G\",\"F\",9-C15)))","v":8},null,"Villers"]
[null,{"$f":"Equipes!$A$7","v":"Champigneulles 1"},null,{"$f":"Equipes!$A$13","v":"Exempt"},{"$f":"IF(C16=\"\",\"\",IF(C16=\"F\",\"G\",IF(C16=\"G\",\"F\",9-C16)))","v":""}]
[null,"3°tour",null,"le 4/12/2021",null,null,null,null,null,"Calendrier Interclub saison 2021/2022\nDivision  Elite"]
[null,{"$f":"Equipes!$A$6","v":"ANP 1"},4,{"$f":"Equipes!$A$8","v":"Neuves Maisons 1"},{"$f":"IF(C18=\"\",\"\",IF(C18=\"F\",\"G\",IF(C18=\"G\",\"F\",9-C18)))","v":5},"2021-12-04","ANP"]
[null,{"$f":"Equipes!$A$7","v":"Champigneulles 1"},1,{"$f":"Equipes!$A$9","v":"Villers 1"},{"$f":"IF(C19=\"\",\"\",IF(C19=\"F\",\"G\",IF(C19=\"G\",\"F\",9-C19)))","v":8},null,"ANP"]
[null,{"$f":"Equipes!$A$10","v":"Bainville 1"},9,{"$f":"Equipes!$A$12","v":"Gari 1"},{"$f":"IF(C20=\"\",\"\",IF(C20=\"F\",\"G\",IF(C20=\"G\",\"F\",9-C20)))","v":0},null,"ANP"]
[null,{"$f":"Equipes!$A$11","v":"Bouxieres 1"},null,{"$f":"Equipes!$A$13","v":"Exempt"},{"$f":"IF(C21=\"\",\"\",IF(C21=\"F\",\"G\",IF(C21=\"G\",\"F\",9-C21)))","v":""}]
[null,"4°tour",null,"le 15/01/2022"]
[null,{"$f":"Equipes!$A$12","v":"Gari 1"},7,{"$f":"Equipes!$A$8","v":"Neuves Maisons 1"},{"$f":"IF(C23=\"\",\"\",IF(C23=\"F\",\"G\",IF(C23=\"G\",\"F\",9-C23)))","v":2},"2022-01-30","Ap Luneville"]
[null,{"$f":"Equipes!$A$11","v":"Bouxieres 1"},5,{"$f":"Equipes!$A$9","v":"Villers 1"},{"$f":"IF(C24=\"\",\"\",IF(C24=\"F\",\"G\",IF(C24=\"G\",\"F\",9-C24)))","v":4},null,"Ap luneville",null,"Elite "]
[null,{"$f":"Equipes!$A$6","v":"ANP 1"},9,{"$f":"Equipes!$A$7","v":"Champigneulles 1"},{"$f":"IF(C25=\"\",\"\",IF(C25=\"F\",\"G\",IF(C25=\"G\",\"F\",9-C25)))","v":0},null,"Ap luneville",null,"Ordre","Club","Points","Gagnées","Perdues","GA"]
[null,{"$f":"Equipes!$A$10","v":"Bainville 1"},null,{"$f":"Equipes!$A$13","v":"Exempt"},{"$f":"IF(C26=\"\",\"\",IF(C26=\"F\",\"G\",IF(C26=\"G\",\"F\",9-C26)))","v":""},null,null,null,"1°","ANP 1",14,35,19,16]
[null,"5°tour",null,"le 22/01/2022",null,null,null,null,"2°","Villers 1",14,35,19,16]
[null,{"$f":"Equipes!$A$6","v":"ANP 1"},4,{"$f":"Equipes!$A$12","v":"Gari 1"},{"$f":"IF(C28=\"\",\"\",IF(C28=\"F\",\"G\",IF(C28=\"G\",\"F\",9-C28)))","v":5},"2022-01-22","ANP",null,"3°","Neuves Maisons 1",14,30,24,6]
[null,{"$f":"Equipes!$A$7","v":"Champigneulles 1"},1,{"$f":"Equipes!$A$11","v":"Bouxieres 1"},{"$f":"IF(C29=\"\",\"\",IF(C29=\"F\",\"G\",IF(C29=\"G\",\"F\",9-C29)))","v":8},null,"Villers",null,"4°","Gari 1",14,23,31,-8]
[null,{"$f":"Equipes!$A$9","v":"Villers 1"},5,{"$f":"Equipes!$A$10","v":"Bainville 1"},{"$f":"IF(C30=\"\",\"\",IF(C30=\"F\",\"G\",IF(C30=\"G\",\"F\",9-C30)))","v":4},null,"Villers",null,"5°","Bainville 1",12,32,22,10]
[null,{"$f":"Equipes!$A$8","v":"Neuves Maisons 1"},null,{"$f":"Equipes!$A$13","v":"Exempt"},{"$f":"IF(C31=\"\",\"\",IF(C31=\"F\",\"G\",IF(C31=\"G\",\"F\",9-C31)))","v":""},null,null,null,"6°","Bouxieres 1",10,26,28,-2]
[null,"6°tour",null,"le 5/02/2022",null,null,null,null,"7°","Champigneulles 1",4,8,46,-38]
[null,{"$f":"Equipes!$A$7","v":"Champigneulles 1"},2,{"$f":"Equipes!$A$8","v":"Neuves Maisons 1"},{"$f":"IF(C33=\"\",\"\",IF(C33=\"F\",\"G\",IF(C33=\"G\",\"F\",9-C33)))","v":7},"2022-02-05","Neuves Maisons",null,"8°","Exempt",0,0,0,0]
[null,{"$f":"Equipes!$A$10","v":"Bainville 1"},2,{"$f":"Equipes!$A$6","v":"ANP 1"},{"$f":"IF(C34=\"\",\"\",IF(C34=\"F\",\"G\",IF(C34=\"G\",\"F\",9-C34)))","v":7},null,"Villers"]
[null,{"$f":"Equipes!$A$12","v":"Gari 1"},5,{"$f":"Equipes!$A$11","v":"Bouxieres 1"},{"$f":"IF(C35=\"\",\"\",IF(C35=\"F\",\"G\",IF(C35=\"G\",\"F\",9-C35)))","v":4},null,"Villers"]
[null,{"$f":"Equipes!$A$13","v":"Exempt"},null,{"$f":"Equipes!$A$9","v":"Villers 1"},{"$f":"IF(C36=\"\",\"\",IF(C36=\"F\",\"G\",IF(C36=\"G\",\"F\",9-C36)))","v":""}]
[null,"7°tour",null,"le 12/02/2022"]
[null,{"$f":"Equipes!$A$11","v":"Bouxieres 1"},4,{"$f":"Equipes!$A$8","v":"Neuves Maisons 1"},{"$f":"IF(C38=\"\",\"\",IF(C38=\"F\",\"G\",IF(C38=\"G\",\"F\",9-C38)))","v":5},"2022-02-12","Neuves Maisons"]
[null,{"$f":"Equipes!$A$6","v":"ANP 1"},5,{"$f":"Equipes!$A$9","v":"Villers 1"},{"$f":"IF(C39=\"\",\"\",IF(C39=\"F\",\"G\",IF(C39=\"G\",\"F\",9-C39)))","v":4},null,"Neuves Maisons"]
[null,{"$f":"Equipes!$A$10","v":"Bainville 1"},"G",{"$f":"Equipes!$A$7","v":"Champigneulles 1"},{"$f":"IF(C40=\"\",\"\",IF(C40=\"F\",\"G\",IF(C40=\"G\",\"F\",9-C40)))","v":"F"},null,"Neuves Maisons"]
[null,{"$f":"Equipes!$A$12","v":"Gari 1"},null,{"$f":"Equipes!$A$13","v":"Exempt"},{"$f":"IF(C41=\"\",\"\",IF(C41=\"F\",\"G\",IF(C41=\"G\",\"F\",9-C41)))","v":""}]

{"sheet":"Excel_A","index":1,"n_rows":31,"n_cols":14,"rows_kept":31,"cut":false,"hidden":false,"merged":[[28,5,30,5],[23,8,23,9],[2,1,3,6],[8,5,10,5],[13,5,15,5],[18,5,20,5],[23,5,25,5]]}
[{"$f":"Equipes!$C$6","v":"Exempt"}]
[{"$f":"Equipes!$C$7","v":"St Nicolas 1"}]
[{"$f":"Equipes!$C$8","v":"Ap Ste Marie"},"Calendrier Interclub saison 2021/2022\nDivision Excellence A"]
[{"$f":"Equipes!$C$9","v":"Charmes 1"}]
[{"$f":"Equipes!$C$10","v":"Mirecourt 2"}]
[{"$f":"Equipes!$C$11","v":"Dombasle 1"}]
[null,"1°tour"]
[null,"Club","score","Club","score","Date","Lieu"]
[null,{"$f":"Equipes!$C$6","v":"Exempt"},null,{"$f":"Equipes!$C$7","v":"St Nicolas 1"},{"$f":"IF(C9=\"\",\"\",IF(C9=\"F\",\"G\",IF(C9=\"G\",\"F\",9-C9)))","v":""},"2021-11-20"]
[null,{"$f":"Equipes!$C$8","v":"Ap Ste Marie"},2,{"$f":"Equipes!$C$9","v":"Charmes 1"},{"$f":"IF(C10=\"\",\"\",IF(C10=\"F\",\"G\",IF(C10=\"G\",\"F\",9-C10)))","v":7},null,"Charmes"]
[null,{"$f":"Equipes!$C$10","v":"Mirecourt 2"},2,{"$f":"Equipes!$C$11","v":"Dombasle 1"},{"$f":"IF(C11=\"\",\"\",IF(C11=\"F\",\"G\",IF(C11=\"G\",\"F\",9-C11)))","v":7},null,"Neuves Maisons"]
[]
[null,"2°tour"]
[null,{"$f":"Equipes!$C$6","v":"Exempt"},null,{"$f":"Equipes!$C$11","v":"Dombasle 1"},{"$f":"IF(C14=\"\",\"\",IF(C14=\"F\",\"G\",IF(C14=\"G\",\"F\",9-C14)))","v":""},"2021-12-11"]
[null,{"$f":"Equipes!$C$7","v":"St Nicolas 1"},7,{"$f":"Equipes!$C$8","v":"Ap Ste Marie"},{"$f":"IF(C15=\"\",\"\",IF(C15=\"F\",\"G\",IF(C15=\"G\",\"F\",9-C15)))","v":2},null,"ANP"]
[null,{"$f":"Equipes!$C$10","v":"Mirecourt 2"},0,{"$f":"Equipes!$C$9","v":"Charmes 1"},{"$f":"IF(C16=\"\",\"\",IF(C16=\"F\",\"G\",IF(C16=\"G\",\"F\",9-C16)))","v":9},null,"Villers"]
[]
[null,"3°tour"]
[null,{"$f":"Equipes!$C$6","v":"Exempt"},null,{"$f":"Equipes!$C$10","v":"Mirecourt 2"},{"$f":"IF(C19=\"\",\"\",IF(C19=\"F\",\"G\",IF(C19=\"G\",\"F\",9-C19)))","v":""},"2022-01-22"]
[null,{"$f":"Equipes!$C$7","v":"St Nicolas 1"},4,{"$f":"Equipes!$C$9","v":"Charmes 1"},{"$f":"IF(C20=\"\",\"\",IF(C20=\"F\",\"G\",IF(C20=\"G\",\"F\",9-C20)))","v":5},null,"ANP"]
[null,{"$f":"Equipes!$C$11","v":"Dombasle 1"},5,{"$f":"Equipes!$C$8","v":"Ap Ste Marie"},{"$f":"IF(C21=\"\",\"\",IF(C21=\"F\",\"G\",IF(C21=\"G\",\"F\",9-C21)))","v":4},null,"ANP"]
[]
[null,"4°tour"]
[null,{"$f":"Equipes!$C$6","v":"Exempt"},null,{"$f":"Equipes!$C$9","v":"Charmes 1"},{"$f":"IF(C24=\"\",\"\",IF(C24=\"F\",\"G\",IF(C24=\"G\",\"F\",9-C24)))","v":""},"2022-02-05",null,null,"Excellence  A "]
[null,{"$f":"Equipes!$C$10","v":"Mirecourt 2"},3,{"$f":"Equipes!$C$8","v":"Ap Ste Marie"},{"$f":"IF(C25=\"\",\"\",IF(C25=\"F\",\"G\",IF(C25=\"G\",\"F\",9-C25)))","v":6},null,"Neuves maisons",null,"Ordre","Club","Points","Gagnées","Perdues","GA"]
[null,{"$f":"Equipes!$C$7","v":"St Nicolas 1"},5,{"$f":"Equipes!$C$11","v":"Dombasle 1"},{"$f":"IF(C26=\"\",\"\",IF(C26=\"F\",\"G\",IF(C26=\"G\",\"F\",9-C26)))","v":4},null,"A N P",null,"1°","Charmes 1",12,27,9,18]
[null,null,null,null,null,null,null,null,"2°","St Nicolas 1",10,24,12,12]
[null,"5  °tour",null,null,null,null,null,null,"3°","Dombasle 1",8,19,17,2]
[null,{"$f":"Equipes!$C$6","v":"Exempt"},null,{"$f":"Equipes!$C$8","v":"Ap Ste Marie"},{"$f":"IF(C29=\"\",\"\",IF(C29=\"F\",\"G\",IF(C29=\"G\",\"F\",9-C29)))","v":""},"2022-02-12",null,null,"4°","Ap Ste Marie",6,14,22,-8]
[null,{"$f":"Equipes!$C$9","v":"Charmes 1"},6,{"$f":"Equipes!$C$11","v":"Dombasle 1"},{"$f":"IF(C30=\"\",\"\",IF(C30=\"F\",\"G\",IF(C30=\"G\",\"F\",9-C30)))","v":3},null,"Mirecourt",null,"5°","Mirecourt 2",4,6,30,-24]
[null,{"$f":"Equipes!$C$7","v":"St Nicolas 1"},8,{"$f":"Equipes!$C$10","v":"Mirecourt 2"},{"$f":"IF(C31=\"\",\"\",IF(C31=\"F\",\"G\",IF(C31=\"G\",\"F\",9-C31)))","v":1},null,"Mirecourt",null,"6°","Exempt",0,0,0,0]

{"sheet":"Excel_B","index":2,"n_rows":31,"n_cols":14,"rows_kept":31,"cut":false,"hidden":false,"merged":[[28,5,30,5],[23,8,23,9],[2,1,3,6],[8,5,10,5],[13,5,15,5],[18,5,20,5],[23,5,25,5]]}
[{"$f":"Equipes!$C$15","v":"Thaon 1"}]
[{"$f":"Equipes!$C$16","v":"Villers 2"}]
[{"$f":"Equipes!$C$17","v":"Ap Luneville 1"},"Calendrier Interclub saison 2021/2022\nDivision Excellence B"]
[{"$f":"Equipes!$C$18","v":"Sommerviller 1"}]
[{"$f":"Equipes!$C$19","v":"Bainville 2"}]
[{"$f":"Equipes!$C$20","v":"Mirecourt 1"}]
[null,"1°tour"]
[null,"Club","score","Club","score","Date","Lieu"]
[null,{"$f":"Equipes!$C$15","v":"Thaon 1"},7,{"$f":"Equipes!$C$16","v":"Villers 2"},{"$f":"IF(C9=\"\",\"\",IF(C9=\"F\",\"G\",IF(C9=\"G\",\"F\",9-C9)))","v":2},"2021-11-20","Ap Luneville"]
[null,{"$f":"Equipes!$C$17","v":"Ap Luneville 1"},8,{"$f":"Equipes!$C$18","v":"Sommerviller 1"},{"$f":"IF(C10=\"\",\"\",IF(C10=\"F\",\"G\",IF(C10=\"G\",\"F\",9-C10)))","v":1},null,"Ap Luneville"]
[null,{"$f":"Equipes!$C$19","v":"Bainville 2"},4,{"$f":"Equipes!$C$20","v":"Mirecourt 1"},{"$f":"IF(C11=\"\",\"\",IF(C11=\"F\",\"G\",IF(C11=\"G\",\"F\",9-C11)))","v":5},null,"Ap Luneville"]
[]
[null,"2°tour"]
[null,{"$f":"Equipes!$C$15","v":"Thaon 1"},6,{"$f":"Equipes!$C$19","v":"Bainville 2"},{"$f":"IF(C14=\"\",\"\",IF(C14=\"F\",\"G\",IF(C14=\"G\",\"F\",9-C14)))","v":3},"2021-12-11","Thaon"]
[null,{"$f":"Equipes!$C$18","v":"Sommerviller 1"},4,{"$f":"Equipes!$C$20","v":"Mirecourt 1"},{"$f":"IF(C15=\"\",\"\",IF(C15=\"F\",\"G\",IF(C15=\"G\",\"F\",9-C15)))","v":5},null,"Mirecourt"]
[null,{"$f":"Equipes!$C$16","v":"Villers 2"},1,{"$f":"Equipes!$C$17","v":"Ap Luneville 1"},{"$f":"IF(C16=\"\",\"\",IF(C16=\"F\",\"G\",IF(C16=\"G\",\"F\",9-C16)))","v":8},null,"Villers"]
[]
[null,"3°tour"]
[null,{"$f":"Equipes!$C$15","v":"Thaon 1"},5,{"$f":"Equipes!$C$20","v":"Mirecourt 1"},{"$f":"IF(C19=\"\",\"\",IF(C19=\"F\",\"G\",IF(C19=\"G\",\"F\",9-C19)))","v":4},"2022-01-22","Thaon"]
[null,{"$f":"Equipes!$C$19","v":"Bainville 2"},3,{"$f":"Equipes!$C$17","v":"Ap Luneville 1"},{"$f":"IF(C20=\"\",\"\",IF(C20=\"F\",\"G\",IF(C20=\"G\",\"F\",9-C20)))","v":6},null,"Ap Luneville"]
[null,{"$f":"Equipes!$C$18","v":"Sommerviller 1"},3,{"$f":"Equipes!$C$16","v":"Villers 2"},{"$f":"IF(C21=\"\",\"\",IF(C21=\"F\",\"G\",IF(C21=\"G\",\"F\",9-C21)))","v":6},null,"Ap Luneville"]
[]
[null,"4°tour"]
[null,{"$f":"Equipes!$C$19","v":"Bainville 2"},7,{"$f":"Equipes!$C$16","v":"Villers 2"},{"$f":"IF(C24=\"\",\"\",IF(C24=\"F\",\"G\",IF(C24=\"G\",\"F\",9-C24)))","v":2},"2022-02-05","Villers",null,"Excellence  B"]
[null,{"$f":"Equipes!$C$15","v":"Thaon 1"},8,{"$f":"Equipes!$C$18","v":"Sommerviller 1"},{"$f":"IF(C25=\"\",\"\",IF(C25=\"F\",\"G\",IF(C25=\"G\",\"F\",9-C25)))","v":1},null,"Charmes",null,"Ordre","Club","Points","Gagnées","Perdues","GA"]
[null,{"$f":"Equipes!$C$20","v":"Mirecourt 1"},2,{"$f":"Equipes!$C$17","v":"Ap Luneville 1"},{"$f":"IF(C26=\"\",\"\",IF(C26=\"F\",\"G\",IF(C26=\"G\",\"F\",9-C26)))","v":7},null,"Mirecourt",null,"1°","Ap Luneville 1",15,35,10,25]
[null,null,null,null,null,null,null,null,"2°","Thaon 1",13,29,16,13]
[null,"5  °tour",null,null,null,null,null,null,"3°","Mirecourt 1",11,21,24,-3]
[null,{"$f":"Equipes!$C$18","v":"Sommerviller 1"},3,{"$f":"Equipes!$C$19","v":"Bainville 2"},{"$f":"IF(C29=\"\",\"\",IF(C29=\"F\",\"G\",IF(C29=\"G\",\"F\",9-C29)))","v":6},"2022-02-12","Ap Luneville",null,"4°","Bainville 2",9,23,22,1]
[null,{"$f":"Equipes!$C$16","v":"Villers 2"},4,{"$f":"Equipes!$C$20","v":"Mirecourt 1"},{"$f":"IF(C30=\"\",\"\",IF(C30=\"F\",\"G\",IF(C30=\"G\",\"F\",9-C30)))","v":5},null,"Ap Luneville",null,"5°","Villers 2",7,15,30,-15]
[null,{"$f":"Equipes!$C$15","v":"Thaon 1"},3,{"$f":"Equipes!$C$17","v":"Ap Luneville 1"},{"$f":"IF(C31=\"\",\"\",IF(C31=\"F\",\"G\",IF(C31=\"G\",\"F\",9-C31)))","v":6},null,"Ap Luneville",null,"6°","Sommerviller 1",5,12,33,-21]

{"sheet":"Honneur_A","index":3,"n_rows":31,"n_cols":14,"rows_kept":31,"cut":false,"hidden":false,"merged":[[28,5,30,5],[23,8,23,9],[2,1,3,6],[8,5,10,5],[13,5,15,5],[18,5,20,5],[23,5,25,5]]}
[{"$f":"Equipes!$E$6","v":"St Nicolas 2"}]
[{"$f":"Equipes!$E$7","v":"Exempt"}]
[{"$f":"Equipes!$E$8","v":"Neuves Maisons 3"},"Calendrier Interclub saison 2021/2022\nDivision Honneur A"]
[{"$f":"Equipes!$E$9","v":"Gari 2"}]
[{"$f":"Equipes!$E$10","v":"Neufchateau 1"}]
[{"$f":"Equipes!$E$11","v":"ANP 2"}]
[null,"1°tour"]
[null,"Club","score","Club","score","Date","Lieu"]
[null,{"$f":"Equipes!$E$6","v":"St Nicolas 2"},null,{"$f":"Equipes!$E$7","v":"Exempt"},{"$f":"IF(C9=\"\",\"\",IF(C9=\"F\",\"G\",IF(C9=\"G\",\"F\",9-C9)))","v":""},"2021-11-20"]
[null,{"$f":"Equipes!$E$8","v":"Neuves Maisons 3"},5,{"$f":"Equipes!$E$9","v":"Gari 2"},{"$f":"IF(C10=\"\",\"\",IF(C10=\"F\",\"G\",IF(C10=\"G\",\"F\",9-C10)))","v":4},null,"Neuves Maisons"]
[null,{"$f":"Equipes!$E$10","v":"Neufchateau 1"},6,{"$f":"Equipes!$E$11","v":"ANP 2"},{"$f":"IF(C11=\"\",\"\",IF(C11=\"F\",\"G\",IF(C11=\"G\",\"F\",9-C11)))","v":3},null,"ASPTT"]
[]
[null,"2°tour"]
[null,{"$f":"Equipes!$E$6","v":"St Nicolas 2"},3,{"$f":"Equipes!$E$8","v":"Neuves Maisons 3"},{"$f":"IF(C14=\"\",\"\",IF(C14=\"F\",\"G\",IF(C14=\"G\",\"F\",9-C14)))","v":6},"2021-12-11","ANP"]
[null,{"$f":"Equipes!$E$11","v":"ANP 2"},1,{"$f":"Equipes!$E$9","v":"Gari 2"},{"$f":"IF(C15=\"\",\"\",IF(C15=\"F\",\"G\",IF(C15=\"G\",\"F\",9-C15)))","v":8},null,"Mirecourt"]
[null,{"$f":"Equipes!$E$10","v":"Neufchateau 1"},null,{"$f":"Equipes!$E$7","v":"Exempt"},{"$f":"IF(C16=\"\",\"\",IF(C16=\"F\",\"G\",IF(C16=\"G\",\"F\",9-C16)))","v":""}]
[]
[null,"3°tour"]
[null,{"$f":"Equipes!$E$10","v":"Neufchateau 1"},5,{"$f":"Equipes!$E$8","v":"Neuves Maisons 3"},{"$f":"IF(C19=\"\",\"\",IF(C19=\"F\",\"G\",IF(C19=\"G\",\"F\",9-C19)))","v":4},"2022-01-22","Neufchateau"]
[null,{"$f":"Equipes!$E$9","v":"Gari 2"},8,{"$f":"Equipes!$E$6","v":"St Nicolas 2"},{"$f":"IF(C20=\"\",\"\",IF(C20=\"F\",\"G\",IF(C20=\"G\",\"F\",9-C20)))","v":1},null,"Mirecourt"]
[null,{"$f":"Equipes!$E$11","v":"ANP 2"},null,{"$f":"Equipes!$E$7","v":"Exempt"},{"$f":"IF(C21=\"\",\"\",IF(C21=\"F\",\"G\",IF(C21=\"G\",\"F\",9-C21)))","v":""}]
[]
[null,"4°tour"]
[null,{"$f":"Equipes!$E$11","v":"ANP 2"},7,{"$f":"Equipes!$E$6","v":"St Nicolas 2"},{"$f":"IF(C24=\"\",\"\",IF(C24=\"F\",\"G\",IF(C24=\"G\",\"F\",9-C24)))","v":2},"2022-02-05","Ap Luneville",null,"Honneur A  "]
[null,{"$f":"Equipes!$E$10","v":"Neufchateau 1"},6,{"$f":"Equipes!$E$9","v":"Gari 2"},{"$f":"IF(C25=\"\",\"\",IF(C25=\"F\",\"G\",IF(C25=\"G\",\"F\",9-C25)))","v":3},null,"Neuves Maisons",null,"Ordre","Club","Points","Gagnées","Perdues","GA"]
[null,{"$f":"Equipes!$E$8","v":"Neuves Maisons 3"},null,{"$f":"Equipes!$E$7","v":"Exempt"},{"$f":"IF(C26=\"\",\"\",IF(C26=\"F\",\"G\",IF(C26=\"G\",\"F\",9-C26)))","v":""},null,null,null,"1°","Neufchateau 1",12,23,13,10]
[null,null,null,null,null,null,null,null,"2°","Neuves Maisons 3",10,20,16,4]
[null,"5  °tour",null,null,null,null,null,null,"3°","Gari 2",8,23,13,10]
[null,{"$f":"Equipes!$E$6","v":"St Nicolas 2"},3,{"$f":"Equipes!$E$10","v":"Neufchateau 1"},{"$f":"IF(C29=\"\",\"\",IF(C29=\"F\",\"G\",IF(C29=\"G\",\"F\",9-C29)))","v":6},"2022-02-12","ASPTT",null,"4°","ANP 2",6,15,21,-6]
[null,{"$f":"Equipes!$E$11","v":"ANP 2"},4,{"$f":"Equipes!$E$8","v":"Neuves Maisons 3"},{"$f":"IF(C30=\"\",\"\",IF(C30=\"F\",\"G\",IF(C30=\"G\",\"F\",9-C30)))","v":5},null,"ASPTT",null,"5°","St Nicolas 2",4,9,27,-18]
[null,{"$f":"Equipes!$E$9","v":"Gari 2"},null,{"$f":"Equipes!$E$7","v":"Exempt"},{"$f":"IF(C31=\"\",\"\",IF(C31=\"F\",\"G\",IF(C31=\"G\",\"F\",9-C31)))","v":""},null,null,null,"6°","Exempt",0,0,0,0]

{"sheet":"Honneur_B","index":4,"n_rows":31,"n_cols":14,"rows_kept":31,"cut":false,"hidden":false,"merged":[[28,5,30,5],[23,8,23,9],[2,1,3,6],[8,5,10,5],[13,5,15,5],[18,5,20,5],[23,5,25,5]]}
[{"$f":"Equipes!$E$15","v":"ASPTT 1"}]
[{"$f":"Equipes!$E$16","v":"Vandoeuvre 1"}]
[{"$f":"Equipes!$E$17","v":"Thaon 2"},"Calendrier Interclub saison 2021/2022\nDivision Honneur B"]
[{"$f":"Equipes!$E$18","v":"Neuves Maisons 2"}]
[{"$f":"Equipes!$E$19","v":"Essey 1"}]
[{"$f":"Equipes!$E$20","v":"Baccarat 1"}]
[null,"1°tour"]
[null,"Club","score","Club","score","Date","Lieu"]
[null,{"$f":"Equipes!$E$15","v":"ASPTT 1"},8,{"$f":"Equipes!$E$16","v":"Vandoeuvre 1"},{"$f":"IF(C9=\"\",\"\",IF(C9=\"F\",\"G\",IF(C9=\"G\",\"F\",9-C9)))","v":1},"2021-11-20","ASPTT"]
[null,{"$f":"Equipes!$E$17","v":"Thaon 2"},7,{"$f":"Equipes!$E$18","v":"Neuves Maisons 2"},{"$f":"IF(C10=\"\",\"\",IF(C10=\"F\",\"G\",IF(C10=\"G\",\"F\",9-C10)))","v":2},null,"Thaon"]
[null,{"$f":"Equipes!$E$19","v":"Essey 1"},2,{"$f":"Equipes!$E$20","v":"Baccarat 1"},{"$f":"IF(C11=\"\",\"\",IF(C11=\"F\",\"G\",IF(C11=\"G\",\"F\",9-C11)))","v":7},null,"Baccarat"]
[]
[null,"2°tour"]
[null,{"$f":"Equipes!$E$19","v":"Essey 1"},3,{"$f":"Equipes!$E$18","v":"Neuves Maisons 2"},{"$f":"IF(C14=\"\",\"\",IF(C14=\"F\",\"G\",IF(C14=\"G\",\"F\",9-C14)))","v":6},"2021-12-11","Neuves Maisons"]
[null,{"$f":"Equipes!$E$16","v":"Vandoeuvre 1"},5,{"$f":"Equipes!$E$17","v":"Thaon 2"},{"$f":"IF(C15=\"\",\"\",IF(C15=\"F\",\"G\",IF(C15=\"G\",\"F\",9-C15)))","v":4},null,"Charmes"]
[null,{"$f":"Equipes!$E$15","v":"ASPTT 1"},7,{"$f":"Equipes!$E$20","v":"Baccarat 1"},{"$f":"IF(C16=\"\",\"\",IF(C16=\"F\",\"G\",IF(C16=\"G\",\"F\",9-C16)))","v":2},null,"ANP"]
[]
[null,"3°tour"]
[null,{"$f":"Equipes!$E$20","v":"Baccarat 1"},3,{"$f":"Equipes!$E$17","v":"Thaon 2"},{"$f":"IF(C19=\"\",\"\",IF(C19=\"F\",\"G\",IF(C19=\"G\",\"F\",9-C19)))","v":6},"1900-01-06","Baccarat"]
[null,{"$f":"Equipes!$E$19","v":"Essey 1"},3,{"$f":"Equipes!$E$15","v":"ASPTT 1"},{"$f":"IF(C20=\"\",\"\",IF(C20=\"F\",\"G\",IF(C20=\"G\",\"F\",9-C20)))","v":6},null,"Essey"]
[null,{"$f":"Equipes!$E$18","v":"Neuves Maisons 2"},3,{"$f":"Equipes!$E$16","v":"Vandoeuvre 1"},{"$f":"IF(C21=\"\",\"\",IF(C21=\"F\",\"G\",IF(C21=\"G\",\"F\",9-C21)))","v":6},null,"Essey"]
[]
[null,"4°tour"]
[null,{"$f":"Equipes!$E$18","v":"Neuves Maisons 2"},3,{"$f":"Equipes!$E$15","v":"ASPTT 1"},{"$f":"IF(C24=\"\",\"\",IF(C24=\"F\",\"G\",IF(C24=\"G\",\"F\",9-C24)))","v":6},"2022-02-05","Neuves Maisons",null,"Honneur B"]
[null,{"$f":"Equipes!$E$19","v":"Essey 1"},5,{"$f":"Equipes!$E$17","v":"Thaon 2"},{"$f":"IF(C25=\"\",\"\",IF(C25=\"F\",\"G\",IF(C25=\"G\",\"F\",9-C25)))","v":4},null,"Ap Luneville",null,"Ordre","Club","Points","Gagnées","Perdues","GA"]
[null,{"$f":"Equipes!$E$20","v":"Baccarat 1"},2,{"$f":"Equipes!$E$16","v":"Vandoeuvre 1"},{"$f":"IF(C26=\"\",\"\",IF(C26=\"F\",\"G\",IF(C26=\"G\",\"F\",9-C26)))","v":7},null,"Ap Luneville",null,"1°","ASPTT 1",15,34,11,23]
[null,null,null,null,null,null,null,null,"2°","Vandoeuvre 1",11,23,22,1]
[null,"5  °tour",null,null,null,null,null,null,"3°","Thaon 2",9,23,22,1]
[null,{"$f":"Equipes!$E$16","v":"Vandoeuvre 1"},4,{"$f":"Equipes!$E$19","v":"Essey 1"},{"$f":"IF(C29=\"\",\"\",IF(C29=\"F\",\"G\",IF(C29=\"G\",\"F\",9-C29)))","v":5},"2022-02-12","Essey",null,"4°","Neuves Maisons 2",9,23,22,1]
[null,{"$f":"Equipes!$E$15","v":"ASPTT 1"},7,{"$f":"Equipes!$E$17","v":"Thaon 2"},{"$f":"IF(C30=\"\",\"\",IF(C30=\"F\",\"G\",IF(C30=\"G\",\"F\",9-C30)))","v":2},null,"Essey",null,"5°","Essey 1",9,18,27,-9]
[null,{"$f":"Equipes!$E$20","v":"Baccarat 1"},0,{"$f":"Equipes!$E$18","v":"Neuves Maisons 2"},{"$f":"IF(C31=\"\",\"\",IF(C31=\"F\",\"G\",IF(C31=\"G\",\"F\",9-C31)))","v":9},null,"Essey",null,"6°","Baccarat 1",7,14,31,-17]

{"sheet":"Promo_A","index":5,"n_rows":31,"n_cols":14,"rows_kept":31,"cut":false,"hidden":false,"merged":[[28,5,30,5],[23,8,23,9],[2,1,3,6],[8,5,10,5],[13,5,15,5],[18,5,20,5],[23,5,25,5]]}
[{"$f":"Equipes!$G$6","v":"Dombasle 2"}]
[{"$f":"Equipes!$G$7","v":"Exempt"}]
[{"$f":"Equipes!$G$8","v":"Neufchateau 2"},"Calendrier Interclub saison 2021/2022\nDivision Promo A"]
[{"$f":"Equipes!$G$9","v":"Bezaumont"}]
[{"$f":"Equipes!$G$10","v":"Jarville 1"}]
[{"$f":"Equipes!$G$11","v":"Pulnoy"}]
[null,"1°tour"]
[null,"Club","score","Club","score","Date","Lieu"]
[null,{"$f":"Equipes!$G$6","v":"Dombasle 2"},null,{"$f":"Equipes!$G$7","v":"Exempt"},{"$f":"IF(C9=\"\",\"\",IF(C9=\"F\",\"G\",IF(C9=\"G\",\"F\",9-C9)))","v":""},"2021-11-20"]
[null,{"$f":"Equipes!$G$8","v":"Neufchateau 2"},8,{"$f":"Equipes!$G$9","v":"Bezaumont"},{"$f":"IF(C10=\"\",\"\",IF(C10=\"F\",\"G\",IF(C10=\"G\",\"F\",9-C10)))","v":1},null,"ASPTT"]
[null,{"$f":"Equipes!$G$10","v":"Jarville 1"},3,{"$f":"Equipes!$G$11","v":"Pulnoy"},{"$f":"IF(C11=\"\",\"\",IF(C11=\"F\",\"G\",IF(C11=\"G\",\"F\",9-C11)))","v":6},null,"Neuves Maisons"]
[]
[null,"2°tour"]
[null,{"$f":"Equipes!$G$11","v":"Pulnoy"},null,{"$f":"Equipes!$G$7","v":"Exempt"},{"$f":"IF(C14=\"\",\"\",IF(C14=\"F\",\"G\",IF(C14=\"G\",\"F\",9-C14)))","v":""},"2021-12-11"]
[null,{"$f":"Equipes!$G$9","v":"Bezaumont"},1,{"$f":"Equipes!$G$10","v":"Jarville 1"},{"$f":"IF(C15=\"\",\"\",IF(C15=\"F\",\"G\",IF(C15=\"G\",\"F\",9-C15)))","v":8},null,"ANP"]
[null,{"$f":"Equipes!$G$8","v":"Neufchateau 2"},2,{"$f":"Equipes!$G$6","v":"Dombasle 2"},{"$f":"IF(C16=\"\",\"\",IF(C16=\"F\",\"G\",IF(C16=\"G\",\"F\",9-C16)))","v":7},null,"Neuves Maisons"]
[]
[null,"3°tour"]
[null,{"$f":"Equipes!$G$8","v":"Neufchateau 2"},null,{"$f":"Equipes!$G$7","v":"Exempt"},{"$f":"IF(C19=\"\",\"\",IF(C19=\"F\",\"G\",IF(C19=\"G\",\"F\",9-C19)))","v":""},"2022-01-22"]
[null,{"$f":"Equipes!$G$10","v":"Jarville 1"},4,{"$f":"Equipes!$G$6","v":"Dombasle 2"},{"$f":"IF(C20=\"\",\"\",IF(C20=\"F\",\"G\",IF(C20=\"G\",\"F\",9-C20)))","v":5},null,"ANP"]
[null,{"$f":"Equipes!$G$11","v":"Pulnoy"},5,{"$f":"Equipes!$G$9","v":"Bezaumont"},{"$f":"IF(C21=\"\",\"\",IF(C21=\"F\",\"G\",IF(C21=\"G\",\"F\",9-C21)))","v":4},null,"Ap Luneville"]
[]
[null,"4°tour"]
[null,{"$f":"Equipes!$G$9","v":"Bezaumont"},null,{"$f":"Equipes!$G$7","v":"Exempt"},{"$f":"IF(C24=\"\",\"\",IF(C24=\"F\",\"G\",IF(C24=\"G\",\"F\",9-C24)))","v":""},"2022-02-05",null,null,"  Promo A "]
[null,{"$f":"Equipes!$G$10","v":"Jarville 1"},3,{"$f":"Equipes!$G$8","v":"Neufchateau 2"},{"$f":"IF(C25=\"\",\"\",IF(C25=\"F\",\"G\",IF(C25=\"G\",\"F\",9-C25)))","v":6},null,"ANP",null,"Ordre","Club","Points","Gagnées","Perdues","GA"]
[null,{"$f":"Equipes!$G$11","v":"Pulnoy"},6,{"$f":"Equipes!$G$6","v":"Dombasle 2"},{"$f":"IF(C26=\"\",\"\",IF(C26=\"F\",\"G\",IF(C26=\"G\",\"F\",9-C26)))","v":3},null,"Ap Luneville",null,"1°","Neufchateau 2",10,22,14,8]
[null,null,null,null,null,null,null,null,"2°","Dombasle 2",10,21,15,6]
[null,"5  °tour",null,null,null,null,null,null,"3°","Pulnoy",10,20,16,4]
[null,{"$f":"Equipes!$G$10","v":"Jarville 1"},null,{"$f":"Equipes!$G$7","v":"Exempt"},{"$f":"IF(C29=\"\",\"\",IF(C29=\"F\",\"G\",IF(C29=\"G\",\"F\",9-C29)))","v":""},"2022-02-12",null,null,"4°","Jarville 1",6,18,18,0]
[null,{"$f":"Equipes!$G$9","v":"Bezaumont"},3,{"$f":"Equipes!$G$6","v":"Dombasle 2"},{"$f":"IF(C30=\"\",\"\",IF(C30=\"F\",\"G\",IF(C30=\"G\",\"F\",9-C30)))","v":6},null,"ASPTT",null,"5°","Bezaumont",4,9,27,-18]
[null,{"$f":"Equipes!$G$11","v":"Pulnoy"},3,{"$f":"Equipes!$G$8","v":"Neufchateau 2"},{"$f":"IF(C31=\"\",\"\",IF(C31=\"F\",\"G\",IF(C31=\"G\",\"F\",9-C31)))","v":6},null,"Neufchateau",null,"6°","Exempt",0,0,0,0]

{"sheet":"Promo_B","index":6,"n_rows":31,"n_cols":14,"rows_kept":31,"cut":false,"hidden":false,"merged":[[28,5,30,5],[23,8,23,9],[2,1,3,6],[8,5,10,5],[13,5,15,5],[18,5,20,5],[23,5,25,5]]}
[{"$f":"Equipes!$G$15","v":"Golbey"}]
[{"$f":"Equipes!$G$16","v":"ACBD"}]
[{"$f":"Equipes!$G$17","v":"Baccarat 2"},"Calendrier Interclub saison 2021/2022\nDivision Promo B"]
[{"$f":"Equipes!$G$18","v":"Nomexy"}]
[{"$f":"Equipes!$G$19","v":"Ap Luneville 2"}]
[{"$f":"Equipes!$G$20","v":"Exempt"}]
[null,"1°tour"]
[null,"Club","score","Club","score","Date","Lieu"]
[null,{"$f":"Equipes!$G$15","v":"Golbey"},9,{"$f":"Equipes!$G$16","v":"ACBD"},{"$f":"IF(C9=\"\",\"\",IF(C9=\"F\",\"G\",IF(C9=\"G\",\"F\",9-C9)))","v":0},"2021-11-20","ASPTT"]
[null,{"$f":"Equipes!$G$17","v":"Baccarat 2"},3,{"$f":"Equipes!$G$18","v":"Nomexy"},{"$f":"IF(C10=\"\",\"\",IF(C10=\"F\",\"G\",IF(C10=\"G\",\"F\",9-C10)))","v":6},null,"Charmes"]
[null,{"$f":"Equipes!$G$19","v":"Ap Luneville 2"},null,{"$f":"Equipes!$G$20","v":"Exempt"},{"$f":"IF(C11=\"\",\"\",IF(C11=\"F\",\"G\",IF(C11=\"G\",\"F\",9-C11)))","v":""}]
[]
[null,"2°tour"]
[null,{"$f":"Equipes!$G$16","v":"ACBD"},1,{"$f":"Equipes!$G$18","v":"Nomexy"},{"$f":"IF(C14=\"\",\"\",IF(C14=\"F\",\"G\",IF(C14=\"G\",\"F\",9-C14)))","v":8},"2021-12-11","Neuves Maisons"]
[null,{"$f":"Equipes!$G$19","v":"Ap Luneville 2"},4,{"$f":"Equipes!$G$17","v":"Baccarat 2"},{"$f":"IF(C15=\"\",\"\",IF(C15=\"F\",\"G\",IF(C15=\"G\",\"F\",9-C15)))","v":5},null,"Baccarat"]
[null,{"$f":"Equipes!$G$15","v":"Golbey"},null,{"$f":"Equipes!$G$20","v":"Exempt"},{"$f":"IF(C16=\"\",\"\",IF(C16=\"F\",\"G\",IF(C16=\"G\",\"F\",9-C16)))","v":""}]
[]
[null,"3°tour"]
[null,{"$f":"Equipes!$G$16","v":"ACBD"},2,{"$f":"Equipes!$G$19","v":"Ap Luneville 2"},{"$f":"IF(C19=\"\",\"\",IF(C19=\"F\",\"G\",IF(C19=\"G\",\"F\",9-C19)))","v":7},"2022-01-22","Ap Luneville"]
[null,{"$f":"Equipes!$G$18","v":"Nomexy"},2,{"$f":"Equipes!$G$15","v":"Golbey"},{"$f":"IF(C20=\"\",\"\",IF(C20=\"F\",\"G\",IF(C20=\"G\",\"F\",9-C20)))","v":7},null,"Charmes"]
[null,{"$f":"Equipes!$G$17","v":"Baccarat 2"},null,{"$f":"Equipes!$G$20","v":"Exempt"},{"$f":"IF(C21=\"\",\"\",IF(C21=\"F\",\"G\",IF(C21=\"G\",\"F\",9-C21)))","v":""}]
[]
[null,"4°tour"]
[null,{"$f":"Equipes!$G$19","v":"Ap Luneville 2"},2,{"$f":"Equipes!$G$15","v":"Golbey"},{"$f":"IF(C24=\"\",\"\",IF(C24=\"F\",\"G\",IF(C24=\"G\",\"F\",9-C24)))","v":7},"2022-02-05","Charmes",null,"Promo B"]
[null,{"$f":"Equipes!$G$16","v":"ACBD"},5,{"$f":"Equipes!$G$17","v":"Baccarat 2"},{"$f":"IF(C25=\"\",\"\",IF(C25=\"F\",\"G\",IF(C25=\"G\",\"F\",9-C25)))","v":4},null,"ANP",null,"Ordre","Club","Points","Gagnées","Perdues","GA"]
[null,{"$f":"Equipes!$G$18","v":"Nomexy"},null,{"$f":"Equipes!$G$20","v":"Exempt"},{"$f":"IF(C26=\"\",\"\",IF(C26=\"F\",\"G\",IF(C26=\"G\",\"F\",9-C26)))","v":""},null,null,null,"1°","Golbey",12,32,4,28]
[null,null,null,null,null,null,null,null,"2°","Nomexy",8,20,16,4]
[null,"5  °tour",null,null,null,null,null,null,"3°","Ap Luneville 2",8,18,18,0]
[null,{"$f":"Equipes!$G$18","v":"Nomexy"},4,{"$f":"Equipes!$G$19","v":"Ap Luneville 2"},{"$f":"IF(C29=\"\",\"\",IF(C29=\"F\",\"G\",IF(C29=\"G\",\"F\",9-C29)))","v":5},"2022-02-12","Ap Luneville",null,"4°","Baccarat 2",6,12,24,-12]
[null,{"$f":"Equipes!$G$15","v":"Golbey"},9,{"$f":"Equipes!$G$17","v":"Baccarat 2"},{"$f":"IF(C30=\"\",\"\",IF(C30=\"F\",\"G\",IF(C30=\"G\",\"F\",9-C30)))","v":0},null,"Baccarat",null,"5°","ACBD",6,8,28,-20]
[null,{"$f":"Equipes!$G$16","v":"ACBD"},null,{"$f":"Equipes!$G$20","v":"Exempt"},{"$f":"IF(C31=\"\",\"\",IF(C31=\"F\",\"G\",IF(C31=\"G\",\"F\",9-C31)))","v":""},null,null,null,"6°","Exempt",0,0,0,0]

{"sheet":"Resultats","index":7,"n_rows":37,"n_cols":13,"rows_kept":37,"cut":false,"hidden":false,"merged":[[27,0,27,1],[0,0,0,1],[0,7,0,8],[9,0,9,1],[9,7,9,8],[18,0,18,1],[18,7,18,8]]}
["  Promo A ",null,null,null,null,null,null,"Promo B"]
["Ordre","Club","Points","Gagnées","Perdues","GA",null,"Ordre","Club","Points","Gagnées","Perdues","GA"]
["1°",{"$f":"Promo_A!J26","v":"Neufchateau 2"},{"$f":"Promo_A!K26","v":10},{"$f":"Promo_A!L26","v":22},{"$f":"Promo_A!M26","v":14},{"$f":"Promo_A!N26","v":8},null,"1°",{"$f":"Promo_B!J26","v":"Golbey"},{"$f":"Promo_B!K26","v":12},{"$f":"Promo_B!L26","v":32},{"$f":"Promo_B!M26","v":4},{"$f":"Promo_B!N26","v":28}]
["2°",{"$f":"Promo_A!J27","v":"Dombasle 2"},{"$f":"Promo_A!K27","v":10},{"$f":"Promo_A!L27","v":21},{"$f":"Promo_A!M27","v":15},{"$f":"Promo_A!N27","v":6},null,"2°",{"$f":"Promo_B!J27","v":"Nomexy"},{"$f":"Promo_B!K27","v":8},{"$f":"Promo_B!L27","v":20},{"$f":"Promo_B!M27","v":16},{"$f":"Promo_B!N27","v":4}]
["3°",{"$f":"Promo_A!J28","v":"Pulnoy"},{"$f":"Promo_A!K28","v":10},{"$f":"Promo_A!L28","v":20},{"$f":"Promo_A!M28","v":16},{"$f":"Promo_A!N28","v":4},null,"3°",{"$f":"Promo_B!J28","v":"Ap Luneville 2"},{"$f":"Promo_B!K28","v":8},{"$f":"Promo_B!L28","v":18},{"$f":"Promo_B!M28","v":18},{"$f":"Promo_B!N28","v":0}]
["4°",{"$f":"Promo_A!J29","v":"Jarville 1"},{"$f":"Promo_A!K29","v":6},{"$f":"Promo_A!L29","v":18},{"$f":"Promo_A!M29","v":18},{"$f":"Promo_A!N29","v":0},null,"4°",{"$f":"Promo_B!J29","v":"Baccarat 2"},{"$f":"Promo_B!K29","v":6},{"$f":"Promo_B!L29","v":12},{"$f":"Promo_B!M29","v":24},{"$f":"Promo_B!N29","v":-12}]
["5°",{"$f":"Promo_A!J30","v":"Bezaumont"},{"$f":"Promo_A!K30","v":4},{"$f":"Promo_A!L30","v":9},{"$f":"Promo_A!M30","v":27},{"$f":"Promo_A!N30","v":-18},null,"5°",{"$f":"Promo_B!J30","v":"ACBD"},{"$f":"Promo_B!K30","v":6},{"$f":"Promo_B!L30","v":8},{"$f":"Promo_B!M30","v":28},{"$f":"Promo_B!N30","v":-20}]
["6°",{"$f":"Promo_A!J31","v":"Exempt"},{"$f":"Promo_A!K31","v":0},{"$f":"Promo_A!L31","v":0},{"$f":"Promo_A!M31","v":0},{"$f":"Promo_A!N31","v":0},null,"6°",{"$f":"Promo_B!J31","v":"Exempt"},{"$f":"Promo_B!K31","v":0},{"$f":"Promo_B!L31","v":0},{"$f":"Promo_B!M31","v":0},{"$f":"Promo_B!N31","v":0}]
[]
["Honneur A  ",null,null,null,null,null,null,"Honneur B"]
["Ordre","Club","Points","Gagnées","Perdues","GA",null,"Ordre","Club","Points","Gagnées","Perdues","GA"]
["1°",{"$f":"Honneur_A!J26","v":"Neufchateau 1"},{"$f":"Honneur_A!K26","v":12},{"$f":"Honneur_A!L26","v":23},{"$f":"Honneur_A!M26","v":13},{"$f":"Honneur_A!N26","v":10},null,"1°",{"$f":"Honneur_B!J26","v":"ASPTT 1"},{"$f":"Honneur_B!K26","v":15},{"$f":"Honneur_B!L26","v":34},{"$f":"Honneur_B!M26","v":11},{"$f":"Honneur_B!N26","v":23}]
["2°",{"$f":"Honneur_A!J27","v":"Neuves Maisons 3"},{"$f":"Honneur_A!K27","v":10},{"$f":"Honneur_A!L27","v":20},{"$f":"Honneur_A!M27","v":16},{"$f":"Honneur_A!N27","v":4},null,"2°",{"$f":"Honneur_B!J27","v":"Vandoeuvre 1"},{"$f":"Honneur_B!K27","v":11},{"$f":"Honneur_B!L27","v":23},{"$f":"Honneur_B!M27","v":22},{"$f":"Honneur_B!N27","v":1}]
["3°",{"$f":"Honneur_A!J28","v":"Gari 2"},{"$f":"Honneur_A!K28","v":8},{"$f":"Honneur_A!L28","v":23},{"$f":"Honneur_A!M28","v":13},{"$f":"Honneur_A!N28","v":10},null,"3°",{"$f":"Honneur_B!J28","v":"Thaon 2"},{"$f":"Honneur_B!K28","v":9},{"$f":"Honneur_B!L28","v":23},{"$f":"Honneur_B!M28","v":22},{"$f":"Honneur_B!N28","v":1}]
["4°",{"$f":"Honneur_A!J29","v":"ANP 2"},{"$f":"Honneur_A!K29","v":6},{"$f":"Honneur_A!L29","v":15},{"$f":"Honneur_A!M29","v":21},{"$f":"Honneur_A!N29","v":-6},null,"4°",{"$f":"Honneur_B!J29","v":"Neuves Maisons 2"},{"$f":"Honneur_B!K29","v":9},{"$f":"Honneur_B!L29","v":23},{"$f":"Honneur_B!M29","v":22},{"$f":"Honneur_B!N29","v":1}]
["5°",{"$f":"Honneur_A!J30","v":"St Nicolas 2"},{"$f":"Honneur_A!K30","v":4},{"$f":"Honneur_A!L30","v":9},{"$f":"Honneur_A!M30","v":27},{"$f":"Honneur_A!N30","v":-18},null,"5°",{"$f":"Honneur_B!J30","v":"Essey 1"},{"$f":"Honneur_B!K30","v":9},{"$f":"Honneur_B!L30","v":18},{"$f":"Honneur_B!M30","v":27},{"$f":"Honneur_B!N30","v":-9}]
["6°",{"$f":"Honneur_A!J31","v":"Exempt"},{"$f":"Honneur_A!K31","v":0},{"$f":"Honneur_A!L31","v":0},{"$f":"Honneur_A!M31","v":0},{"$f":"Honneur_A!N31","v":0},null,"6°",{"$f":"Honneur_B!J31","v":"Baccarat 1"},{"$f":"Honneur_B!K31","v":7},{"$f":"Honneur_B!L31","v":14},{"$f":"Honneur_B!M31","v":31},{"$f":"Honneur_B!N31","v":-17}]
[]
["Excellence  A ",null,null,null,null,null,null,"Excellence  B"]
["Ordre","Club","Points","Gagnées","Perdues","GA",null,"Ordre","Club","Points","Gagnées","Perdues","GA"]
["1°",{"$f":"Excel_A!J26","v":"Charmes 1"},{"$f":"Excel_A!K26","v":12},{"$f":"Excel_A!L26","v":27},{"$f":"Excel_A!M26","v":9},{"$f":"Excel_A!N26","v":18},null,"1°",{"$f":"Excel_B!J26","v":"Ap Luneville 1"},{"$f":"Excel_B!K26","v":15},{"$f":"Excel_B!L26","v":35},{"$f":"Excel_B!M26","v":10},{"$f":"Excel_B!N26","v":25}]
["2°",{"$f":"Excel_A!J27","v":"St Nicolas 1"},{"$f":"Excel_A!K27","v":10},{"$f":"Excel_A!L27","v":24},{"$f":"Excel_A!M27","v":12},{"$f":"Excel_A!N27","v":12},null,"2°",{"$f":"Excel_B!J27","v":"Thaon 1"},{"$f":"Excel_B!K27","v":13},{"$f":"Excel_B!L27","v":29},{"$f":"Excel_B!M27","v":16},{"$f":"Excel_B!N27","v":13}]
["3°",{"$f":"Excel_A!J28","v":"Dombasle 1"},{"$f":"Excel_A!K28","v":8},{"$f":"Excel_A!L28","v":19},{"$f":"Excel_A!M28","v":17},{"$f":"Excel_A!N28","v":2},null,"3°",{"$f":"Excel_B!J28","v":"Mirecourt 1"},{"$f":"Excel_B!K28","v":11},{"$f":"Excel_B!L28","v":21},{"$f":"Excel_B!M28","v":24},{"$f":"Excel_B!N28","v":-3}]
["4°",{"$f":"Excel_A!J29","v":"Ap Ste Marie"},{"$f":"Excel_A!K29","v":6},{"$f":"Excel_A!L29","v":14},{"$f":"Excel_A!M29","v":22},{"$f":"Excel_A!N29","v":-8},null,"4°",{"$f":"Excel_B!J29","v":"Bainville 2"},{"$f":"Excel_B!K29","v":9},{"$f":"Excel_B!L29","v":23},{"$f":"Excel_B!M29","v":22},{"$f":"Excel_B!N29","v":1}]
["5°",{"$f":"Excel_A!J30","v":"Mirecourt 2"},{"$f":"Excel_A!K30","v":4},{"$f":"Excel_A!L30","v":6},{"$f":"Excel_A!M30","v":30},{"$f":"Excel_A!N30","v":-24},null,"5°",{"$f":"Excel_B!J30","v":"Villers 2"},{"$f":"Excel_B!K30","v":7},{"$f":"Excel_B!L30","v":15},{"$f":"Excel_B!M30","v":30},{"$f":"Excel_B!N30","v":-15}]
["6°",{"$f":"Excel_A!J31","v":"Exempt"},{"$f":"Excel_A!K31","v":0},{"$f":"Excel_A!L31","v":0},{"$f":"Excel_A!M31","v":0},{"$f":"Excel_A!N31","v":0},null,"6°",{"$f":"Excel_B!J31","v":"Sommerviller 1"},{"$f":"Excel_B!K31","v":5},{"$f":"Excel_B!L31","v":12},{"$f":"Excel_B!M31","v":33},{"$f":"Excel_B!N31","v":-21}]
[]
["Elite "]
["Ordre","Club","Points","Gagnées","Perdues","GA"]
["1°",{"$f":"Elite!J26","v":"ANP 1"},{"$f":"Elite!K26","v":14},{"$f":"Elite!L26","v":35},{"$f":"Elite!M26","v":19},{"$f":"Elite!N26","v":16}]
["2°",{"$f":"Elite!J27","v":"Villers 1"},{"$f":"Elite!K27","v":14},{"$f":"Elite!L27","v":35},{"$f":"Elite!M27","v":19},{"$f":"Elite!N27","v":16}]
["3°",{"$f":"Elite!J28","v":"Neuves Maisons 1"},{"$f":"Elite!K28","v":14},{"$f":"Elite!L28","v":30},{"$f":"Elite!M28","v":24},{"$f":"Elite!N28","v":6}]
["4°",{"$f":"Elite!J29","v":"Gari 1"},{"$f":"Elite!K29","v":14},{"$f":"Elite!L29","v":23},{"$f":"Elite!M29","v":31},{"$f":"Elite!N29","v":-8}]
["5°",{"$f":"Elite!J30","v":"Bainville 1"},{"$f":"Elite!K30","v":12},{"$f":"Elite!L30","v":32},{"$f":"Elite!M30","v":22},{"$f":"Elite!N30","v":10}]
["6°",{"$f":"Elite!J31","v":"Bouxieres 1"},{"$f":"Elite!K31","v":10},{"$f":"Elite!L31","v":26},{"$f":"Elite!M31","v":28},{"$f":"Elite!N31","v":-2}]
["7°",{"$f":"Elite!J32","v":"Champigneulles 1"},{"$f":"Elite!K32","v":4},{"$f":"Elite!L32","v":8},{"$f":"Elite!M32","v":46},{"$f":"Elite!N32","v":-38}]
["8°","Exempt",0,0,0,0]

{"sheet":"Equipes","index":8,"n_rows":20,"n_cols":7,"rows_kept":20,"cut":false,"hidden":false,"merged":[[0,0,0,7],[10,6,10,7],[13,6,13,7],[10,0,10,1],[4,2,4,3],[5,2,5,3],[6,2,6,3],[7,2,7,3],[8,2,8,3],[4,0,4,1],[4,4,4,5],[5,4,5,5],[6,4,6,5],[7,4,7,5],[10,4,10,5],[13,4,13,5],[11,0,11,1],[12,0,12,1],[17,6,17,7],[16,2,16,3],[17,2,17,3],[18,6,18,7],[19,6,19,7],[16,6,16,7],[4,6,4,7],[5,6,5,7],[6,6,6,7],[7,6,7,7],[8,6,8,7],[10,2,10,3],[13,2,13,3],[14,2,14,3],[15,2,15,3],[9,6,9,7],[14,6,14,7],[15,6,15,7],[14,4,14,5],[15,4,15,5],[9,4,9,5],[18,2,18,3],[19,2,19,3],[18,4,18,5],[19,4,19,5],[16,4,16,5],[17,4,17,5],[8,4,8,5],[9,2,9,3],[5,0,5,1],[6,0,6,1],[7,0,7,1],[8,0,8,1],[9,0,9,1]]}
["EQUIPES PAR DIVISION"]
[]
[]
[]
["ELITE",null,"EXCELLENCE A",null,"HONNEUR A",null,"PROMO A"]
["ANP 1",null,"Exempt",null,"St Nicolas 2",null,"Dombasle 2"]
["Champigneulles 1",null,"St Nicolas 1",null,"Exempt",null,"Exempt"]
["Neuves Maisons 1",null,"Ap Ste Marie",null,"Neuves Maisons 3",null,"Neufchateau 2"]
["Villers 1",null,"Charmes 1",null,"Gari 2",null,"Bezaumont"]
["Bainville 1",null,"Mirecourt 2",null,"Neufchateau 1",null,"Jarville 1"]
["Bouxieres 1",null,"Dombasle 1",null,"ANP 2",null,"Pulnoy"]
["Gari 1"]
["Exempt"]
[null,null,"EXCELLENCE B",null,"HONNEUR B",null,"PROMO B"]
[null,null,"Thaon 1",null,"ASPTT 1",null,"Golbey"]
[null,null,"Villers 2",null,"Vandoeuvre 1",null,"ACBD"]
[null,null,"Ap Luneville 1",null,"Thaon 2",null,"Baccarat 2"]
[null,null,"Sommerviller 1",null,"Neuves Maisons 2",null,"Nomexy"]
[null,null,"Bainville 2",null,"Essey 1",null,"Ap Luneville 2"]
[null,null,"Mirecourt 1",null,"Baccarat 1",null,"Exempt"]